BEGIN:VCALENDAR
VERSION:2.0
PRODID:-//Sportvagnsklubben Göteborg - ECPv6.15.11//NONSGML v1.0//EN
CALSCALE:GREGORIAN
METHOD:PUBLISH
X-ORIGINAL-URL:https://svkg.se
X-WR-CALDESC:Evenemang för Sportvagnsklubben Göteborg
REFRESH-INTERVAL;VALUE=DURATION:PT1H
X-Robots-Tag:noindex
X-PUBLISHED-TTL:PT1H
BEGIN:VTIMEZONE
TZID:Europe/Stockholm
BEGIN:DAYLIGHT
TZOFFSETFROM:+0100
TZOFFSETTO:+0200
TZNAME:CEST
DTSTART:20160327T010000
END:DAYLIGHT
BEGIN:STANDARD
TZOFFSETFROM:+0200
TZOFFSETTO:+0100
TZNAME:CET
DTSTART:20161030T010000
END:STANDARD
BEGIN:DAYLIGHT
TZOFFSETFROM:+0100
TZOFFSETTO:+0200
TZNAME:CEST
DTSTART:20170326T010000
END:DAYLIGHT
BEGIN:STANDARD
TZOFFSETFROM:+0200
TZOFFSETTO:+0100
TZNAME:CET
DTSTART:20171029T010000
END:STANDARD
BEGIN:DAYLIGHT
TZOFFSETFROM:+0100
TZOFFSETTO:+0200
TZNAME:CEST
DTSTART:20180325T010000
END:DAYLIGHT
BEGIN:STANDARD
TZOFFSETFROM:+0200
TZOFFSETTO:+0100
TZNAME:CET
DTSTART:20181028T010000
END:STANDARD
END:VTIMEZONE
BEGIN:VEVENT
DTSTART;TZID=Europe/Stockholm:20170826T100000
DTEND;TZID=Europe/Stockholm:20170826T160000
DTSTAMP:20260422T055914
CREATED:20170727T123025Z
LAST-MODIFIED:20170801T111215Z
UID:2405-1503741600-1503763200@svkg.se
SUMMARY:Sportvagnsträffen 2017
DESCRIPTION:Sportvagnsträffen på Hofsnäs Herrgård har i år temat Franska sportvagnar. \nSVKG har i år reserverat plats för c:a 20 bilar till de som kommer först. Kom gärna mellan kl 8-10. Alla som ämnar deltaga bör anmäla sig före 21:a augusti på deras hemsida (se nedan under Arrangör). Det går bra att avanmäla sig om det visar sig att man får förhinder. \nDet är ingen avgift och man deltar i lotteriet med 30000 kr i prispengar. \nVälkomna! \nStellan Östlingh & Kalle Pilkrantz
URL:https://svkg.se/evenemang/sportvagnstraffen-2017/
LOCATION:Hofsnäs Herrgård\, Hofsnäs Herrgård\, Länghem\, 51452\, Sverige
ORGANIZER;CN="Sportvagnstr%C3%A4ffen":MAILTO:roland@sportvagnstraffen.se
GEO:57.630027;13.2922019
X-APPLE-STRUCTURED-LOCATION;VALUE=URI;X-ADDRESS=Hofsnäs Herrgård Hofsnäs Herrgård Länghem 51452 Sverige;X-APPLE-RADIUS=500;X-TITLE=Hofsnäs Herrgård:geo:13.2922019,57.630027
END:VEVENT
END:VCALENDAR