BEGIN:VCALENDAR
VERSION:2.0
PRODID:-//Sportvagnsklubben Göteborg - ECPv6.15.11//NONSGML v1.0//EN
CALSCALE:GREGORIAN
METHOD:PUBLISH
X-WR-CALNAME:Sportvagnsklubben Göteborg
X-ORIGINAL-URL:https://svkg.se
X-WR-CALDESC:Evenemang för Sportvagnsklubben Göteborg
REFRESH-INTERVAL;VALUE=DURATION:PT1H
X-Robots-Tag:noindex
X-PUBLISHED-TTL:PT1H
BEGIN:VTIMEZONE
TZID:Europe/Stockholm
BEGIN:DAYLIGHT
TZOFFSETFROM:+0100
TZOFFSETTO:+0200
TZNAME:CEST
DTSTART:20170326T010000
END:DAYLIGHT
BEGIN:STANDARD
TZOFFSETFROM:+0200
TZOFFSETTO:+0100
TZNAME:CET
DTSTART:20171029T010000
END:STANDARD
BEGIN:DAYLIGHT
TZOFFSETFROM:+0100
TZOFFSETTO:+0200
TZNAME:CEST
DTSTART:20180325T010000
END:DAYLIGHT
BEGIN:STANDARD
TZOFFSETFROM:+0200
TZOFFSETTO:+0100
TZNAME:CET
DTSTART:20181028T010000
END:STANDARD
BEGIN:DAYLIGHT
TZOFFSETFROM:+0100
TZOFFSETTO:+0200
TZNAME:CEST
DTSTART:20190331T010000
END:DAYLIGHT
BEGIN:STANDARD
TZOFFSETFROM:+0200
TZOFFSETTO:+0100
TZNAME:CET
DTSTART:20191027T010000
END:STANDARD
BEGIN:DAYLIGHT
TZOFFSETFROM:+0100
TZOFFSETTO:+0200
TZNAME:CEST
DTSTART:20200329T010000
END:DAYLIGHT
BEGIN:STANDARD
TZOFFSETFROM:+0200
TZOFFSETTO:+0100
TZNAME:CET
DTSTART:20201025T010000
END:STANDARD
BEGIN:DAYLIGHT
TZOFFSETFROM:+0100
TZOFFSETTO:+0200
TZNAME:CEST
DTSTART:20210328T010000
END:DAYLIGHT
BEGIN:STANDARD
TZOFFSETFROM:+0200
TZOFFSETTO:+0100
TZNAME:CET
DTSTART:20211031T010000
END:STANDARD
BEGIN:DAYLIGHT
TZOFFSETFROM:+0100
TZOFFSETTO:+0200
TZNAME:CEST
DTSTART:20220327T010000
END:DAYLIGHT
BEGIN:STANDARD
TZOFFSETFROM:+0200
TZOFFSETTO:+0100
TZNAME:CET
DTSTART:20221030T010000
END:STANDARD
BEGIN:DAYLIGHT
TZOFFSETFROM:+0100
TZOFFSETTO:+0200
TZNAME:CEST
DTSTART:20230326T010000
END:DAYLIGHT
BEGIN:STANDARD
TZOFFSETFROM:+0200
TZOFFSETTO:+0100
TZNAME:CET
DTSTART:20231029T010000
END:STANDARD
BEGIN:DAYLIGHT
TZOFFSETFROM:+0100
TZOFFSETTO:+0200
TZNAME:CEST
DTSTART:20240331T010000
END:DAYLIGHT
BEGIN:STANDARD
TZOFFSETFROM:+0200
TZOFFSETTO:+0100
TZNAME:CET
DTSTART:20241027T010000
END:STANDARD
BEGIN:DAYLIGHT
TZOFFSETFROM:+0100
TZOFFSETTO:+0200
TZNAME:CEST
DTSTART:20250330T010000
END:DAYLIGHT
BEGIN:STANDARD
TZOFFSETFROM:+0200
TZOFFSETTO:+0100
TZNAME:CET
DTSTART:20251026T010000
END:STANDARD
BEGIN:DAYLIGHT
TZOFFSETFROM:+0100
TZOFFSETTO:+0200
TZNAME:CEST
DTSTART:20260329T010000
END:DAYLIGHT
BEGIN:STANDARD
TZOFFSETFROM:+0200
TZOFFSETTO:+0100
TZNAME:CET
DTSTART:20261025T010000
END:STANDARD
BEGIN:DAYLIGHT
TZOFFSETFROM:+0100
TZOFFSETTO:+0200
TZNAME:CEST
DTSTART:20270328T010000
END:DAYLIGHT
BEGIN:STANDARD
TZOFFSETFROM:+0200
TZOFFSETTO:+0100
TZNAME:CET
DTSTART:20271031T010000
END:STANDARD
END:VTIMEZONE
BEGIN:VTIMEZONE
TZID:Europe/Paris
BEGIN:DAYLIGHT
TZOFFSETFROM:+0100
TZOFFSETTO:+0200
TZNAME:CEST
DTSTART:20160327T010000
END:DAYLIGHT
BEGIN:STANDARD
TZOFFSETFROM:+0200
TZOFFSETTO:+0100
TZNAME:CET
DTSTART:20161030T010000
END:STANDARD
BEGIN:DAYLIGHT
TZOFFSETFROM:+0100
TZOFFSETTO:+0200
TZNAME:CEST
DTSTART:20170326T010000
END:DAYLIGHT
BEGIN:STANDARD
TZOFFSETFROM:+0200
TZOFFSETTO:+0100
TZNAME:CET
DTSTART:20171029T010000
END:STANDARD
BEGIN:DAYLIGHT
TZOFFSETFROM:+0100
TZOFFSETTO:+0200
TZNAME:CEST
DTSTART:20180325T010000
END:DAYLIGHT
BEGIN:STANDARD
TZOFFSETFROM:+0200
TZOFFSETTO:+0100
TZNAME:CET
DTSTART:20181028T010000
END:STANDARD
END:VTIMEZONE
BEGIN:VEVENT
DTSTART;TZID=Europe/Stockholm:20260305T180000
DTEND;TZID=Europe/Stockholm:20260305T200000
DTSTAMP:20260421T134539
CREATED:20251201T122000Z
LAST-MODIFIED:20260318T191808Z
UID:26093-1772733600-1772740800@svkg.se
SUMMARY:Årsmöte 2026
DESCRIPTION:Sportvagnsklubben inbjuder alla medlemmar till klubbens årsmöte. \nPlats för årsmötet är Fritiofs garage i Landvetter. Anmälan för deltagande sker här nedan och är högst önskvärd för planering av lokal och mat/dryck\, samt upprättande av röstlängd och annat material inför mötet. \nDagordning skickas ut till alla medlemmar i separat utskick och innehåller sedvanliga ärenden. Dagordning och underlag till årsmötet kommer att finnas tillgängligt här nedan senast en (1) vecka innan mötet. Notera att du behöver vara inloggad som medlem för att se materialet. \nMotioner till årsmötet skall vara klubbens ordförande Hans Elgeskog tillhanda senast 5:e februari 2026. Adresser finns i Bulletinen och på sidan Kontakt. \n\n  \nVälkomna!
URL:https://svkg.se/evenemang/arsmote-2026/
LOCATION:Fritiofs Garage\, Mediavägen 12\, Landvetter\, 438 91\, Sverige
ORGANIZER;CN="Styrelsen":MAILTO:styrelsen@svkg.se
GEO:57.6864001;12.1602865
X-APPLE-STRUCTURED-LOCATION;VALUE=URI;X-ADDRESS=Fritiofs Garage Mediavägen 12 Landvetter 438 91 Sverige;X-APPLE-RADIUS=500;X-TITLE=Mediavägen 12:geo:12.1602865,57.6864001
END:VEVENT
BEGIN:VEVENT
DTSTART;TZID=Europe/Stockholm:20250415T180000
DTEND;TZID=Europe/Stockholm:20250415T190000
DTSTAMP:20260421T134539
CREATED:20250407T211851Z
LAST-MODIFIED:20250508T103439Z
UID:24668-1744740000-1744743600@svkg.se
SUMMARY:Extra årsmöte 2025
DESCRIPTION:Sportvagnsklubben kallar alla medlemmar till extra årsmöte. \nStyrelsen har inte kunnat konstituera sig efter det ordinarie årsmötet\, och har därför beslutat att kalla till ett extra årsmöte. På grund av den uppkomna situationen kommer valberedningen att ta fram ett nytt förslag till styrelse att presentera vid det extra årsmötet. \nPlats för årsmötet är Fritiofs Garage i Landvetter. Det kommer att bli två extra årsmöten på samma plats strax efter varandra. \nDagordning skickas ut till alla medlemmar i separat utskick. Dagordning och underlag till årsmötet kommer att finnas tillgängligt här nedan. Notera att du behöver vara inloggad som medlem för att se materialet. \n\n  \nVälkomna!
URL:https://svkg.se/evenemang/extra-arsmote-2025/
LOCATION:Fritiofs Garage\, Mediavägen 12\, Landvetter\, 438 91\, Sverige
ORGANIZER;CN="Styrelsen":MAILTO:styrelsen@svkg.se
GEO:57.6864001;12.1602865
X-APPLE-STRUCTURED-LOCATION;VALUE=URI;X-ADDRESS=Fritiofs Garage Mediavägen 12 Landvetter 438 91 Sverige;X-APPLE-RADIUS=500;X-TITLE=Mediavägen 12:geo:12.1602865,57.6864001
END:VEVENT
BEGIN:VEVENT
DTSTART;TZID=Europe/Stockholm:20250306T180000
DTEND;TZID=Europe/Stockholm:20250306T200000
DTSTAMP:20260421T134539
CREATED:20241130T133127Z
LAST-MODIFIED:20250505T141023Z
UID:23354-1741284000-1741291200@svkg.se
SUMMARY:Årsmöte 2025
DESCRIPTION:Sportvagnsklubben inbjuder alla medlemmar till klubbens årsmöte. \nPlats för årsmötet är Hotell Scandic i Mölndal. Anmälan för samtliga deltagare sker här nedan och behöver göras för att kunna planera lokal och mat som ska beställas. \nDagordning skickas ut till alla medlemmar i separat utskick och innehåller sedvanliga ärenden. Dagordning och underlag till årsmötet kommer att finnas tillgängligt här nedan senast en (1) vecka innan mötet. Notera att du behöver vara inloggad som medlem för att se materialet. \nMotioner till årsmötet skall vara klubbens ordförande Per Erik Struve tillhanda senast 6:e februari 2025. Adresser finns i Bulletinen och på sidan Kontakt. \n\n  \nVälkomna!
URL:https://svkg.se/evenemang/arsmote-2025/
LOCATION:Scandic Mölndal\, Barnhemsgatan 23\, Mölndal\, 431 31\, Sverige
ORGANIZER;CN="Styrelsen":MAILTO:styrelsen@svkg.se
GEO:57.6537283;12.0148152
X-APPLE-STRUCTURED-LOCATION;VALUE=URI;X-ADDRESS=Scandic Mölndal Barnhemsgatan 23 Mölndal 431 31 Sverige;X-APPLE-RADIUS=500;X-TITLE=Barnhemsgatan 23:geo:12.0148152,57.6537283
END:VEVENT
BEGIN:VEVENT
DTSTART;TZID=Europe/Stockholm:20241212T180000
DTEND;TZID=Europe/Stockholm:20241212T220000
DTSTAMP:20260421T134539
CREATED:20241010T142808Z
LAST-MODIFIED:20250218T111658Z
UID:23181-1734026400-1734040800@svkg.se
SUMMARY:Glöggmuffen 2024
DESCRIPTION:Enligt tradition anordnar vi Glöggmuffen runt Lucia. Precis som föregående år kombinerar vi lussekatter\, glögg och bilsnack med digital racing. \nNu är det äntligen dags igen! Vi dukar upp med lussekatter\, glögg\, julmust och annat (h)juligt i Smedjan. \nSVKG Virtuell Racing Cup.\nVi kommer också att inleda säsongen för vår digitala racingserie SVKG Virtuell Racing Cup 2024-2025 med den första omgången. Vi riggar upp med storbildsskärm/projektor\, ratt\, växelspak\, 3-pedalställ\, VR-glasögon och kör racing i Gran Turismo Sport på Playstation 4 Pro. \nPraktiska detaljer\n\nAnmälan: Ej obligatorisk men önskvärd för vår planering av mat/dryck samt deltagande i VR-racingen.\nFrågor: Kan ställas via epost till touring@svkg.se.\n\nVälkomna!
URL:https://svkg.se/evenemang/gloggmuffen-2024/
LOCATION:Smedjan\, Hults gata 26\, Askim\, 43644\, Sweden
ORGANIZER;CN="Styrelsen":MAILTO:styrelsen@svkg.se
GEO:57.635582;11.925313
X-APPLE-STRUCTURED-LOCATION;VALUE=URI;X-ADDRESS=Smedjan Hults gata 26 Askim 43644 Sweden;X-APPLE-RADIUS=500;X-TITLE=Hults gata 26:geo:11.925313,57.635582
END:VEVENT
BEGIN:VEVENT
DTSTART;TZID=Europe/Stockholm:20240307T180000
DTEND;TZID=Europe/Stockholm:20240307T200000
DTSTAMP:20260421T134539
CREATED:20231126T134815Z
LAST-MODIFIED:20250218T112213Z
UID:20851-1709834400-1709841600@svkg.se
SUMMARY:Årsmöte 2024
DESCRIPTION:Sportvagnsklubben inbjuder alla medlemmar till klubbens årsmöte. \nPlats för årsmötet är Hotell Scandic i Mölndal. Anmälan för samtliga deltagare sker här nedan och behöver göras för att kunna planera lokal och mat som ska beställas. \nDagordning skickas ut till alla medlemmar i separat utskick och innehåller sedvanliga ärenden. Dagordning och underlag till årsmötet kommer att finnas tillgängligt här nedan senast en (1) vecka innan mötet. Notera att du behöver vara inloggad som medlem för att se materialet. \nMotioner till årsmötet skall vara klubbens ordförande Per Erik Struve tillhanda senast 7:e februari 2024. Adresser finns i Bulletinen och på sidan Kontakt. \n\n  \nVälkomna!
URL:https://svkg.se/evenemang/arsmote-2024/
LOCATION:Scandic Mölndal\, Barnhemsgatan 23\, Mölndal\, 431 31\, Sverige
ORGANIZER;CN="Styrelsen":MAILTO:styrelsen@svkg.se
GEO:57.6537283;12.0148152
X-APPLE-STRUCTURED-LOCATION;VALUE=URI;X-ADDRESS=Scandic Mölndal Barnhemsgatan 23 Mölndal 431 31 Sverige;X-APPLE-RADIUS=500;X-TITLE=Barnhemsgatan 23:geo:12.0148152,57.6537283
END:VEVENT
BEGIN:VEVENT
DTSTART;TZID=Europe/Stockholm:20231212T180000
DTEND;TZID=Europe/Stockholm:20231212T220000
DTSTAMP:20260421T134539
CREATED:20231028T134004Z
LAST-MODIFIED:20250218T112250Z
UID:20637-1702404000-1702418400@svkg.se
SUMMARY:Glöggmuffen 2023
DESCRIPTION:Enligt tradition anordnar vi Glöggmuffen runt Lucia. Precis som föregående år kombinerar vi lussekatter\, glögg och bilsnack med digital racing. \nNu är det äntligen dags igen! Vi dukar upp med lussekatter\, glögg\, julmust och annat (h)juligt i Smedjan. \nSVKG Virtuell Racing Cup.\nVi kommer också att inleda säsongen för vår digitala racingserie SVKG Virtuell Racing Cup 2023-2024 med den första omgången. Vi riggar upp med storbildsskärm/projektor\, ratt\, växelspak\, 3-pedalställ\, VR-glasögon och kör racing i Gran Turismo Sport på Playstation 4 Pro. \nPraktiska detaljer\n\nAnmälan: Ej obligatorisk men önskvärd för vår planering av mat/dryck.\nFrågor: Kan ställas till Micael Lidmalm på mobil 0735-267326\, David Dahl på mobil 0706-169169 eller via epost till touring@svkg.se.\n\nVälkomna!
URL:https://svkg.se/evenemang/gloggmuffen-2023/
LOCATION:Smedjan\, Hults gata 26\, Askim\, 43644\, Sweden
ORGANIZER;CN="Styrelsen":MAILTO:styrelsen@svkg.se
GEO:57.635582;11.925313
X-APPLE-STRUCTURED-LOCATION;VALUE=URI;X-ADDRESS=Smedjan Hults gata 26 Askim 43644 Sweden;X-APPLE-RADIUS=500;X-TITLE=Hults gata 26:geo:11.925313,57.635582
END:VEVENT
BEGIN:VEVENT
DTSTART;TZID=Europe/Stockholm:20230302T180000
DTEND;TZID=Europe/Stockholm:20230302T200000
DTSTAMP:20260421T134539
CREATED:20230116T185606Z
LAST-MODIFIED:20230309T195738Z
UID:18669-1677780000-1677787200@svkg.se
SUMMARY:Årsmöte 2023
DESCRIPTION:Sportvagnsklubben inbjuder alla medlemmar till klubbens årsmöte. \nÅrsmötet hålls på Scandic Mölndal (se karta). Anmälan för samtliga deltagare sker här nedan och behöver göras för att kunna planera lokal och mat som ska beställas. \nDagordning skickas ut till alla medlemmar i separat utskick och innehåller sedvanliga ärenden. Dagordning och underlag till årsmötet kommer att finnas tillgängligt här nedan senast en (1) vecka innan mötet. Notera att du behöver vara inloggad som medlem för att se materialet. \nMotioner till årsmötet skall vara klubbens ordförande Sten Ljungquist tillhanda senast 2 februari 2023. Adresser finns i Bulletinen och på sidan Kontakt. \n\n  \nVälkomna!
URL:https://svkg.se/evenemang/arsmote-2023/
LOCATION:Scandic Mölndal\, Barnhemsgatan 23\, Mölndal\, 431 31\, Sverige
ORGANIZER;CN="Styrelsen":MAILTO:styrelsen@svkg.se
GEO:57.6537283;12.0148152
X-APPLE-STRUCTURED-LOCATION;VALUE=URI;X-ADDRESS=Scandic Mölndal Barnhemsgatan 23 Mölndal 431 31 Sverige;X-APPLE-RADIUS=500;X-TITLE=Barnhemsgatan 23:geo:12.0148152,57.6537283
END:VEVENT
BEGIN:VEVENT
DTSTART;TZID=Europe/Stockholm:20221215T180000
DTEND;TZID=Europe/Stockholm:20221215T220000
DTSTAMP:20260421T134539
CREATED:20221102T191941Z
LAST-MODIFIED:20221211T222740Z
UID:18047-1671127200-1671141600@svkg.se
SUMMARY:Glöggmuffen 2022
DESCRIPTION:Enligt tradition anordnar vi Glöggmuffen runt Lucia. Precis som föregående år kombinerar vi lussekatter\, glögg och bilsnack med digital racing. \nNu är det äntligen dags igen! Vi dukar upp med lussekatter\, glögg\, julmust och annat (h)juligt i Smedjan. \nSVKG Virtuell Racing Cup.\nVi kommer också att inleda säsongen för vår digitala racingserie SVKG Virtuell Racing Cup 2022-2023 med den första omgången. Vi riggar upp med storbildsskärm/projektor\, ratt\, växelspak\, 3-pedalställ\, VR-glasögon och kör racing i Gran Turismo Sport på Playstation 4 Pro. \nPraktiska detaljer\n\nAnmälan: Ej obligatorisk men önskvärd för vår planering av mat/dryck.\nFrågor: Kan ställas till Micael Lidmalm på mobil 0735-267326\, David Dahl på mobil 0706-169169 eller via epost till touring@svkg.se.\n\nVälkomna!
URL:https://svkg.se/evenemang/gloggmuffen-2022/
LOCATION:Smedjan\, Hults gata 26\, Askim\, 43644\, Sweden
ORGANIZER;CN="Styrelsen":MAILTO:styrelsen@svkg.se
GEO:57.635582;11.925313
X-APPLE-STRUCTURED-LOCATION;VALUE=URI;X-ADDRESS=Smedjan Hults gata 26 Askim 43644 Sweden;X-APPLE-RADIUS=500;X-TITLE=Hults gata 26:geo:11.925313,57.635582
END:VEVENT
BEGIN:VEVENT
DTSTART;TZID=Europe/Stockholm:20220303T180000
DTEND;TZID=Europe/Stockholm:20220303T200000
DTSTAMP:20260421T134539
CREATED:20211230T222504Z
LAST-MODIFIED:20230304T133912Z
UID:15443-1646330400-1646337600@svkg.se
SUMMARY:Årsmöte 2022
DESCRIPTION:Sportvagnsklubben inbjuder alla medlemmar till klubbens årsmöte. \nMed anledning av att pandemirestriktionerna hävts har vi nu möjlighet att hålla årsmötet fysiskt. Dock byter vi till en större lokal för ordentligt med utrymme för alla deltagarna. \nÅrsmötet hålls på Scandic Mölndal (se karta). \nDagordning skickas ut till alla medlemmar i separat utskick och innehåller sedvanliga ärenden. Dagordning och underlag till årsmötet kommer att finnas tillgängligt här nedan senast 1 vecka innan mötet. Notera att du behöver vara inloggad som medlem för att se materialet. \nMotioner till årsmötet skall vara klubbens ordförande Sten Ljungquist tillhanda senast 3 februari 2022. Adresser finns i Bulletinen och på sidan Kontakt. \nDet kommer att serveras kaffe och smörgåsar under mötet. Vi vill därför be alla som tänker deltaga att anmäla sig nedan senast 25:e februari 2022\, så att vi vet hur mycket mat som ska beställas. Anmälan är dock ej obligatorisk eller bindande. \n\n  \nVälkomna!
URL:https://svkg.se/evenemang/arsmote-2022/
LOCATION:Scandic Mölndal\, Barnhemsgatan 23\, Mölndal\, 431 31\, Sverige
ORGANIZER;CN="Styrelsen":MAILTO:styrelsen@svkg.se
GEO:57.6537283;12.0148152
X-APPLE-STRUCTURED-LOCATION;VALUE=URI;X-ADDRESS=Scandic Mölndal Barnhemsgatan 23 Mölndal 431 31 Sverige;X-APPLE-RADIUS=500;X-TITLE=Barnhemsgatan 23:geo:12.0148152,57.6537283
END:VEVENT
BEGIN:VEVENT
DTSTART;TZID=Europe/Stockholm:20211214T180000
DTEND;TZID=Europe/Stockholm:20211214T220000
DTSTAMP:20260421T134539
CREATED:20210913T180828Z
LAST-MODIFIED:20211213T070100Z
UID:14769-1639504800-1639519200@svkg.se
SUMMARY:Glöggmuffen 2021
DESCRIPTION:Enligt tradition anordnar vi Glöggmuffen runt Lucia. Precis som föregående år kombinerar vi lussekatter\, glögg och bilsnack med digital racing. \nNu är det äntligen dags igen! Vi dukar upp med lussekatter\, glögg\, julmust och annat (h)juligt i Smedjan. \nVR-glasögon i SVKG Virtuell Racing Cup.\nVi kommer också att inleda säsongen för vår digitala racingserie SVKG Virtuell Racing Cup 2021-2022 med den första omgången. Vi riggar upp med storbildsskärm/projektor\, ratt\, växelspak\, 3-pedalställ\, VR-glasögon och kör racing i Gran Turismo Sport på Playstation 4 Pro. \nPraktiska detaljer\n\nAnmälan: Ej obligatorisk men önskvärd för vår planering av mat/dryck.\nFrågor: Kan ställas till Micael Lidmalm på mobil 0735-267326\, David Dahl på mobil 0706-169169 eller via epost till touring@svkg.se.\n\nVälkomna!
URL:https://svkg.se/evenemang/gloggmuffen-2021/
LOCATION:Smedjan\, Hults gata 26\, Askim\, 43644\, Sweden
ORGANIZER;CN="Styrelsen":MAILTO:styrelsen@svkg.se
GEO:57.635582;11.925313
X-APPLE-STRUCTURED-LOCATION;VALUE=URI;X-ADDRESS=Smedjan Hults gata 26 Askim 43644 Sweden;X-APPLE-RADIUS=500;X-TITLE=Hults gata 26:geo:11.925313,57.635582
END:VEVENT
BEGIN:VEVENT
DTSTART;TZID=Europe/Stockholm:20210304T180000
DTEND;TZID=Europe/Stockholm:20210304T200000
DTSTAMP:20260421T134539
CREATED:20201216T211034Z
LAST-MODIFIED:20240303T174148Z
UID:12275-1614880800-1614888000@svkg.se
SUMMARY:Årsmöte 2021
DESCRIPTION:Sportvagnsklubben inbjuder alla medlemmar till klubbens årsmöte 2021 som kommer att hållas digitalt. \nDagordning skickas ut till alla medlemmar i separat utskick och innehåller sedvanliga ärenden. \nÅrsmötet 2021 kommer att hållas digitalt via mötesappen Zoom och tillåta upp till 100 uppkopplade deltagare. Vi kommer att skicka epost till alla anmälda med instruktioner och en länk för att kunna koppla upp sig till mötet. Därför är anmälan obligatorisk och görs senast 2021-03-02 kl. 18.00 här nedan eller via epost till medlemsregistret@svkg.se eller webmaster@svkg.se. \nMotioner till årsmötet skall vara klubbens ordförande Sten Ljungquist tillhanda senast 4 februari 2021. Adresser finns i Bulletinen och på sidan Kontakt. \n\nVälkomna!
URL:https://svkg.se/evenemang/arsmote-2021/
ORGANIZER;CN="Styrelsen":MAILTO:styrelsen@svkg.se
END:VEVENT
BEGIN:VEVENT
DTSTART;TZID=Europe/Stockholm:20200305T180000
DTEND;TZID=Europe/Stockholm:20200305T200000
DTSTAMP:20260421T134539
CREATED:20191203T211153Z
LAST-MODIFIED:20211230T233913Z
UID:9124-1583431200-1583438400@svkg.se
SUMMARY:Årsmöte 2020
DESCRIPTION:Sportvagnsklubben inbjuder alla medlemmar till klubbens årsmöte på Team 13. \nDagordning skickas ut till alla medlemmar i separat utskick och innehåller sedvanliga ärenden. \nMotioner till årsmötet skall vara klubbens ordförande Micael Lidmalm\, epost micael.lidmalm@svkg.se\, tillhanda senast 5 februari 2020. \nDet kommer att serveras kaffe/the och smörgåsar under mötet. Vi vill därför be alla som tänker deltaga att anmäla sig nedan senast 23:e februari 2020\, så att vi vet hur mycket mat som ska beställas. Anmälan är dock ej obligatorisk eller bindande. \nVälkomna!
URL:https://svkg.se/evenemang/arsmote-2020/
LOCATION:Team 13\, Bulyckevägen 20\, Göteborg\, 41878\, Sverige
ORGANIZER;CN="Styrelsen":MAILTO:styrelsen@svkg.se
GEO:57.7204138;11.813658
X-APPLE-STRUCTURED-LOCATION;VALUE=URI;X-ADDRESS=Team 13 Bulyckevägen 20 Göteborg 41878 Sverige;X-APPLE-RADIUS=500;X-TITLE=Bulyckevägen 20:geo:11.813658,57.7204138
END:VEVENT
BEGIN:VEVENT
DTSTART;TZID=Europe/Stockholm:20190307T180000
DTEND;TZID=Europe/Stockholm:20190307T200000
DTSTAMP:20260421T134539
CREATED:20181114T235749Z
LAST-MODIFIED:20181126T225914Z
UID:6400-1551981600-1551988800@svkg.se
SUMMARY:Årsmöte 2019
DESCRIPTION:Sportvagnsklubben inbjuder alla medlemmar till klubbens årsmöte på Team 13. \nDagordning skickas ut till alla medlemmar i separat utskick och innehåller sedvanliga ärenden. \nMotioner till årsmötet skall vara klubbens ordförande Micael Lidmalm\, epost micael.lidmalm@svkg.se\, tillhanda senast 7 februari 2019. \nDet kommer att serveras kaffe/the och smörgåsar under mötet. Vi vill därför be alla som tänker deltaga att anmäla sig nedan senast 21:a februari 2019\, så att vi vet hur mycket mat som ska beställas. Anmälan är dock ej obligatorisk eller bindande. \nVälkomna!
URL:https://svkg.se/evenemang/arsmote-2019/
LOCATION:Team 13\, Bulyckevägen 20\, Göteborg\, 41878\, Sverige
ORGANIZER;CN="Styrelsen":MAILTO:styrelsen@svkg.se
GEO:57.7204138;11.813658
X-APPLE-STRUCTURED-LOCATION;VALUE=URI;X-ADDRESS=Team 13 Bulyckevägen 20 Göteborg 41878 Sverige;X-APPLE-RADIUS=500;X-TITLE=Bulyckevägen 20:geo:11.813658,57.7204138
END:VEVENT
BEGIN:VEVENT
DTSTART;TZID=Europe/Stockholm:20180308T180000
DTEND;TZID=Europe/Stockholm:20180308T200000
DTSTAMP:20260421T134539
CREATED:20171204T164539Z
LAST-MODIFIED:20180408T220950Z
UID:3266-1520532000-1520539200@svkg.se
SUMMARY:Årsmöte 2018
DESCRIPTION:Sportvagnsklubben inbjuder alla medlemmar till klubbens årsmöte på Team 13. \nDagordning skickas ut till alla medlemmar i separat utskick och innehåller sedvanliga ärenden. \nMotioner till årsmötet skall vara klubbens ordförande Micael Lidmalm\, epost micael.lidmalm@svkg.se\, tillhanda senast 8 februari 2018. \nDet kommer att serveras kaffe/the och smörgåsar under mötet. Vi vill därför be alla som tänker deltaga att anmäla sig nedan\, så att vi vet hur mycket mat som ska beställas. Anmälan är dock ej obligatorisk eller bindande. \nVälkomna!
URL:https://svkg.se/evenemang/arsmote-2018/
LOCATION:Team 13\, Bulyckevägen 20\, Göteborg\, 41878\, Sverige
ORGANIZER;CN="Styrelsen":MAILTO:styrelsen@svkg.se
GEO:57.7204138;11.813658
X-APPLE-STRUCTURED-LOCATION;VALUE=URI;X-ADDRESS=Team 13 Bulyckevägen 20 Göteborg 41878 Sverige;X-APPLE-RADIUS=500;X-TITLE=Bulyckevägen 20:geo:11.813658,57.7204138
END:VEVENT
BEGIN:VEVENT
DTSTART;TZID=Europe/Paris:20170309T180000
DTEND;TZID=Europe/Paris:20170309T200000
DTSTAMP:20260421T134539
CREATED:20170209T171805Z
LAST-MODIFIED:20171204T164319Z
UID:351-1489082400-1489089600@svkg.se
SUMMARY:Årsmöte 2017
DESCRIPTION:Sportvagnsklubben inbjuder alla medlemmar till årsmötet 9 mars 2017 på Team 13. Vi börjar kl 18:00. \nDagordning skickas ut till alla medlemmar i separat utskick och innehåller sedvanliga ärenden. \nDet kommer att serveras kaffe/the och smörgåsar under mötet. Vi vill därför be alla som tänker deltaga att anmäla sig nedan\, så att vi vet hur mycket mat som ska beställas. Anmälan är dock ej obligatorisk eller bindande. \nVälkomna!
URL:https://svkg.se/evenemang/arsmote-2017/
LOCATION:Team 13\, Bulyckevägen 20\, Göteborg\, 41878\, Sverige
ORGANIZER;CN="Styrelsen":MAILTO:styrelsen@svkg.se
GEO:57.7204138;11.813658
X-APPLE-STRUCTURED-LOCATION;VALUE=URI;X-ADDRESS=Team 13 Bulyckevägen 20 Göteborg 41878 Sverige;X-APPLE-RADIUS=500;X-TITLE=Bulyckevägen 20:geo:11.813658,57.7204138
END:VEVENT
END:VCALENDAR