BEGIN:VCALENDAR
VERSION:2.0
PRODID:-//Sportvagnsklubben Göteborg - ECPv6.15.11//NONSGML v1.0//EN
CALSCALE:GREGORIAN
METHOD:PUBLISH
X-ORIGINAL-URL:https://svkg.se
X-WR-CALDESC:Evenemang för Sportvagnsklubben Göteborg
REFRESH-INTERVAL;VALUE=DURATION:PT1H
X-Robots-Tag:noindex
X-PUBLISHED-TTL:PT1H
BEGIN:VTIMEZONE
TZID:Europe/Stockholm
BEGIN:DAYLIGHT
TZOFFSETFROM:+0100
TZOFFSETTO:+0200
TZNAME:CEST
DTSTART:20170326T010000
END:DAYLIGHT
BEGIN:STANDARD
TZOFFSETFROM:+0200
TZOFFSETTO:+0100
TZNAME:CET
DTSTART:20171029T010000
END:STANDARD
BEGIN:DAYLIGHT
TZOFFSETFROM:+0100
TZOFFSETTO:+0200
TZNAME:CEST
DTSTART:20180325T010000
END:DAYLIGHT
BEGIN:STANDARD
TZOFFSETFROM:+0200
TZOFFSETTO:+0100
TZNAME:CET
DTSTART:20181028T010000
END:STANDARD
BEGIN:DAYLIGHT
TZOFFSETFROM:+0100
TZOFFSETTO:+0200
TZNAME:CEST
DTSTART:20190331T010000
END:DAYLIGHT
BEGIN:STANDARD
TZOFFSETFROM:+0200
TZOFFSETTO:+0100
TZNAME:CET
DTSTART:20191027T010000
END:STANDARD
END:VTIMEZONE
BEGIN:VEVENT
DTSTART;TZID=Europe/Stockholm:20180503T183000
DTEND;TZID=Europe/Stockholm:20180503T210000
DTSTAMP:20260421T220517
CREATED:20180406T212640Z
LAST-MODIFIED:20180919T122031Z
UID:4891-1525372200-1525381200@svkg.se
SUMMARY:Torsdagsträff
DESCRIPTION:Vid våra torsdagsträffar gör vi utflykter till olika platser hela sommarsäsongen. Vi åker på trevliga ”körvänliga” vägar\, ca 2-4 mil\, till något kafé eller restaurang någonstans runt göteborgsområdet. \nBenny Praetorius\, mitt i bild\, brukar hålla i torsdagsträffarna.\nVi som är på plats bestämmer tillsammans vart vi åker beroende på bl a. antal ekipage och väder. Vid regnväder åker vi normalt en kortare sträcka till något kafé i Göteborg. \nVi samlas på parkeringen utanför Systembolaget på Torpavallsgatan i Munkebäck varje torsdag kl 18.30 från början av maj till slutet av september (utom dagen före midsommar). Man behöver inte anmäla sig\, det är bara att dyka upp. Även icke-medlemmar är välkomna att följa med. \nKartor\nVi kommer att åka iväg c:a 18.35 för att utnyttja kvällens ljusare timmar och hinna fram till destinationen i god tid. Kommer ni för sent kan ni kontakta Benny Praetorius på telefon 0705-73 88 29 eller Andras Lengyel på telefon 076-77 33 911 så berättar vi vart vi är på väg. Ni kan även titta i vår Facebook-grupp där vi samma dag eller dagen före brukar ange vart vi åker. \nKarta som visar den normala färdvägen till varje destination kan ni öppna här nedanför. Vi har även angivit möjliga betalsätt för varje ställe (med reservation för att de kan ändras). \n\n\n\nKarta\nMöjliga betalsätt\n\n\n\n\nAspenäs Café\, Lerum\nkontant\, kort\n\n\nCafé Sammels\, Bertshult / Eskilsby\nkontant\, kort\, Swish\n\n\nCafé Skåne\, Mölndalsbro\nkontant\, kort\n\n\nCafé Torpet\, Skepplanda\nkontant\, Swish\n\n\nCafé Zanzibar\, Tjuvkil\nkontant\, Swish\n\n\nFritiofs Garage\, Landvetter\nkontant\n\n\nFrugans Café\, Kungälv\nkontant\, kort\n\n\nGuldhedstornets Café\, Guldheden\nkontant\, kort\n\n\nHindåsgården\, Hindås\nkontant\, kort\n\n\nHindås station\, Hindås\nkontant\, Swish\n\n\nInstö Café\, Vrångholmen\nkontant\, Swish\n\n\nKarl IX:s Lokal\, Färjenäs\nkontant\, kort\, Swish\n\n\nTCB Café\, Floda\nkontant\, Swish\n\n\n\n  \nVälkomna!
URL:https://svkg.se/evenemang/torsdagstraff-2018/2018-05-03/
ORGANIZER;CN="Touringkommitt%C3%A9n":MAILTO:touring@svkg.se
END:VEVENT
END:VCALENDAR