BEGIN:VCALENDAR
VERSION:2.0
PRODID:-//Sportvagnsklubben Göteborg - ECPv6.15.11//NONSGML v1.0//EN
CALSCALE:GREGORIAN
METHOD:PUBLISH
X-ORIGINAL-URL:https://svkg.se
X-WR-CALDESC:Evenemang för Sportvagnsklubben Göteborg
REFRESH-INTERVAL;VALUE=DURATION:PT1H
X-Robots-Tag:noindex
X-PUBLISHED-TTL:PT1H
BEGIN:VTIMEZONE
TZID:Europe/Paris
BEGIN:DAYLIGHT
TZOFFSETFROM:+0100
TZOFFSETTO:+0200
TZNAME:CEST
DTSTART:20160327T010000
END:DAYLIGHT
BEGIN:STANDARD
TZOFFSETFROM:+0200
TZOFFSETTO:+0100
TZNAME:CET
DTSTART:20161030T010000
END:STANDARD
BEGIN:DAYLIGHT
TZOFFSETFROM:+0100
TZOFFSETTO:+0200
TZNAME:CEST
DTSTART:20170326T010000
END:DAYLIGHT
BEGIN:STANDARD
TZOFFSETFROM:+0200
TZOFFSETTO:+0100
TZNAME:CET
DTSTART:20171029T010000
END:STANDARD
BEGIN:DAYLIGHT
TZOFFSETFROM:+0100
TZOFFSETTO:+0200
TZNAME:CEST
DTSTART:20180325T010000
END:DAYLIGHT
BEGIN:STANDARD
TZOFFSETFROM:+0200
TZOFFSETTO:+0100
TZNAME:CET
DTSTART:20181028T010000
END:STANDARD
END:VTIMEZONE
BEGIN:VEVENT
DTSTART;TZID=Europe/Paris:20170504T183000
DTEND;TZID=Europe/Paris:20170504T183000
DTSTAMP:20260422T135132
CREATED:20170301T154207Z
LAST-MODIFIED:20170829T123952Z
UID:782-1493922600-1493922600@svkg.se
SUMMARY:Torsdagsträff
DESCRIPTION:Vid våra torsdagsträffar gör vi utflykter till i förväg obestämda mål hela sommarsäsongen. Vi åker på trevliga ”körvänliga” vägar\, ca 2-4 mil\, till något kafé eller restaurang någonstans runt göteborgsområdet. \nObservera att vi numera träffas 18.30 och åker c:a 18.35. \nBenny Praetorius\, t h. närmast kameran\, brukar hålla i torsdagsträffarna.\nVi som är på plats bestämmer tillsammans vart vi åker beroende på bl a. antal ekipage och väder. Vid regnväder åker vi normalt en kortare sträcka till något kafé i Göteborg. \nVi samlas på parkeringen utanför Systembolaget på Torpavallsgatan i Munkebäck varje torsdag kl 18.30 från början av maj till slutet av september. Man behöver inte anmäla sig\, det är bara att dyka upp. Även icke-medlemmar är välkomna att följa med. \nKartor\nVi kommer att åka iväg c:a 18.35 för att utnyttja kvällens ljusare timmar och hinna fram till destinationen i god tid. Kommer ni för sent kan ni kontakta Benny Praetorius på telefon 0705-73 88 29 eller Andras Lengyel på telefon 076-77 33 911 så berättar vi vart vi är på väg. Karta som visar den normala färdvägen till varje destination kan ni öppna här nedanför. Vi har även angivit möjliga betalsätt för varje ställe (med reservation för att de kan ändras). \n\n\n\nKarta\nMöjliga betalsätt\n\n\n\n\nAspenäs Café\, Lerum\nkontant\, kort\n\n\nCafé Sammels\, Bertshult / Eskilsby\nkontant\, kort\n\n\nCafé Skåne\, Mölndalsbro\nkontant\, kort\n\n\nCafé Torpet\, Skepplanda\nkontant\, Swish\n\n\nCafé Zanzibar\, Tjuvkil\nkontant\, Swish\n\n\nFritiofs Garage\, Landvetter\nkontant\n\n\nGuldhedstornets Café\, Guldheden\nkontant\, kort\n\n\nHindås station\, Hindås\nkontant (20 juli)\n\n\nInstö Café\, Vrångholmen\nkontant\, Swish\n\n\nTCB Café\, Floda\nkontant\, Swish\n\n\nÅseby Västergård\, Säve\nkontant\, Swish\n\n\n\n  \nVälkomna!
URL:https://svkg.se/evenemang/torsdagstraffar-2017/2017-05-04/
ORGANIZER;CN="Touringkommitt%C3%A9n":MAILTO:touring@svkg.se
END:VEVENT
END:VCALENDAR