BEGIN:VCALENDAR
VERSION:2.0
PRODID:-//Sportvagnsklubben Göteborg - ECPv6.15.11//NONSGML v1.0//EN
CALSCALE:GREGORIAN
METHOD:PUBLISH
X-WR-CALNAME:Sportvagnsklubben Göteborg
X-ORIGINAL-URL:https://svkg.se
X-WR-CALDESC:Evenemang för Sportvagnsklubben Göteborg
REFRESH-INTERVAL;VALUE=DURATION:PT1H
X-Robots-Tag:noindex
X-PUBLISHED-TTL:PT1H
BEGIN:VTIMEZONE
TZID:Europe/Stockholm
BEGIN:DAYLIGHT
TZOFFSETFROM:+0100
TZOFFSETTO:+0200
TZNAME:CEST
DTSTART:20190331T010000
END:DAYLIGHT
BEGIN:STANDARD
TZOFFSETFROM:+0200
TZOFFSETTO:+0100
TZNAME:CET
DTSTART:20191027T010000
END:STANDARD
BEGIN:DAYLIGHT
TZOFFSETFROM:+0100
TZOFFSETTO:+0200
TZNAME:CEST
DTSTART:20200329T010000
END:DAYLIGHT
BEGIN:STANDARD
TZOFFSETFROM:+0200
TZOFFSETTO:+0100
TZNAME:CET
DTSTART:20201025T010000
END:STANDARD
BEGIN:DAYLIGHT
TZOFFSETFROM:+0100
TZOFFSETTO:+0200
TZNAME:CEST
DTSTART:20210328T010000
END:DAYLIGHT
BEGIN:STANDARD
TZOFFSETFROM:+0200
TZOFFSETTO:+0100
TZNAME:CET
DTSTART:20211031T010000
END:STANDARD
END:VTIMEZONE
BEGIN:VEVENT
DTSTART;TZID=Europe/Stockholm:20201001T183000
DTEND;TZID=Europe/Stockholm:20201001T220000
DTSTAMP:20260422T101543
CREATED:20200927T132825Z
LAST-MODIFIED:20201227T203543Z
UID:11871-1601577000-1601589600@svkg.se
SUMMARY:Vintertorsdagsträff
DESCRIPTION:Vi kommer på torsdagar från oktober att träffas på restaurang John Scott’s på Partille Area. De har fullständiga rättigheter och vi kommer där att kunna äta\, dricka och spela bowling för de som vill. Klubbarna GMHK och UBCC kommer också att vara inbjudna. \nDet finns goda parkeringsmöjligheter vid gaveln av Partille Arena (nordöstra sidan vid Coop) med 4 timmars avgiftsfri parkering (även i parkeringshuset). Man kan även ta sig dit med buss Gul Express. \nAlla är välkomna\, medlem som icke-medlem. \nVälkomna!
URL:https://svkg.se/evenemang/vintertorsdagstraff-2020-2021/2020-10-01/
LOCATION:John Scott’s\, Arenavägen 1\, Partille\, 433 33\, Sverige
ORGANIZER;CN="Touringkommitt%C3%A9n":MAILTO:touring@svkg.se
GEO:57.7398562;12.1145074
X-APPLE-STRUCTURED-LOCATION;VALUE=URI;X-ADDRESS=John Scott’s Arenavägen 1 Partille 433 33 Sverige;X-APPLE-RADIUS=500;X-TITLE=Arenavägen 1:geo:12.1145074,57.7398562
END:VEVENT
END:VCALENDAR