BEGIN:VCALENDAR
VERSION:2.0
PRODID:-//Sportvagnsklubben Göteborg - ECPv6.15.11//NONSGML v1.0//EN
CALSCALE:GREGORIAN
METHOD:PUBLISH
X-ORIGINAL-URL:https://svkg.se
X-WR-CALDESC:Evenemang för Sportvagnsklubben Göteborg
REFRESH-INTERVAL;VALUE=DURATION:PT1H
X-Robots-Tag:noindex
X-PUBLISHED-TTL:PT1H
BEGIN:VTIMEZONE
TZID:Europe/Stockholm
BEGIN:DAYLIGHT
TZOFFSETFROM:+0100
TZOFFSETTO:+0200
TZNAME:CEST
DTSTART:20250330T010000
END:DAYLIGHT
BEGIN:STANDARD
TZOFFSETFROM:+0200
TZOFFSETTO:+0100
TZNAME:CET
DTSTART:20251026T010000
END:STANDARD
BEGIN:DAYLIGHT
TZOFFSETFROM:+0100
TZOFFSETTO:+0200
TZNAME:CEST
DTSTART:20260329T010000
END:DAYLIGHT
BEGIN:STANDARD
TZOFFSETFROM:+0200
TZOFFSETTO:+0100
TZNAME:CET
DTSTART:20261025T010000
END:STANDARD
BEGIN:DAYLIGHT
TZOFFSETFROM:+0100
TZOFFSETTO:+0200
TZNAME:CEST
DTSTART:20270328T010000
END:DAYLIGHT
BEGIN:STANDARD
TZOFFSETFROM:+0200
TZOFFSETTO:+0100
TZNAME:CET
DTSTART:20271031T010000
END:STANDARD
END:VTIMEZONE
BEGIN:VEVENT
DTSTART;VALUE=DATE:20261001
DTEND;VALUE=DATE:20261002
DTSTAMP:20260421T213953
CREATED:20251201T154724Z
LAST-MODIFIED:20251201T154724Z
UID:26169-1790812800-1790899199@svkg.se
SUMMARY:Nattrallyt 2026
DESCRIPTION:Snart är det dags att ställa in våra ögonstenar för vintern\, men innan dess så ges det ytterligare ett sista tillfälle att sota ur maskinen rejält. Häng med på SVKG "Nightmare" Nattrally! \nMer information kommer senare.
URL:https://svkg.se/evenemang/nattrallyt-2026/
ORGANIZER;CN="Touringkommitt%C3%A9n":MAILTO:touring@svkg.se
END:VEVENT
BEGIN:VEVENT
DTSTART;VALUE=DATE:20261112
DTEND;VALUE=DATE:20261113
DTSTAMP:20260421T213953
CREATED:20251201T155035Z
LAST-MODIFIED:20251201T155035Z
UID:26172-1794441600-1794527999@svkg.se
SUMMARY:Råttsoffetorsdag med gulasch
DESCRIPTION:SVKG bjuder in till en torsdagstur med våra Råttsoffor™ och en gulaschkväll i glada vänners lag. \nMer information kommer senare.
URL:https://svkg.se/evenemang/rattsoffetorsdag-2026/
ORGANIZER;CN="Touringkommitt%C3%A9n":MAILTO:touring@svkg.se
END:VEVENT
BEGIN:VEVENT
DTSTART;TZID=Europe/Stockholm:20261210T180000
DTEND;TZID=Europe/Stockholm:20261210T220000
DTSTAMP:20260421T213953
CREATED:20251201T155429Z
LAST-MODIFIED:20251201T155429Z
UID:26175-1796925600-1796940000@svkg.se
SUMMARY:Glöggmuffen 2026
DESCRIPTION:Enligt tradition anordnar vi Glöggmuffen runt Lucia. Precis som föregående år kombinerar vi lussekatter\, glögg och bilsnack med digital racing. \nMer information kommer senare.
URL:https://svkg.se/evenemang/gloggmuffen-2026/
LOCATION:Smedjan\, Hults gata 26\, Askim\, 43644\, Sweden
ORGANIZER;CN="Touringkommitt%C3%A9n":MAILTO:touring@svkg.se
GEO:57.635582;11.925313
X-APPLE-STRUCTURED-LOCATION;VALUE=URI;X-ADDRESS=Smedjan Hults gata 26 Askim 43644 Sweden;X-APPLE-RADIUS=500;X-TITLE=Hults gata 26:geo:11.925313,57.635582
END:VEVENT
END:VCALENDAR