BEGIN:VCALENDAR
VERSION:2.0
PRODID:-//Sportvagnsklubben Göteborg - ECPv6.15.11//NONSGML v1.0//EN
CALSCALE:GREGORIAN
METHOD:PUBLISH
X-WR-CALNAME:Sportvagnsklubben Göteborg
X-ORIGINAL-URL:https://svkg.se
X-WR-CALDESC:Evenemang för Sportvagnsklubben Göteborg
REFRESH-INTERVAL;VALUE=DURATION:PT1H
X-Robots-Tag:noindex
X-PUBLISHED-TTL:PT1H
BEGIN:VTIMEZONE
TZID:Europe/Paris
BEGIN:DAYLIGHT
TZOFFSETFROM:+0100
TZOFFSETTO:+0200
TZNAME:CEST
DTSTART:20150329T010000
END:DAYLIGHT
BEGIN:STANDARD
TZOFFSETFROM:+0200
TZOFFSETTO:+0100
TZNAME:CET
DTSTART:20151025T010000
END:STANDARD
BEGIN:DAYLIGHT
TZOFFSETFROM:+0100
TZOFFSETTO:+0200
TZNAME:CEST
DTSTART:20160327T010000
END:DAYLIGHT
BEGIN:STANDARD
TZOFFSETFROM:+0200
TZOFFSETTO:+0100
TZNAME:CET
DTSTART:20161030T010000
END:STANDARD
BEGIN:DAYLIGHT
TZOFFSETFROM:+0100
TZOFFSETTO:+0200
TZNAME:CEST
DTSTART:20170326T010000
END:DAYLIGHT
BEGIN:STANDARD
TZOFFSETFROM:+0200
TZOFFSETTO:+0100
TZNAME:CET
DTSTART:20171029T010000
END:STANDARD
END:VTIMEZONE
BEGIN:VEVENT
DTSTART;TZID=Europe/Paris:20161124T180000
DTEND;TZID=Europe/Paris:20161124T210000
DTSTAMP:20260422T195138
CREATED:20161110T121401Z
LAST-MODIFIED:20171210T202406Z
UID:163-1480010400-1480021200@svkg.se
SUMMARY:Filmkväll - Rush
DESCRIPTION:Välkomna på SVKGs filmkväll! Vi upprepar förra årets succé på Team 13 och arrangerar en filmvisning med en trevlig middag. \nTorsdagen 24/11 tar vi fram projektorn\, och på stor bioduk visar vi den verklighetsbaserade filmen Rush (2013). Chris Hemsworth spelar den egocentriske F1-stjärnan James Hunt\, och en lysande Daniel Brühl spelar den tyste och extremt målmedvetne Niki Lauda. \nDetta är en fantastisk rulle som bara är ett måste att se\, och detta görs bäst med Dina vänner i SVKG! \nInnan filmen serverar Team 13’s restaurang en god middag\, som vi avnjuter tillsammans. Missa inte detta! Menyn är hemlig. \nAnmälan görs nedan. Vi har plats för ca 50 st. Först till kvarn! \nFrågor besvaras av David Dahl 0706 – 169 169 alt david.dahl@svkg.se. \n  \nVälkomna! \nStyrelsen
URL:https://svkg.se/evenemang/filmkvall-rush/
LOCATION:Team 13\, Bulyckevägen 20\, Göteborg\, 41878\, Sverige
ORGANIZER;CN="Touringkommitt%C3%A9n":MAILTO:touring@svkg.se
GEO:57.7204138;11.813658
X-APPLE-STRUCTURED-LOCATION;VALUE=URI;X-ADDRESS=Team 13 Bulyckevägen 20 Göteborg 41878 Sverige;X-APPLE-RADIUS=500;X-TITLE=Bulyckevägen 20:geo:11.813658,57.7204138
END:VEVENT
END:VCALENDAR