BEGIN:VCALENDAR
VERSION:2.0
PRODID:-//Sportvagnsklubben Göteborg - ECPv6.15.11//NONSGML v1.0//EN
CALSCALE:GREGORIAN
METHOD:PUBLISH
X-WR-CALNAME:Sportvagnsklubben Göteborg
X-ORIGINAL-URL:https://svkg.se
X-WR-CALDESC:Evenemang för Sportvagnsklubben Göteborg
REFRESH-INTERVAL;VALUE=DURATION:PT1H
X-Robots-Tag:noindex
X-PUBLISHED-TTL:PT1H
BEGIN:VTIMEZONE
TZID:Europe/Paris
BEGIN:DAYLIGHT
TZOFFSETFROM:+0100
TZOFFSETTO:+0200
TZNAME:CEST
DTSTART:20160327T010000
END:DAYLIGHT
BEGIN:STANDARD
TZOFFSETFROM:+0200
TZOFFSETTO:+0100
TZNAME:CET
DTSTART:20161030T010000
END:STANDARD
BEGIN:DAYLIGHT
TZOFFSETFROM:+0100
TZOFFSETTO:+0200
TZNAME:CEST
DTSTART:20170326T010000
END:DAYLIGHT
BEGIN:STANDARD
TZOFFSETFROM:+0200
TZOFFSETTO:+0100
TZNAME:CET
DTSTART:20171029T010000
END:STANDARD
BEGIN:DAYLIGHT
TZOFFSETFROM:+0100
TZOFFSETTO:+0200
TZNAME:CEST
DTSTART:20180325T010000
END:DAYLIGHT
BEGIN:STANDARD
TZOFFSETFROM:+0200
TZOFFSETTO:+0100
TZNAME:CET
DTSTART:20181028T010000
END:STANDARD
END:VTIMEZONE
BEGIN:VEVENT
DTSTART;TZID=Europe/Paris:20170601T183000
DTEND;TZID=Europe/Paris:20170601T210000
DTSTAMP:20260422T094245
CREATED:20170218T215309Z
LAST-MODIFIED:20180117T182639Z
UID:552-1496341800-1496350800@svkg.se
SUMMARY:KM Utomhusgokart
DESCRIPTION:SVKG inbjuder klubbens medlemmar till klubbmästerskap i utomhusgokart på vår hemmabana på Team 13 i Bulycke. \nPraktiska detaljer\n\nSamling: kl. 18.30.\nUpplägg: 10 min. träning\, 10 min. kval\, final.\nAnmälan: Görs nedan senast en vecka innan. Anmälan är bindande.\nPris: 400 kr (de ger oss rabatt 50:- per förare på ordinarie pris 450:-)\, betalas på plats.\nRestaurang: Den är öppen till kl 20.00\, men vill helst inte ta emot några matbeställningar efter kl 19.30. Men kaffe\, glass\, dricka etc. finns att köpa ända till kl 20.00.\nFrågor: kan ställas till Per Oleskog på telefon 0707-661889.\n\nMöjlighet till träning dagligen\, drop-in om banan inte är bokad. Kolla på www.gokart.se. \n  \nVälkommen! \nRacingkommittéen
URL:https://svkg.se/evenemang/km-utomhusgokart-2017/
LOCATION:Team 13\, Bulyckevägen 20\, Göteborg\, 41878\, Sverige
ORGANIZER;CN="Racingkommitt%C3%A9n":MAILTO:racing@svkg.se
GEO:57.7204138;11.813658
X-APPLE-STRUCTURED-LOCATION;VALUE=URI;X-ADDRESS=Team 13 Bulyckevägen 20 Göteborg 41878 Sverige;X-APPLE-RADIUS=500;X-TITLE=Bulyckevägen 20:geo:11.813658,57.7204138
END:VEVENT
BEGIN:VEVENT
DTSTART;TZID=Europe/Paris:20170605T080000
DTEND;TZID=Europe/Paris:20170605T163000
DTSTAMP:20260422T094245
CREATED:20170409T174207Z
LAST-MODIFIED:20170409T174207Z
UID:1304-1496649600-1496680200@svkg.se
SUMMARY:CCS - Förarträning och Bankörning
DESCRIPTION:Vi har blivit inbjudna av Club Corvette Sweden att delta i förarträning och bankörning på Kinnekulle ring. \nEvenemanget är begränsat till max 50 bilar där deras medlemmar har företräde fram till 1/5. \nDet finns inga krav på störtbåge enligt deras reglemente. \nFör mer information och anmälan\, se länk nedan under rubrik Detaljer.
URL:https://svkg.se/evenemang/ccs-forartraning-och-bankorning/
LOCATION:Kinnekulle ring\, Kinne-Kleva\, Götene\, 53396\, Sverige
ORGANIZER;CN="Club Corvette Sweden":MAILTO:info@clubcorvette.se
GEO:58.5426685;13.4166941
X-APPLE-STRUCTURED-LOCATION;VALUE=URI;X-ADDRESS=Kinnekulle ring Kinne-Kleva Götene 53396 Sverige;X-APPLE-RADIUS=500;X-TITLE=Kinne-Kleva:geo:13.4166941,58.5426685
END:VEVENT
BEGIN:VEVENT
DTSTART;TZID=Europe/Paris:20170609T080000
DTEND;TZID=Europe/Paris:20170609T180000
DTSTAMP:20260422T094245
CREATED:20170201T183814Z
LAST-MODIFIED:20170704T210749Z
UID:277-1496995200-1497031200@svkg.se
SUMMARY:Bankalas + 60-minutes
DESCRIPTION:Nu är det snart dags att ta ut och lufta våra sportvagnar på racerbanan. Vårt traditionella ”Bankalas” går återigen av stapeln på den spännande och krävande racerbanan Kinnekulle Ring strax utanför Götene. \nProgrammet är späckat med en mängd olika racingaktiviteter för att passa alla smaker. Vi har allt från fri körning med resp. utan passagerare\, till den populära lagtävlingen SVKG 60-minutes\, där vi kör ett entimmarslopp med förar-­ och/eller bilbyte. \nPraktiska detaljer\n\nTider\n\n08.00 – 09.00 Inskrivning och besiktning\n08.45 – 09.00 Förarsammanträde för fri körning\n09.00 – 13.00 Fri körning för samtliga bilar utan tidtagning med indelning i tre grupper (lugna\, lagom\, race) med 15-minuterspass.\n11.30 – 13.30 Rullande lunchpaus\n13.00 – 14.00 Bankalas: fri körning\, Race+60-min: tidsträning inför 60-minutes blandat med övriga\n14.00 – 15.00 Bankalas: fri körning\, Race+60-min: uppställning lagvis i startfållorna\, slutinstruktioner ges\n15.00 – 16.00 Race+60-min: SVKG 60-minutes Endurance Race\n16.00 – 16.30 Fri körning\n\n\nKörpass: Lugna passet för nybörjare\, lagom-passet för rutinerade förare och race-passet för erfarna förare inkl. deltagare i 60-minutes. Läs vidare om 60-minutes körpassorganisation.\nAnmälan: Öppnar c:a en månad innan evenemanget och görs nedan genom biljettköp.\nBesiktning: Före körning måste din bil vara besiktigad. Deltagande bilar i Race + 60-minutes är Roadsports\, Modsports\, Clubman\, RS samt historiska GT- och Saloonbilar.\nMiljökrav: Läs vår miljöpolicy.\nLjudkrav: För samtliga bilar gäller bullerkravet 95 dB(A) mätt vid förbipassering på raksträcka under acceleration. De bilar som ej klarar denna gräns måste tyvärr tas av banan. \nSäkerhetsutrustning (lägsta nivå)\n\nBankalas – dig själv: hjälm\, handskar\, läderskor samt heltäckande bomullsklädsel\, din bil: säkerhetsbälte\, båge i öppen bil och bil med ickebärande takkonstruktion.\nRace + 60-minutes – dig själv: av SBF godkänd hjälm\, handskar\, skor samt föraroverall\, din bil: enligt respektive klassreglemente i SBF:s regelverk.\n\n\nFörsäkring: Alla förare och passagerare måste ha licens\, dvs personförsäkring hos SMA. Denna kan skaffas på SMA:s sida för förarlicenser. Som vanligt gäller inte bilens försäkring vid körning på bana. Du kör på egen risk.\nSkador: SVKG förbehåller sig rätten att fakturera kostnader för skador på 2:e man (banans inventarier) till deltagare.\nPassagerare: Tillåtet i alla pass. Passageraren måste också ha SMA-licens.\nMat: Finns att köpa i bandepån.\nOrganisationkommitté\n\nHuvudansvarig – Niklas Falk\, tel: 0703-56 74 56\, epost: niklas.falk@svkg.se\nBesiktningschef – Kalle Pilkratz\, tel: 0708 – 29 34 55\, epost: kallepilkrantz@gmail.com
URL:https://svkg.se/evenemang/bankalas-60-minutes/
LOCATION:Kinnekulle ring\, Kinne-Kleva\, Götene\, 53396\, Sverige
ORGANIZER;CN="Racingkommitt%C3%A9n":MAILTO:racing@svkg.se
GEO:58.5426685;13.4166941
X-APPLE-STRUCTURED-LOCATION;VALUE=URI;X-ADDRESS=Kinnekulle ring Kinne-Kleva Götene 53396 Sverige;X-APPLE-RADIUS=500;X-TITLE=Kinne-Kleva:geo:13.4166941,58.5426685
END:VEVENT
BEGIN:VEVENT
DTSTART;TZID=Europe/Paris:20170617T083000
DTEND;TZID=Europe/Paris:20170617T133000
DTSTAMP:20260422T094245
CREATED:20170214T193006Z
LAST-MODIFIED:20170704T211428Z
UID:440-1497688200-1497706200@svkg.se
SUMMARY:Sprint 3 Kattleberg
DESCRIPTION:Vi kör denna sprint nr 3 på Kattleberg Airport i Älvängen. Vi kommer att köra en snabb A-sprintsvariant med flera belönande accelerationer och en och annan inbromsning. \nPraktiska detaljer\n\nSamling: kl. 8:30\nFörsta start: kl. 9:00\nAnmälan: Görs nedan genom biljettköp. Betalning kan också göras på plats via Swish 123-690 07 57.\nMat: Det kommer att finnas korv och dricka till försäljning.\nFörsäkring: För information om försäkring se generell information om våra sprintrace.\n\nKom i tid! \nVälkomna!
URL:https://svkg.se/evenemang/rattmuffen-sprint-3/
LOCATION:Kattleberg Airport\, Kattleberg Airport 258\, Älvängen\, 44697\, Sverige
ORGANIZER;CN="Racingkommitt%C3%A9n":MAILTO:racing@svkg.se
GEO:57.9797418;12.1429843
X-APPLE-STRUCTURED-LOCATION;VALUE=URI;X-ADDRESS=Kattleberg Airport Kattleberg Airport 258 Älvängen 44697 Sverige;X-APPLE-RADIUS=500;X-TITLE=Kattleberg Airport 258:geo:12.1429843,57.9797418
END:VEVENT
END:VCALENDAR