BEGIN:VCALENDAR
VERSION:2.0
PRODID:-//Sportvagnsklubben Göteborg - ECPv6.15.11//NONSGML v1.0//EN
CALSCALE:GREGORIAN
METHOD:PUBLISH
X-ORIGINAL-URL:https://svkg.se
X-WR-CALDESC:Evenemang för Sportvagnsklubben Göteborg
REFRESH-INTERVAL;VALUE=DURATION:PT1H
X-Robots-Tag:noindex
X-PUBLISHED-TTL:PT1H
BEGIN:VTIMEZONE
TZID:Europe/Stockholm
BEGIN:DAYLIGHT
TZOFFSETFROM:+0100
TZOFFSETTO:+0200
TZNAME:CEST
DTSTART:20160327T010000
END:DAYLIGHT
BEGIN:STANDARD
TZOFFSETFROM:+0200
TZOFFSETTO:+0100
TZNAME:CET
DTSTART:20161030T010000
END:STANDARD
BEGIN:DAYLIGHT
TZOFFSETFROM:+0100
TZOFFSETTO:+0200
TZNAME:CEST
DTSTART:20170326T010000
END:DAYLIGHT
BEGIN:STANDARD
TZOFFSETFROM:+0200
TZOFFSETTO:+0100
TZNAME:CET
DTSTART:20171029T010000
END:STANDARD
BEGIN:DAYLIGHT
TZOFFSETFROM:+0100
TZOFFSETTO:+0200
TZNAME:CEST
DTSTART:20180325T010000
END:DAYLIGHT
BEGIN:STANDARD
TZOFFSETFROM:+0200
TZOFFSETTO:+0100
TZNAME:CET
DTSTART:20181028T010000
END:STANDARD
END:VTIMEZONE
BEGIN:VTIMEZONE
TZID:Europe/Paris
BEGIN:DAYLIGHT
TZOFFSETFROM:+0100
TZOFFSETTO:+0200
TZNAME:CEST
DTSTART:20160327T010000
END:DAYLIGHT
BEGIN:STANDARD
TZOFFSETFROM:+0200
TZOFFSETTO:+0100
TZNAME:CET
DTSTART:20161030T010000
END:STANDARD
BEGIN:DAYLIGHT
TZOFFSETFROM:+0100
TZOFFSETTO:+0200
TZNAME:CEST
DTSTART:20170326T010000
END:DAYLIGHT
BEGIN:STANDARD
TZOFFSETFROM:+0200
TZOFFSETTO:+0100
TZNAME:CET
DTSTART:20171029T010000
END:STANDARD
BEGIN:DAYLIGHT
TZOFFSETFROM:+0100
TZOFFSETTO:+0200
TZNAME:CEST
DTSTART:20180325T010000
END:DAYLIGHT
BEGIN:STANDARD
TZOFFSETFROM:+0200
TZOFFSETTO:+0100
TZNAME:CET
DTSTART:20181028T010000
END:STANDARD
END:VTIMEZONE
BEGIN:VEVENT
DTSTART;TZID=Europe/Stockholm:20170811T090000
DTEND;TZID=Europe/Stockholm:20170811T170000
DTSTAMP:20260422T071234
CREATED:20170705T111817Z
LAST-MODIFIED:20170705T112613Z
UID:2341-1502442000-1502470800@svkg.se
SUMMARY:Lotus Day Kinnekulle Ring
DESCRIPTION:Vi har blivit inbjudna av Lotus Car Club of Sweden till deras bandag på Kinnekulle ring. Vi kör en heldag på banan och det finns möjlighet att få hjälp med körteknik och spårval av deras erfarna instruktörer. \nDet är ingen tävling utan istället en möjlighet att under säkra förhållanden köra på en fin\, kurvig asfaltsväg utan mötande fordon eller hastighetsbegränsningar. När man fått in den grundläggande tekniken så finns det på eftermiddagen möjlighet att köra med en passagerare i bilen. \nDe har i år öppnat upp hela eftermiddagen för körning i lugnt tempo även med bilar utan båge och bälten\, i en egen grupp D där i princip trafikregler gäller. Detta har de gjort i samarbete med MG-\, Morgan- och TR-klubbarna\, och ska ge möjlighet för även äldre bilar att prova på att köra på bana. \nFör mer information och anmälan (senast 14 juli)\, se nedan under Detaljer.
URL:https://svkg.se/evenemang/lotus-day-kinnekulle-ring/
END:VEVENT
BEGIN:VEVENT
DTSTART;TZID=Europe/Stockholm:20170812T100000
DTEND;TZID=Europe/Stockholm:20170812T160000
DTSTAMP:20260422T071234
CREATED:20170729T103321Z
LAST-MODIFIED:20170729T103445Z
UID:2420-1502532000-1502553600@svkg.se
SUMMARY:British Motor Meet 2017
DESCRIPTION:Välkommen till 2017 års British Motor Meet som kommer att hållas i Karlsborg den 12:e augusti. \nBritish Motor Meet har arrangerats under somrarna i Hjo sedan 2009. För andra året i rad är vi i  Karlsborgs fästning.  En träff för alla som älskar brittiska fordon. Hundratals fordonsägare ställer ut sina brittiska fordon och ännu fler beundrar dem och njuter av den fantastiska folkfesten.
URL:https://svkg.se/evenemang/british-motor-meet-2017/
LOCATION:Karlsborgs fästning\, Fortifikationsgatan 8B\, Karlsborg\, 54630\, Sverige
ORGANIZER;CN="British Motor Meet":MAILTO:mlidenfors@gmail.com
GEO:58.5314848;14.5281169
X-APPLE-STRUCTURED-LOCATION;VALUE=URI;X-ADDRESS=Karlsborgs fästning Fortifikationsgatan 8B Karlsborg 54630 Sverige;X-APPLE-RADIUS=500;X-TITLE=Fortifikationsgatan 8B:geo:14.5281169,58.5314848
END:VEVENT
BEGIN:VEVENT
DTSTART;TZID=Europe/Stockholm:20170816T183000
DTEND;TZID=Europe/Stockholm:20170816T220000
DTSTAMP:20260422T071234
CREATED:20170803T143226Z
LAST-MODIFIED:20170803T223658Z
UID:2429-1502908200-1502920800@svkg.se
SUMMARY:Filmkväll: Superswede - en film om Ronnie Peterson
DESCRIPTION:Sportvagnsklubben inbjuder till filmkväll med premiären av Superswede – en film om Ronnie Peterson\, följt av en bit mat tillsammans. \nSuperswede är en film om den svenska racinglegenden Ronnie Peterson vars liv slutade med en våldsam krasch på Monzabanan 1978 och chockade en hel värld. Filmen tar tillsammans med Ronnies dotter Nina Kennedy och några av de största namnen inom racingvärlden med publiken på en episk resa till en epok då sporten kantades av glamour\, dårskap\, hjältemod\, big business och krafter som under ett decennium drev fler än tolv förare i döden. \nEfteråt har vi bokat platser på restaurang Danilo för en bit mat tillsammans. \nPraktiska detaljer\n\nDatum/tid: Onsdag 16/8 kl 18.30\nPlats: Biopalatset\, Salong 9\, Kungstorget\, Göteborg. Restaurang: Danilo\, Kungstorget 3 (i samma hus som biografen)\nAnmälan: boka era biljetter på sf.se (direktlänk till bokning på SF Bio)\, och anmäl er också (senast två dagar innan) som deltagare här nedan om ni vill vara med på restaurangen och vad ni vill äta. Även icke-medlemmar är varmt välkomna.\nMat (restaurangen ville att vi skulle välja ut tre rätter för att kunna förbereda sig\, men om man vill välja något annat ur menyn går det också bra):\n\nJulius Caesarsallad (romansallad\, krutonger\, krispigt bacon och parmesan. Serveras med Danilos caesardressing.) 139:-\nPasta Caligula (tortiglioni med kyckling\, soltorkade tomater\, vitlök & persilja i en krämig gräddsås) 169:-\nScarface Cheeseburger (gjord på oxbringa och högrev med pepper jack cheese\, sallad\, tomat och rödlök\, serveras välgrillad) 179:-\n\n\nFrågor: besvaras av Tommy Carlsson (epost smilet45@outlook.com\, mobil 0723-219292) eller Andras Lengyel (epost andras.lengyel@svkg.se\, mobil 076-7733911).\n\n  \nVälkomna! \nTouringkommittén och Tommy Carlsson
URL:https://svkg.se/evenemang/filmkvall-superswede-en-film-om-ronnie-peterson/
LOCATION:BioPalatset\, Kungstorget 2\, Göteborg\, Sverige
ORGANIZER;CN="Touringkommitt%C3%A9n":MAILTO:touring@svkg.se
GEO:57.7030886;11.9670907
X-APPLE-STRUCTURED-LOCATION;VALUE=URI;X-ADDRESS=BioPalatset Kungstorget 2 Göteborg Sverige;X-APPLE-RADIUS=500;X-TITLE=Kungstorget 2:geo:11.9670907,57.7030886
END:VEVENT
BEGIN:VEVENT
DTSTART;TZID=Europe/Paris:20170821T100000
DTEND;TZID=Europe/Paris:20170821T170000
DTSTAMP:20260422T071234
CREATED:20170303T200120Z
LAST-MODIFIED:20170704T204519Z
UID:1168-1503309600-1503334800@svkg.se
SUMMARY:Banmöte Anderstorp
DESCRIPTION:SVKG inbjuder alla medlemmar till banträff på Anderstorp Raceway. \nVare sig du kört här tidigare eller ej är detta det perfekta tillfället att testa denna fantastiska bana med sin 980 meter långa raka. Banan är över 4 km lång och är klassisk mark. Den första tävlingen 1968 var ett F3-lopp. Sex F1-lopp och ett antal VM i Superbike är bara något bland mycket annat som har körts här. \nVi kör både registrerade och oregistrerade bilar. \nPraktiska detaljer\n\nTider\n\n10.00 Inskrivning och besiktning startar\n11.15 Obligatoriskt förarmöte\n12.00 – 17.00 Körning i grupper\n\n\nKörpass: Vi delar in oss i 3 grupper – lugna för nybörjare\, lagom för rutinerade förare och race för erfarna förare.\nAnmälan: Beräknas öppna i början av juni. Görs nedan genom biljettköp.\nBesiktning: Alla bilar måste besiktigas före körning.\nMiljökrav: Läs vår miljöpolicy.\nLjudkrav: Högsta tillåtna ljudnivå är c:a 95 dB(A). Banägaren mäter kontinuerligt.\nSäkerhetsutrustning: Hjälm\, handskar och heltäckande bomullsklädsel är obligatorisk. Båge eller bur i öppna bilar.\nFörsäkring: Alla förare och passagerare måste ha licens\, dvs personförsäkring hos SMA. Denna kan skaffas på SMA:s sida för förarlicenser. Som vanligt gäller inte bilens försäkring vid körning på bana. Du kör på egen risk.\nSkador: SVKG förbehåller sig rätten att fakturera kostnader för skador på 2:e man (banans inventarier) till deltagare.\nPassagerare: Tillåtet i alla pass. Passageraren måste också ha SMA-licens.\nMat: Tag med matsäck\, det finns ingen servering/cafeteria vid banan.\nFrågor: kan ställas till Per Oleskog på tel 0707-661889 eller epost per.oleskog@svkg.se.\n\nVälkomna!
URL:https://svkg.se/evenemang/banmote-anderstorp/
LOCATION:Anderstorp Raceway\, Nennesmovägen 20\, Anderstorp\, 33491\, Sverige
ORGANIZER;CN="Racingkommitt%C3%A9n":MAILTO:racing@svkg.se
GEO:57.2615102;13.6013041
X-APPLE-STRUCTURED-LOCATION;VALUE=URI;X-ADDRESS=Anderstorp Raceway Nennesmovägen 20 Anderstorp 33491 Sverige;X-APPLE-RADIUS=500;X-TITLE=Nennesmovägen 20:geo:13.6013041,57.2615102
END:VEVENT
BEGIN:VEVENT
DTSTART;TZID=Europe/Stockholm:20170826T100000
DTEND;TZID=Europe/Stockholm:20170826T160000
DTSTAMP:20260422T071234
CREATED:20170727T123025Z
LAST-MODIFIED:20170801T111215Z
UID:2405-1503741600-1503763200@svkg.se
SUMMARY:Sportvagnsträffen 2017
DESCRIPTION:Sportvagnsträffen på Hofsnäs Herrgård har i år temat Franska sportvagnar. \nSVKG har i år reserverat plats för c:a 20 bilar till de som kommer först. Kom gärna mellan kl 8-10. Alla som ämnar deltaga bör anmäla sig före 21:a augusti på deras hemsida (se nedan under Arrangör). Det går bra att avanmäla sig om det visar sig att man får förhinder. \nDet är ingen avgift och man deltar i lotteriet med 30000 kr i prispengar. \nVälkomna! \nStellan Östlingh & Kalle Pilkrantz
URL:https://svkg.se/evenemang/sportvagnstraffen-2017/
LOCATION:Hofsnäs Herrgård\, Hofsnäs Herrgård\, Länghem\, 51452\, Sverige
ORGANIZER;CN="Sportvagnstr%C3%A4ffen":MAILTO:roland@sportvagnstraffen.se
GEO:57.630027;13.2922019
X-APPLE-STRUCTURED-LOCATION;VALUE=URI;X-ADDRESS=Hofsnäs Herrgård Hofsnäs Herrgård Länghem 51452 Sverige;X-APPLE-RADIUS=500;X-TITLE=Hofsnäs Herrgård:geo:13.2922019,57.630027
END:VEVENT
END:VCALENDAR