BEGIN:VCALENDAR
VERSION:2.0
PRODID:-//Sportvagnsklubben Göteborg - ECPv6.15.11//NONSGML v1.0//EN
CALSCALE:GREGORIAN
METHOD:PUBLISH
X-ORIGINAL-URL:https://svkg.se
X-WR-CALDESC:Evenemang för Sportvagnsklubben Göteborg
REFRESH-INTERVAL;VALUE=DURATION:PT1H
X-Robots-Tag:noindex
X-PUBLISHED-TTL:PT1H
BEGIN:VTIMEZONE
TZID:Europe/Paris
BEGIN:DAYLIGHT
TZOFFSETFROM:+0100
TZOFFSETTO:+0200
TZNAME:CEST
DTSTART:20160327T010000
END:DAYLIGHT
BEGIN:STANDARD
TZOFFSETFROM:+0200
TZOFFSETTO:+0100
TZNAME:CET
DTSTART:20161030T010000
END:STANDARD
BEGIN:DAYLIGHT
TZOFFSETFROM:+0100
TZOFFSETTO:+0200
TZNAME:CEST
DTSTART:20170326T010000
END:DAYLIGHT
BEGIN:STANDARD
TZOFFSETFROM:+0200
TZOFFSETTO:+0100
TZNAME:CET
DTSTART:20171029T010000
END:STANDARD
BEGIN:DAYLIGHT
TZOFFSETFROM:+0100
TZOFFSETTO:+0200
TZNAME:CEST
DTSTART:20180325T010000
END:DAYLIGHT
BEGIN:STANDARD
TZOFFSETFROM:+0200
TZOFFSETTO:+0100
TZNAME:CET
DTSTART:20181028T010000
END:STANDARD
END:VTIMEZONE
BEGIN:VEVENT
DTSTART;TZID=Europe/Paris:20170910T120000
DTEND;TZID=Europe/Paris:20170910T170000
DTSTAMP:20260422T055714
CREATED:20170214T193643Z
LAST-MODIFIED:20170827T165223Z
UID:443-1505044800-1505062800@svkg.se
SUMMARY:Sprint 4 Vårgårda
DESCRIPTION:Vi kör denna sprint nr 4 på Vårgårda flygplats. Här sträcker vi ut A-sprinten i dess fulla längd och bredd. \nPraktiska detaljer\n\nSamling: kl. 12:00. Observera att denna sprint går på en söndag.\nFörsta start: kl. 13:00\nAnmälan: Görs nedan genom biljettköp. Betalning kan också göras på plats via Swish 123-690 07 57.\nFörsäkring: För information om försäkring se generell information om våra sprintrace.\n\nGlöm inte kaffe och matsäck och kom i tid! \nVälkomna!
URL:https://svkg.se/evenemang/rattmuffen-sprint-4/
LOCATION:Vårgårda flygplats\, Vårgårda flygplats\, Vårgårda\, 44721\, Sverige
ORGANIZER;CN="Racingkommitt%C3%A9n":MAILTO:racing@svkg.se
GEO:58.041199;12.788632
X-APPLE-STRUCTURED-LOCATION;VALUE=URI;X-ADDRESS=Vårgårda flygplats Vårgårda flygplats Vårgårda 44721 Sverige;X-APPLE-RADIUS=500;X-TITLE=Vårgårda flygplats:geo:12.788632,58.041199
END:VEVENT
BEGIN:VEVENT
DTSTART;TZID=Europe/Paris:20170923T083000
DTEND;TZID=Europe/Paris:20170923T143000
DTSTAMP:20260422T055714
CREATED:20170214T194100Z
LAST-MODIFIED:20170827T165247Z
UID:447-1506155400-1506177000@svkg.se
SUMMARY:Sprintfinal Kattleberg
DESCRIPTION:Vi åker denna avslutande sprintfinal\, deltävling nr 5\, på Kattleberg Airport i Älvängen. Vi kommer att köra en snabb A-sprintsvariant med flera belönande accelerationer och en och annan inbromsning. \nDagen avslutas med att de tre klassvinnarna gör upp om Mästarnas mästare i Polestar Trophy. \nPraktiska detaljer\n\nSamling: kl. 8:30\nFörsta start: kl. 9:00\nAnmälan: Görs nedan genom biljettköp. Betalning kan också göras på plats via Swish 123-690 07 57.\nMat: Det kommer att finnas korv och dricka till försäljning.\nFörsäkring: För information om försäkring se generell information om våra sprintrace.\n\nKom i tid! \nVälkomna!
URL:https://svkg.se/evenemang/rattmuffen-sprintfinal/
LOCATION:Kattleberg Airport\, Kattleberg Airport 258\, Älvängen\, 44697\, Sverige
ORGANIZER;CN="Racingkommitt%C3%A9n":MAILTO:racing@svkg.se
GEO:57.9797418;12.1429843
X-APPLE-STRUCTURED-LOCATION;VALUE=URI;X-ADDRESS=Kattleberg Airport Kattleberg Airport 258 Älvängen 44697 Sverige;X-APPLE-RADIUS=500;X-TITLE=Kattleberg Airport 258:geo:12.1429843,57.9797418
END:VEVENT
END:VCALENDAR