BEGIN:VCALENDAR
VERSION:2.0
PRODID:-//Sportvagnsklubben Göteborg - ECPv6.15.11//NONSGML v1.0//EN
CALSCALE:GREGORIAN
METHOD:PUBLISH
X-WR-CALNAME:Sportvagnsklubben Göteborg
X-ORIGINAL-URL:https://svkg.se
X-WR-CALDESC:Evenemang för Sportvagnsklubben Göteborg
REFRESH-INTERVAL;VALUE=DURATION:PT1H
X-Robots-Tag:noindex
X-PUBLISHED-TTL:PT1H
BEGIN:VTIMEZONE
TZID:Europe/Stockholm
BEGIN:DAYLIGHT
TZOFFSETFROM:+0100
TZOFFSETTO:+0200
TZNAME:CEST
DTSTART:20160327T010000
END:DAYLIGHT
BEGIN:STANDARD
TZOFFSETFROM:+0200
TZOFFSETTO:+0100
TZNAME:CET
DTSTART:20161030T010000
END:STANDARD
BEGIN:DAYLIGHT
TZOFFSETFROM:+0100
TZOFFSETTO:+0200
TZNAME:CEST
DTSTART:20170326T010000
END:DAYLIGHT
BEGIN:STANDARD
TZOFFSETFROM:+0200
TZOFFSETTO:+0100
TZNAME:CET
DTSTART:20171029T010000
END:STANDARD
BEGIN:DAYLIGHT
TZOFFSETFROM:+0100
TZOFFSETTO:+0200
TZNAME:CEST
DTSTART:20180325T010000
END:DAYLIGHT
BEGIN:STANDARD
TZOFFSETFROM:+0200
TZOFFSETTO:+0100
TZNAME:CET
DTSTART:20181028T010000
END:STANDARD
END:VTIMEZONE
BEGIN:VEVENT
DTSTART;TZID=Europe/Stockholm:20171116T180000
DTEND;TZID=Europe/Stockholm:20171116T220000
DTSTAMP:20260422T025115
CREATED:20171023T182019Z
LAST-MODIFIED:20171109T195027Z
UID:2950-1510855200-1510869600@svkg.se
SUMMARY:Filmkväll
DESCRIPTION:5 dagar\, 3507 km och högsta höjd 3195 m.ö.h. \nAlberto Ascari\, Juan Manuel Fangio\, Phil Hill\, Hermann Lang är bara fyra av alla välkända förare som genomfört tävlingen. 1954 bröt Carroll Shelby armen under träning och två år tidigare krockade Karl Kling och Hans Klenk i en 300SL med en fågel i 200 km/h i vad som av samtiden ansågs som världens farligaste biltävling. Under inspelning av denna road-movie krockade huvudpersonen sin 1952 Jaguar C-type och hans co-driver bröt benet. \nVälkomna på vintertorsdagsträff med SVKG. Torsdagen 16/11 visar vi en film om ett legendariskt och farligt lopp som ursprungligen hölls på det tidiga 1950-talet. Ett par välkända musiker tar oss med på en tur med 240 internationella förare och deras 120 sällsynta vagnar i denna 4:e re-run år 1991 av det klassiska loppet. \nSom filmmusik hör vi även låtar skapade av ett världskänt rockband\, i vilket ovan nämnda musiker faktiskt också är medlemmar i. \nInnan filmen börjar serverar Team 13:s restaurang en god middag\, som vi avnjuter tillsammans. \nPraktiska detaljer\n\nMeny: Hemlig! Anpassad till filmens tema.\nAnmälan: Obligatorisk och görs här nedan senast 2017-11-12 (anmälan efter detta datum på annat sätt kommer inte att accepteras). I fältet Speciella önskemål kan ni meddela exv. allergier som köket behöver få reda på i förväg. Vi har alltså ökat totalt antal platser till 60 och förlängt anmälningstiden några dagar.\nFrågor: Kan besvaras av David Dahl på telefon 0706-169169 eller epost david.dahl@svkg.se.\n\nVälkomna!
URL:https://svkg.se/evenemang/filmkvall-20171116/
LOCATION:Team 13\, Bulyckevägen 20\, Göteborg\, 41878\, Sverige
ORGANIZER;CN="Touringkommitt%C3%A9n":MAILTO:touring@svkg.se
GEO:57.7204138;11.813658
X-APPLE-STRUCTURED-LOCATION;VALUE=URI;X-ADDRESS=Team 13 Bulyckevägen 20 Göteborg 41878 Sverige;X-APPLE-RADIUS=500;X-TITLE=Bulyckevägen 20:geo:11.813658,57.7204138
END:VEVENT
BEGIN:VEVENT
DTSTART;TZID=Europe/Stockholm:20171125T090000
DTEND;TZID=Europe/Stockholm:20171125T140000
DTSTAMP:20260422T025115
CREATED:20171011T112337Z
LAST-MODIFIED:20180110T202455Z
UID:2895-1511600400-1511618400@svkg.se
SUMMARY:Råttsprint 1 - Kattleberg
DESCRIPTION:SVKG Råttsprint är en konbanetävling där vi deltar med våra vardagsbilar. Tävlingarna körs på uppkonad\, kall och förhoppningsvis hal asfaltsbana. Vi samlas kl. 9.00 och tävlingen pågår 10-14. \nPraktiska detaljer\n\nSamling: kl. 9.00\nFörsta start: kl. 10.00\nAnmälan: Görs nedan genom biljettköp. Betalning kan också göras på plats via Swish 123-690 07 57.\nMat: Det kommer att finnas korv och hamburgare till försäljning.\nKontaktperson: Anders Johansson\, tel: 0705-341100 eller epost: anders.johansson@svkg.se.\n\n  \nVälkomna!
URL:https://svkg.se/evenemang/raattsprint-2017-1/
LOCATION:Kattleberg Airport\, Kattleberg Airport 258\, Älvängen\, 44697\, Sverige
ORGANIZER;CN="Racingkommitt%C3%A9n":MAILTO:racing@svkg.se
GEO:57.9797418;12.1429843
X-APPLE-STRUCTURED-LOCATION;VALUE=URI;X-ADDRESS=Kattleberg Airport Kattleberg Airport 258 Älvängen 44697 Sverige;X-APPLE-RADIUS=500;X-TITLE=Kattleberg Airport 258:geo:12.1429843,57.9797418
END:VEVENT
END:VCALENDAR