BEGIN:VCALENDAR
VERSION:2.0
PRODID:-//Sportvagnsklubben Göteborg - ECPv6.15.11//NONSGML v1.0//EN
CALSCALE:GREGORIAN
METHOD:PUBLISH
X-WR-CALNAME:Sportvagnsklubben Göteborg
X-ORIGINAL-URL:https://svkg.se
X-WR-CALDESC:Evenemang för Sportvagnsklubben Göteborg
REFRESH-INTERVAL;VALUE=DURATION:PT1H
X-Robots-Tag:noindex
X-PUBLISHED-TTL:PT1H
BEGIN:VTIMEZONE
TZID:Europe/Paris
BEGIN:DAYLIGHT
TZOFFSETFROM:+0100
TZOFFSETTO:+0200
TZNAME:CEST
DTSTART:20160327T010000
END:DAYLIGHT
BEGIN:STANDARD
TZOFFSETFROM:+0200
TZOFFSETTO:+0100
TZNAME:CET
DTSTART:20161030T010000
END:STANDARD
BEGIN:DAYLIGHT
TZOFFSETFROM:+0100
TZOFFSETTO:+0200
TZNAME:CEST
DTSTART:20170326T010000
END:DAYLIGHT
BEGIN:STANDARD
TZOFFSETFROM:+0200
TZOFFSETTO:+0100
TZNAME:CET
DTSTART:20171029T010000
END:STANDARD
BEGIN:DAYLIGHT
TZOFFSETFROM:+0100
TZOFFSETTO:+0200
TZNAME:CEST
DTSTART:20180325T010000
END:DAYLIGHT
BEGIN:STANDARD
TZOFFSETFROM:+0200
TZOFFSETTO:+0100
TZNAME:CET
DTSTART:20181028T010000
END:STANDARD
END:VTIMEZONE
BEGIN:VEVENT
DTSTART;TZID=Europe/Paris:20171212T180000
DTEND;TZID=Europe/Paris:20171212T220000
DTSTAMP:20260422T014247
CREATED:20161110T121751Z
LAST-MODIFIED:20180113T205930Z
UID:166-1513101600-1513116000@svkg.se
SUMMARY:Glöggmuffen 2017
DESCRIPTION:Enligt tradition anordnar vi Glöggmuffen runt Lucia. Precis som föregående år kombinerar vi lussekatter\, glögg och bilsnack med digital racing. \nNu är det äntligen dags igen! Vi dukar upp med lussekatter\, glögg\, julmust och annat (h)juligt i Smedjan. \nRacingstol för SVKG Virtuell Racing Cup testas av konstruktören själv\, Oscar Kärrqvist.\nTill detta kommer vi att köra säsongens första omgång av SVKG Virtuell Racing Cup 2017-2018\, vår digitala racing på storskärm med projektor. Vi riggar upp med ratt\, växelspak\, pedalställ och kör racing i Forza Motorsport på Xbox. Nytt för i år är att vi sitter i en racingstol\, allt för att höja upplevelsen. \nPraktiska detaljer\n\nAnmälan: Ej obligatorisk\, men vi vill ändå att ni anmäler er här nedan för att vi ska få en uppfattning om hur många som kommer.\nFrågor: Kan ställas till David Dahl på mobil 0706-169169 eller via epost david.dahl@svkg.se.\n\nVälkomna!
URL:https://svkg.se/evenemang/gloggmuffen-2017/
LOCATION:Smedjan\, Hults gata 26\, Askim\, 43644\, Sweden
ORGANIZER;CN="Touringkommitt%C3%A9n":MAILTO:touring@svkg.se
GEO:57.635582;11.925313
X-APPLE-STRUCTURED-LOCATION;VALUE=URI;X-ADDRESS=Smedjan Hults gata 26 Askim 43644 Sweden;X-APPLE-RADIUS=500;X-TITLE=Hults gata 26:geo:11.925313,57.635582
END:VEVENT
END:VCALENDAR