BEGIN:VCALENDAR
VERSION:2.0
PRODID:-//Sportvagnsklubben Göteborg - ECPv6.15.11//NONSGML v1.0//EN
CALSCALE:GREGORIAN
METHOD:PUBLISH
X-ORIGINAL-URL:https://svkg.se
X-WR-CALDESC:Evenemang för Sportvagnsklubben Göteborg
REFRESH-INTERVAL;VALUE=DURATION:PT1H
X-Robots-Tag:noindex
X-PUBLISHED-TTL:PT1H
BEGIN:VTIMEZONE
TZID:Europe/Stockholm
BEGIN:DAYLIGHT
TZOFFSETFROM:+0100
TZOFFSETTO:+0200
TZNAME:CEST
DTSTART:20170326T010000
END:DAYLIGHT
BEGIN:STANDARD
TZOFFSETFROM:+0200
TZOFFSETTO:+0100
TZNAME:CET
DTSTART:20171029T010000
END:STANDARD
BEGIN:DAYLIGHT
TZOFFSETFROM:+0100
TZOFFSETTO:+0200
TZNAME:CEST
DTSTART:20180325T010000
END:DAYLIGHT
BEGIN:STANDARD
TZOFFSETFROM:+0200
TZOFFSETTO:+0100
TZNAME:CET
DTSTART:20181028T010000
END:STANDARD
BEGIN:DAYLIGHT
TZOFFSETFROM:+0100
TZOFFSETTO:+0200
TZNAME:CEST
DTSTART:20190331T010000
END:DAYLIGHT
BEGIN:STANDARD
TZOFFSETFROM:+0200
TZOFFSETTO:+0100
TZNAME:CET
DTSTART:20191027T010000
END:STANDARD
END:VTIMEZONE
BEGIN:VEVENT
DTSTART;TZID=Europe/Stockholm:20180409T100000
DTEND;TZID=Europe/Stockholm:20180409T160000
DTSTAMP:20260421T204308
CREATED:20171110T210931Z
LAST-MODIFIED:20180408T220937Z
UID:3113-1523268000-1523289600@svkg.se
SUMMARY:Banmöte Rudskogen
DESCRIPTION:SVKG bjuder in till bankörning på fantastiska Rudskogen i Norge. C:a 22 mil från Göteborg ligger nordens coolaste bana med långa raksträckor\, otroliga backar och vänligt bemötande. \nVi kör endast gatregistrerade och kontrollbesiktigade bilar vid detta tillfälle\, alla bilar skall alltså vara påställda och trafikförsäkrade. \nPraktiska detaljer\n\nTider\n\n10.00 Inskrivning och besiktning startar\n11.15 Obligatoriskt förarmöte\n12.00 – 16.00 Körning i grupper\n\n\nAnmälan: Görs genom biljettköp nedan.\nBesiktning: Före körning måste din bil vara besiktigad.\nMiljökrav: Läs vår miljöpolicy.\nLjudkrav: Vid besiktning måste alla bilar klara bullerkravet 100 dB vid 4.500 varv mätt 45° från avgasröret 20 cm från marken. Inga undantag.\nSäkerhetsutrustning: Hjälm\, handskar och heltäckande bomullsklädsel är obligatorisk. Båge eller bur i öppna bilar.\nFörsäkring: Alla förare och passagerare måste ha licens\, dvs personförsäkring hos SMA. Denna kan skaffas på SMA:s sida för förarlicenser. Som vanligt gäller inte bilens försäkring vid körning på bana. Du kör på egen risk.\nSkador: SVKG förbehåller sig rätten att fakturera kostnader för skador på 2:e man (banans inventarier) till deltagare.\nPassagerare: Tillåtet i alla pass. Passageraren måste också ha SMA-licens.\nÖvrigt: Box finns att hyra (100 m²\, 750 NOK)\, fyra bilar får plats.\nFrågor: Kontakta Tommy Falck på tel 0703-14 00 22 eller epost tommy.falck@svkg.se.\n\nGlöm inte kaffe och mackor och ta med paraply så får vi fint väder. \nVälkommen!
URL:https://svkg.se/evenemang/banmote-rudskogen-20180409/
LOCATION:Rudskogen Motorsenter\, Motorsportveien 180\, Rakkestad\, 1890\, Norge
ORGANIZER;CN="Racingkommitt%C3%A9n":MAILTO:racing@svkg.se
GEO:59.3679798;11.2620216
X-APPLE-STRUCTURED-LOCATION;VALUE=URI;X-ADDRESS=Rudskogen Motorsenter Motorsportveien 180 Rakkestad 1890 Norge;X-APPLE-RADIUS=500;X-TITLE=Motorsportveien 180:geo:11.2620216,59.3679798
END:VEVENT
BEGIN:VEVENT
DTSTART;TZID=Europe/Stockholm:20180414T083000
DTEND;TZID=Europe/Stockholm:20180414T133000
DTSTAMP:20260421T204308
CREATED:20180110T205953Z
LAST-MODIFIED:20180413T101645Z
UID:3793-1523694600-1523712600@svkg.se
SUMMARY:Sprint 1 Kattleberg
DESCRIPTION:Vi kör denna sprint nr 1 på Kattleberg Airport i Älvängen. Vi kommer att köra en snabb A-sprintsvariant med flera belönande accelerationer och en och annan inbromsning. \nPraktiska detaljer\n\nSamling: kl. 8:30\nFörsta start: kl. 9:00\nAnmälan: Görs nedan genom biljettköp. Betalning kan också göras på plats via Swish 123-690 07 57.\nFörsäkring: För information om försäkring se generell information om våra sprintrace.\n\nGlöm inte kaffe och macka och kom i tid! \nVälkomna till årets första SVKG-Sprint!
URL:https://svkg.se/evenemang/sprintrace-2018-1/
LOCATION:Kattleberg Airport\, Kattleberg Airport 258\, Älvängen\, 44697\, Sverige
ORGANIZER;CN="Racingkommitt%C3%A9n":MAILTO:racing@svkg.se
GEO:57.9797418;12.1429843
X-APPLE-STRUCTURED-LOCATION;VALUE=URI;X-ADDRESS=Kattleberg Airport Kattleberg Airport 258 Älvängen 44697 Sverige;X-APPLE-RADIUS=500;X-TITLE=Kattleberg Airport 258:geo:12.1429843,57.9797418
END:VEVENT
BEGIN:VEVENT
DTSTART;TZID=Europe/Stockholm:20180426T150000
DTEND;TZID=Europe/Stockholm:20180426T200000
DTSTAMP:20260421T204308
CREATED:20170906T123925Z
LAST-MODIFIED:20180412T140313Z
UID:2765-1524754800-1524772800@svkg.se
SUMMARY:Vårruset 2018
DESCRIPTION:Nu är det åter dags att ta ut och lufta våra sportvagnar på racerbanan. Det efterlängtade Vårruset\, går av stapeln på Falkenbergs Motorbana 26:e april och vi har hela banan till vårt förfogande från eftermiddag till solen försvinner bakom träden i väst. \nProgrammet omfattar fri körning för samtliga bilar utan tidtagning\, med eller utan passagerare enl. nedan. \nPraktiska detaljer\n\nTider:\n\n15.00 – 16.30 Inskrivning och besiktning\n16.30 – 16.40 Förarsammanträde\n17.00 – 20.00 Fri körning för samtliga bilar utan officiell tidtagning indelade i 3 grupper med 12-13-minuterspass. OBS! Innan körning måste bilarna vara besiktigade.\n\n\nKörpass: Lugna passet för nybörjare\, lagom-passet för rutinerade förare och race-passet för erfarna förare.\nAnmälan: Görs nedan genom biljettköp.\nBesiktning: Före körning måste din bil vara besiktigad.\nMiljökrav: Läs vår miljöpolicy.\nLjudkrav: För samtliga bilar gäller bullerkravet max 95 dB(A) vid förbipassering under acceleration. De bilar som ej klarar denna gräns måste tyvärr tas av banan.\nSäkerhetsutrustning: dig själv: hjälm\, handskar\, läderskor samt heltäckande bomullsklädsel\, din bil: säkerhetsbälte\, båge i öppen bil.\nFörsäkring: Alla förare och passagerare måste ha licens\, dvs personförsäkring hos SMA. Denna kan skaffas på SMA:s sida för förarlicenser. Som vanligt gäller inte bilens försäkring vid körning på bana. Du kör på egen risk.\nSkador: SVKG förbehåller sig rätten att fakturera kostnader för skador på 2:e man (banans inventarier) till deltagare.\nPassagerare: Tillåtet i alla pass. Passageraren måste också ha SMA-licens.\nOrganisationskommitté :\n\nHuvudansvarig – Sten Ljungquist\, tel: 0705-930265\, epost: sten.ljungquist@svkg.se\nBesiktningschef – Kalle Pilkrantz\, tel: 0708-293455\, epost: kallepilkrantz@gmail.com\n\n\n\nVälkommen!
URL:https://svkg.se/evenemang/varruset-2018/
LOCATION:Falkenbergs Motorbana\, Falkenbergs Motorbana\, Falkenberg\, 31195\, Sweden
ORGANIZER;CN="Racingkommitt%C3%A9n":MAILTO:racing@svkg.se
GEO:56.977519178514;12.563685122501
X-APPLE-STRUCTURED-LOCATION;VALUE=URI;X-ADDRESS=Falkenbergs Motorbana Falkenbergs Motorbana Falkenberg 31195 Sweden;X-APPLE-RADIUS=500;X-TITLE=Falkenbergs Motorbana:geo:12.563685122501,56.977519178514
END:VEVENT
END:VCALENDAR