BEGIN:VCALENDAR
VERSION:2.0
PRODID:-//Sportvagnsklubben Göteborg - ECPv6.15.11//NONSGML v1.0//EN
CALSCALE:GREGORIAN
METHOD:PUBLISH
X-WR-CALNAME:Sportvagnsklubben Göteborg
X-ORIGINAL-URL:https://svkg.se
X-WR-CALDESC:Evenemang för Sportvagnsklubben Göteborg
REFRESH-INTERVAL;VALUE=DURATION:PT1H
X-Robots-Tag:noindex
X-PUBLISHED-TTL:PT1H
BEGIN:VTIMEZONE
TZID:Europe/Stockholm
BEGIN:DAYLIGHT
TZOFFSETFROM:+0100
TZOFFSETTO:+0200
TZNAME:CEST
DTSTART:20170326T010000
END:DAYLIGHT
BEGIN:STANDARD
TZOFFSETFROM:+0200
TZOFFSETTO:+0100
TZNAME:CET
DTSTART:20171029T010000
END:STANDARD
BEGIN:DAYLIGHT
TZOFFSETFROM:+0100
TZOFFSETTO:+0200
TZNAME:CEST
DTSTART:20180325T010000
END:DAYLIGHT
BEGIN:STANDARD
TZOFFSETFROM:+0200
TZOFFSETTO:+0100
TZNAME:CET
DTSTART:20181028T010000
END:STANDARD
BEGIN:DAYLIGHT
TZOFFSETFROM:+0100
TZOFFSETTO:+0200
TZNAME:CEST
DTSTART:20190331T010000
END:DAYLIGHT
BEGIN:STANDARD
TZOFFSETFROM:+0200
TZOFFSETTO:+0100
TZNAME:CET
DTSTART:20191027T010000
END:STANDARD
END:VTIMEZONE
BEGIN:VEVENT
DTSTART;TZID=Europe/Stockholm:20180908T083000
DTEND;TZID=Europe/Stockholm:20180908T143000
DTSTAMP:20260422T002433
CREATED:20180110T212353Z
LAST-MODIFIED:20180827T115520Z
UID:3804-1536395400-1536417000@svkg.se
SUMMARY:Sprint 4 / Sprintfinal Vårgårda
DESCRIPTION:Vi åker denna avslutande sprintfinal\, deltävling nr 4\, på Vårgårda flygplats. Vi kommer att köra en snabb A-sprintsvariant med flera belönande accelerationer och en och annan inbromsning. \nDagen avslutas med att de tre klassvinnarna gör upp om Mästarnas mästare i Polestar Trophy. \nPraktiska detaljer\n\nSamling: kl. 8:30\nFörsta start: kl. 9:00\nAnmälan: Görs nedan genom biljettköp. Betalning kan också göras på plats via Swish 123-690 07 57.\nFörsäkring: För information om försäkring se generell information om våra sprintrace.\n\nGlöm inte kaffe och matsäck och kom i tid! \nVälkomna!
URL:https://svkg.se/evenemang/sprintrace-2018-4/
LOCATION:Vårgårda flygplats\, Vårgårda flygplats\, Vårgårda\, 44721\, Sverige
ORGANIZER;CN="Racingkommitt%C3%A9n":MAILTO:racing@svkg.se
GEO:58.041199;12.788632
X-APPLE-STRUCTURED-LOCATION;VALUE=URI;X-ADDRESS=Vårgårda flygplats Vårgårda flygplats Vårgårda 44721 Sverige;X-APPLE-RADIUS=500;X-TITLE=Vårgårda flygplats:geo:12.788632,58.041199
END:VEVENT
BEGIN:VEVENT
DTSTART;TZID=Europe/Stockholm:20180927T140000
DTEND;TZID=Europe/Stockholm:20180927T190000
DTSTAMP:20260422T002433
CREATED:20170906T125618Z
LAST-MODIFIED:20180625T153109Z
UID:2770-1538056800-1538074800@svkg.se
SUMMARY:Höstrus(k)et 2018
DESCRIPTION:Årets sista banträff på snabba Falkenbergs Motorbana. Vår närmaste banträff innan det är dags att tvätta\, putsa och garagera våra ögonstenar inför vintern med snö och kyla. Nästan alltid slutsålt på dagen\, så håll koll på biljettsläppet i våra nyhetsbrev. \nProgrammet omfattar fri körning för samtliga bilar utan tidtagning\, med eller utan passagerare (gäller samtliga pass). \nPraktiska detaljer\n\nTider\n\n14.00 – 15.30 Inskrivning och besiktning\n15.30 – 15.40 Förarsammanträde\n16.00 – 19.00 Fri körning för samtliga bilar utan officiell tidtagning indelade i 3 grupper med 12-13-minuterspass.\n\n\nKörpass: Vi delar in oss i tre grupper – lugna för nybörjare\, lagom för rutinerade förare och race för erfarna förare.\nAnmälan: Görs nedan genom biljettköp.\nBesiktning: Före körning måste din bil vara besiktigad.\nMiljökrav: Läs vår miljöpolicy.\nLjudkrav: För samtliga bilar gäller bullerkravet max 95 dB(A) vid förbipassering under acceleration. De bilar som ej klarar denna gräns måste tyvärr tas av banan.\nSäkerhetsutrustning: Hjälm\, handskar och heltäckande bomullsklädsel är obligatorisk. Båge eller bur i öppna bilar.\nFörsäkring: Alla förare och passagerare måste ha licens\, dvs personförsäkring hos SMA. Denna kan skaffas på SMA:s sida för förarlicenser. Som vanligt gäller inte bilens försäkring vid körning på bana. Du kör på egen risk.\nSkador: SVKG förbehåller sig rätten att fakturera kostnader för skador på 2:e man (banans inventarier) till deltagare.\nPassagerare: Tillåtet i alla pass. Passageraren måste också ha SMA-licens.\nOrganisationskommitée\n\nHuvudansvarig – Sten Ljungquist\, tel: 0705-93 02 65\, epost: sten.ljungquist@svkg.se\nBesiktningschef – Kalle Pilkrantz\, tel: 0708-293455\, epost: kallepilkrantz@gmail.com\n\n\n\nVälkommen!
URL:https://svkg.se/evenemang/hostrusket-2018/
LOCATION:Falkenbergs Motorbana\, Falkenbergs Motorbana\, Falkenberg\, 31195\, Sweden
ORGANIZER;CN="Racingkommitt%C3%A9n":MAILTO:racing@svkg.se
GEO:56.977519178514;12.563685122501
X-APPLE-STRUCTURED-LOCATION;VALUE=URI;X-ADDRESS=Falkenbergs Motorbana Falkenbergs Motorbana Falkenberg 31195 Sweden;X-APPLE-RADIUS=500;X-TITLE=Falkenbergs Motorbana:geo:12.563685122501,56.977519178514
END:VEVENT
END:VCALENDAR