BEGIN:VCALENDAR
VERSION:2.0
PRODID:-//Sportvagnsklubben Göteborg - ECPv6.15.11//NONSGML v1.0//EN
CALSCALE:GREGORIAN
METHOD:PUBLISH
X-WR-CALNAME:Sportvagnsklubben Göteborg
X-ORIGINAL-URL:https://svkg.se
X-WR-CALDESC:Evenemang för Sportvagnsklubben Göteborg
REFRESH-INTERVAL;VALUE=DURATION:PT1H
X-Robots-Tag:noindex
X-PUBLISHED-TTL:PT1H
BEGIN:VTIMEZONE
TZID:Europe/Stockholm
BEGIN:DAYLIGHT
TZOFFSETFROM:+0100
TZOFFSETTO:+0200
TZNAME:CEST
DTSTART:20170326T010000
END:DAYLIGHT
BEGIN:STANDARD
TZOFFSETFROM:+0200
TZOFFSETTO:+0100
TZNAME:CET
DTSTART:20171029T010000
END:STANDARD
BEGIN:DAYLIGHT
TZOFFSETFROM:+0100
TZOFFSETTO:+0200
TZNAME:CEST
DTSTART:20180325T010000
END:DAYLIGHT
BEGIN:STANDARD
TZOFFSETFROM:+0200
TZOFFSETTO:+0100
TZNAME:CET
DTSTART:20181028T010000
END:STANDARD
BEGIN:DAYLIGHT
TZOFFSETFROM:+0100
TZOFFSETTO:+0200
TZNAME:CEST
DTSTART:20190331T010000
END:DAYLIGHT
BEGIN:STANDARD
TZOFFSETFROM:+0200
TZOFFSETTO:+0100
TZNAME:CET
DTSTART:20191027T010000
END:STANDARD
END:VTIMEZONE
BEGIN:VEVENT
DTSTART;TZID=Europe/Stockholm:20181003T180000
DTEND;TZID=Europe/Stockholm:20181003T220000
DTSTAMP:20260422T013444
CREATED:20180829T105104Z
LAST-MODIFIED:20181003T120927Z
UID:5954-1538589600-1538604000@svkg.se
SUMMARY:Nattrallyt 2018
DESCRIPTION:Dags för årets mörkaste händelse\, SVKG ”Nightmare” Nattrally! \nVi samlas klockan 18.00 vid södra änden på IKEA Kållereds parkering. 18.30 går startskottet och mörka kurviga vägar leder fram till målet\, där de som önskar njuter av en god höstmåltid på ”hemlig” ort. \nTag chansen att rasta ögonstenen en sista gång inför vintersömnen och häng med på en tur i goda vänners lag! \nKarta och färdväg\n\n\n\n\n\n\n\nKlicka på QR-koden eller scanna den med en QR-läsare för att öppna kartan separat i Google Maps. \nPraktiska detaljer\n\nSamling: onsdagen den 3/10 kl. 18.00 vid södra änden på IKEA Kållereds parkering.\nFörsta start: kl 18.30\nStartavgift: Ingen! Restaurangbesöket sker till självkostnadspris. Vi kommer att smaka på en utsökt Schweinhaxe (245 kr) eller Wienerschnitzel (235 kr). Önskas något annat finns det á la carte-meny.\nSluttid: Efter avslutad måltid\, c:a kl. 22.00.\nAnmälan: Anmälan (öppnar 1/9 kl. 20.00) är obligatorisk och görs här nedan senast onsdagen 26/9.\nFrågor: Ställs till David Dahl på telefon 0706-169169 eller epost david.dahl@svkg.se.\n\n  \nVälkomna! \nTouringkommittén
URL:https://svkg.se/evenemang/nattrallyt-2018/
ORGANIZER;CN="Touringkommitt%C3%A9n":MAILTO:touring@svkg.se
END:VEVENT
END:VCALENDAR