BEGIN:VCALENDAR
VERSION:2.0
PRODID:-//Sportvagnsklubben Göteborg - ECPv6.15.11//NONSGML v1.0//EN
CALSCALE:GREGORIAN
METHOD:PUBLISH
X-WR-CALNAME:Sportvagnsklubben Göteborg
X-ORIGINAL-URL:https://svkg.se
X-WR-CALDESC:Evenemang för Sportvagnsklubben Göteborg
REFRESH-INTERVAL;VALUE=DURATION:PT1H
X-Robots-Tag:noindex
X-PUBLISHED-TTL:PT1H
BEGIN:VTIMEZONE
TZID:Europe/Stockholm
BEGIN:DAYLIGHT
TZOFFSETFROM:+0100
TZOFFSETTO:+0200
TZNAME:CEST
DTSTART:20170326T010000
END:DAYLIGHT
BEGIN:STANDARD
TZOFFSETFROM:+0200
TZOFFSETTO:+0100
TZNAME:CET
DTSTART:20171029T010000
END:STANDARD
BEGIN:DAYLIGHT
TZOFFSETFROM:+0100
TZOFFSETTO:+0200
TZNAME:CEST
DTSTART:20180325T010000
END:DAYLIGHT
BEGIN:STANDARD
TZOFFSETFROM:+0200
TZOFFSETTO:+0100
TZNAME:CET
DTSTART:20181028T010000
END:STANDARD
BEGIN:DAYLIGHT
TZOFFSETFROM:+0100
TZOFFSETTO:+0200
TZNAME:CEST
DTSTART:20190331T010000
END:DAYLIGHT
BEGIN:STANDARD
TZOFFSETFROM:+0200
TZOFFSETTO:+0100
TZNAME:CET
DTSTART:20191027T010000
END:STANDARD
END:VTIMEZONE
BEGIN:VEVENT
DTSTART;TZID=Europe/Stockholm:20181208T090000
DTEND;TZID=Europe/Stockholm:20181208T140000
DTSTAMP:20260422T041032
CREATED:20181025T215623Z
LAST-MODIFIED:20181127T131218Z
UID:6230-1544259600-1544277600@svkg.se
SUMMARY:SVKG Råttsprint 1 - Kattleberg
DESCRIPTION:SVKG Råttsprint är en konbanetävling där vi deltar med våra vardagsbilar. Tävlingarna körs på uppkonad\, kall och förhoppningsvis hal asfaltsbana. Vi samlas kl. 9.00 och tävlingen pågår 10-14. \nPraktiska detaljer\n\nSamling: kl. 9.00\nFörsta start: kl. 10.00\nAnmälan: Görs nedan genom biljettköp. Betalning kan också göras på plats via Swish 123-690 07 57.\nMat: Det kommer att finnas korv och hamburgare till försäljning.\nKontaktperson: Anders Johansson\, tel: 0705-341100 eller epost: anders.johansson@svkg.se.\n\n  \nVälkomna!
URL:https://svkg.se/evenemang/raattsprint-2018-1/
LOCATION:Kattleberg Airport\, Kattleberg Airport 258\, Älvängen\, 44697\, Sverige
ORGANIZER;CN="Racingkommitt%C3%A9n":MAILTO:racing@svkg.se
GEO:57.9797418;12.1429843
X-APPLE-STRUCTURED-LOCATION;VALUE=URI;X-ADDRESS=Kattleberg Airport Kattleberg Airport 258 Älvängen 44697 Sverige;X-APPLE-RADIUS=500;X-TITLE=Kattleberg Airport 258:geo:12.1429843,57.9797418
END:VEVENT
BEGIN:VEVENT
DTSTART;TZID=Europe/Stockholm:20181211T180000
DTEND;TZID=Europe/Stockholm:20181211T220000
DTSTAMP:20260422T041032
CREATED:20181114T225819Z
LAST-MODIFIED:20191126T204616Z
UID:6371-1544551200-1544565600@svkg.se
SUMMARY:Glöggmuffen 2018
DESCRIPTION:Enligt tradition anordnar vi Glöggmuffen runt Lucia. Precis som föregående år kombinerar vi lussekatter\, glögg och bilsnack med digital racing. \nNu är det äntligen dags igen! Vi dukar upp med lussekatter\, glögg\, julmust och annat (h)juligt i Smedjan. \nVi använder racingstol i SVKG Virtuell Racing Cup.\nVi kommer också att inleda säsongen för vår digitala racingserie SVKG Virtuell Racing Cup 2018-2019 med den första omgången. Vi riggar upp med storbildsskärm/projektor\, ratt\, växelspak\, pedalställ och kör racing i Forza Motorsport på Xbox eller Playstation. \nPraktiska detaljer\n\nAnmälan: Ej obligatorisk\, men önskvärt så att vi får en uppfattning om hur många som kommer.\nFrågor: Kan ställas till Micael Lidmalm på mobil 0735-267326\, David Dahl på mobil 0706-169169 eller via epost till touring@svkg.se.\n\nVälkomna!
URL:https://svkg.se/evenemang/gloggmuffen-2018/
LOCATION:Smedjan\, Hults gata 26\, Askim\, 43644\, Sweden
ORGANIZER;CN="Touringkommitt%C3%A9n":MAILTO:touring@svkg.se
GEO:57.635582;11.925313
X-APPLE-STRUCTURED-LOCATION;VALUE=URI;X-ADDRESS=Smedjan Hults gata 26 Askim 43644 Sweden;X-APPLE-RADIUS=500;X-TITLE=Hults gata 26:geo:11.925313,57.635582
END:VEVENT
END:VCALENDAR