BEGIN:VCALENDAR
VERSION:2.0
PRODID:-//Sportvagnsklubben Göteborg - ECPv6.15.11//NONSGML v1.0//EN
CALSCALE:GREGORIAN
METHOD:PUBLISH
X-WR-CALNAME:Sportvagnsklubben Göteborg
X-ORIGINAL-URL:https://svkg.se
X-WR-CALDESC:Evenemang för Sportvagnsklubben Göteborg
REFRESH-INTERVAL;VALUE=DURATION:PT1H
X-Robots-Tag:noindex
X-PUBLISHED-TTL:PT1H
BEGIN:VTIMEZONE
TZID:Europe/Stockholm
BEGIN:DAYLIGHT
TZOFFSETFROM:+0100
TZOFFSETTO:+0200
TZNAME:CEST
DTSTART:20180325T010000
END:DAYLIGHT
BEGIN:STANDARD
TZOFFSETFROM:+0200
TZOFFSETTO:+0100
TZNAME:CET
DTSTART:20181028T010000
END:STANDARD
BEGIN:DAYLIGHT
TZOFFSETFROM:+0100
TZOFFSETTO:+0200
TZNAME:CEST
DTSTART:20190331T010000
END:DAYLIGHT
BEGIN:STANDARD
TZOFFSETFROM:+0200
TZOFFSETTO:+0100
TZNAME:CET
DTSTART:20191027T010000
END:STANDARD
BEGIN:DAYLIGHT
TZOFFSETFROM:+0100
TZOFFSETTO:+0200
TZNAME:CEST
DTSTART:20200329T010000
END:DAYLIGHT
BEGIN:STANDARD
TZOFFSETFROM:+0200
TZOFFSETTO:+0100
TZNAME:CET
DTSTART:20201025T010000
END:STANDARD
END:VTIMEZONE
BEGIN:VEVENT
DTSTART;TZID=Europe/Stockholm:20190603T173000
DTEND;TZID=Europe/Stockholm:20190603T200000
DTSTAMP:20260422T124607
CREATED:20190317T214223Z
LAST-MODIFIED:20190528T211417Z
UID:7718-1559583000-1559592000@svkg.se
SUMMARY:KM Utomhusgokart 2019
DESCRIPTION:SVKG inbjuder klubbens medlemmar att deltaga i Klubbmästerskap i Utomhusgokart på vår hemmabana på Team 13 i Bulycke. Utöver äran kör vi om vandringspokalen skänkt av Team 13. \nPraktiska detaljer\n\nTider\n\n17.30 Samling\n18.00 Start\n\n\nUpplägg: Vi kör träning\, kval och final.\nAnmälan: Görs nedan och är bindande.\nRestaurang: Den är öppen och erbjuder enklare förtäring såsom hamburgare\, kebab/pommes\, dricka\, kaffe\, te och glass.\nFrågor: Besvaras av Tommy Falck på telefon 0703-140022 eller epost tommy.falck@svkg.se.\n\nMöjlighet till träning dagligen\, drop-in om banan inte är bokad. Kolla på www.gokart.se. \n  \nVälkommen! \nRacingkommittén
URL:https://svkg.se/evenemang/km-utomhusgokart-2019/
LOCATION:Team 13\, Bulyckevägen 20\, Göteborg\, 41878\, Sverige
ORGANIZER;CN="Racingkommitt%C3%A9n":MAILTO:racing@svkg.se
GEO:57.7204138;11.813658
X-APPLE-STRUCTURED-LOCATION;VALUE=URI;X-ADDRESS=Team 13 Bulyckevägen 20 Göteborg 41878 Sverige;X-APPLE-RADIUS=500;X-TITLE=Bulyckevägen 20:geo:11.813658,57.7204138
END:VEVENT
BEGIN:VEVENT
DTSTART;TZID=Europe/Stockholm:20190606T180000
DTEND;TZID=Europe/Stockholm:20190606T210000
DTSTAMP:20260422T124607
CREATED:20190301T205632Z
LAST-MODIFIED:20190604T201651Z
UID:7603-1559844000-1559854800@svkg.se
SUMMARY:Torsdagsträff
DESCRIPTION:Vid våra torsdagsträffar gör vi utflykter till olika platser hela sommarsäsongen. Vi åker på trevliga ”körvänliga” vägar\, ca 2-4 mil\, till något kafé eller restaurang någonstans runt göteborgsområdet. \nDenna kväll tar oss turen till Hindås station i Hindås\, där det som tidigare finns andra bilar och klubbar som samlats framför stationshuset. Vi samlas på parkeringen utanför Systembolaget på Torpavallsgatan i Munkebäck kl. 18.00. Man behöver inte anmäla sig\, det är bara att dyka upp. Även icke-medlemmar är välkomna att följa med. \nOm ni har några frågor om torsdagsutflykterna kan ni kontakta Benny Praetorius på telefon 0705-73 88 29. \nNedan hittar ni karta över planerad färdväg till slutmålet. \n\n\n\nKarta\nMöjliga betalsätt\n\n\n\n\nHindås station\, Hindås\nkontant\, Swish\n\n\n\n  \nVälkomna!
URL:https://svkg.se/evenemang/torsdagstraff-2019-06-06/
ORGANIZER;CN="Touringkommitt%C3%A9n":MAILTO:touring@svkg.se
END:VEVENT
BEGIN:VEVENT
DTSTART;TZID=Europe/Stockholm:20190613T150000
DTEND;TZID=Europe/Stockholm:20190613T200000
DTSTAMP:20260422T124607
CREATED:20190301T193426Z
LAST-MODIFIED:20190301T193500Z
UID:7563-1560438000-1560456000@svkg.se
SUMMARY:Sprint 3 Vårgårda
DESCRIPTION:Vi kör denna sprint nr 3 på Vårgårda flygplats. Här sträcker vi ut A-sprinten i dess fulla längd och bredd. \nPraktiska detaljer\n\nSamling: kl. 15:00. Observera att denna sprint går på en torsdag.\nFörsta start: kl. 16:00\nAnmälan: Görs nedan genom biljettköp. Betalning kan också göras på plats via Swish 123-690 07 57.\nFörsäkring: För information om försäkring se generell information om våra sprintrace.\n\nGlöm inte kaffe och macka och kom i tid! \nVälkomna!
URL:https://svkg.se/evenemang/sprintrace-2019-3/
LOCATION:Vårgårda flygplats\, Vårgårda flygplats\, Vårgårda\, 44721\, Sverige
ORGANIZER;CN="Racingkommitt%C3%A9n":MAILTO:racing@svkg.se
GEO:58.041199;12.788632
X-APPLE-STRUCTURED-LOCATION;VALUE=URI;X-ADDRESS=Vårgårda flygplats Vårgårda flygplats Vårgårda 44721 Sverige;X-APPLE-RADIUS=500;X-TITLE=Vårgårda flygplats:geo:12.788632,58.041199
END:VEVENT
BEGIN:VEVENT
DTSTART;TZID=Europe/Stockholm:20190613T183000
DTEND;TZID=Europe/Stockholm:20190613T210000
DTSTAMP:20260422T124607
CREATED:20190301T205632Z
LAST-MODIFIED:20190611T185524Z
UID:7604-1560450600-1560459600@svkg.se
SUMMARY:Torsdagsträff
DESCRIPTION:Vid våra torsdagsträffar gör vi utflykter till olika platser hela sommarsäsongen. Vi åker på trevliga ”körvänliga” vägar\, ca 2-4 mil\, till något kafé eller restaurang någonstans runt göteborgsområdet. \nDenna gång åker vi till Aspenäs Café i Lerum beläget vid sjön Aspens norra strand. Vi samlas på parkeringen utanför Systembolaget på Torpavallsgatan i Munkebäck kl. 18.30 (vi återgår alltså till normal avgångstid). Man behöver inte anmäla sig\, det är bara att dyka upp. Även icke-medlemmar är välkomna att följa med. \nEftersom Jonseredsvägen är avstängd tills vidare tar vi en alternativ väg till slutmålet. Öppna och studera planerad rutt på kartan länkad här nedan. \nOm ni har några frågor om torsdagsutflykterna kan ni kontakta Benny Praetorius på telefon 0705-73 88 29. \nNedan hittar ni karta över planerad färdväg till slutmålet. \n\n\n\nKarta\nMöjliga betalsätt\n\n\n\n\nAspenäs Café\, Lerum (alternativ väg)\nkontant\, kort\n\n\n\n  \nVälkomna!
URL:https://svkg.se/evenemang/torsdagstraff-2019-06-13/
ORGANIZER;CN="Touringkommitt%C3%A9n":MAILTO:touring@svkg.se
END:VEVENT
BEGIN:VEVENT
DTSTART;TZID=Europe/Stockholm:20190627T183000
DTEND;TZID=Europe/Stockholm:20190627T210000
DTSTAMP:20260422T124607
CREATED:20190301T205632Z
LAST-MODIFIED:20190625T192556Z
UID:7605-1561660200-1561669200@svkg.se
SUMMARY:Torsdagsträff
DESCRIPTION:Vid våra torsdagsträffar gör vi utflykter till olika platser hela sommarsäsongen. Vi åker på trevliga ”körvänliga” vägar\, ca 2-4 mil\, till något kafé eller restaurang någonstans runt göteborgsområdet. \nUtflykten denna gång går till Instö Café på Vrångholmen. Vi samlas på parkeringen utanför Systembolaget på Torpavallsgatan i Munkebäck kl. 18.30. Man behöver inte anmäla sig\, det är bara att dyka upp. Även icke-medlemmar är välkomna att följa med. \nOm ni har några frågor om torsdagsutflykterna kan ni kontakta Benny Praetorius på telefon 0705-73 88 29. \nNedan hittar ni karta över planerad färdväg till slutmålet. \n\n\n\nKarta\nMöjliga betalsätt\n\n\n\n\nInstö Café\, Vrångholmen\nkontant\, Swish\n\n\n\n  \nVälkomna!
URL:https://svkg.se/evenemang/torsdagstraff-2019-06-27/
ORGANIZER;CN="Touringkommitt%C3%A9n":MAILTO:touring@svkg.se
END:VEVENT
END:VCALENDAR