BEGIN:VCALENDAR
VERSION:2.0
PRODID:-//Sportvagnsklubben Göteborg - ECPv6.15.11//NONSGML v1.0//EN
CALSCALE:GREGORIAN
METHOD:PUBLISH
X-WR-CALNAME:Sportvagnsklubben Göteborg
X-ORIGINAL-URL:https://svkg.se
X-WR-CALDESC:Evenemang för Sportvagnsklubben Göteborg
REFRESH-INTERVAL;VALUE=DURATION:PT1H
X-Robots-Tag:noindex
X-PUBLISHED-TTL:PT1H
BEGIN:VTIMEZONE
TZID:Europe/Stockholm
BEGIN:DAYLIGHT
TZOFFSETFROM:+0100
TZOFFSETTO:+0200
TZNAME:CEST
DTSTART:20180325T010000
END:DAYLIGHT
BEGIN:STANDARD
TZOFFSETFROM:+0200
TZOFFSETTO:+0100
TZNAME:CET
DTSTART:20181028T010000
END:STANDARD
BEGIN:DAYLIGHT
TZOFFSETFROM:+0100
TZOFFSETTO:+0200
TZNAME:CEST
DTSTART:20190331T010000
END:DAYLIGHT
BEGIN:STANDARD
TZOFFSETFROM:+0200
TZOFFSETTO:+0100
TZNAME:CET
DTSTART:20191027T010000
END:STANDARD
BEGIN:DAYLIGHT
TZOFFSETFROM:+0100
TZOFFSETTO:+0200
TZNAME:CEST
DTSTART:20200329T010000
END:DAYLIGHT
BEGIN:STANDARD
TZOFFSETFROM:+0200
TZOFFSETTO:+0100
TZNAME:CET
DTSTART:20201025T010000
END:STANDARD
END:VTIMEZONE
BEGIN:VEVENT
DTSTART;TZID=Europe/Stockholm:20190704T183000
DTEND;TZID=Europe/Stockholm:20190704T210000
DTSTAMP:20260422T141638
CREATED:20190301T205632Z
LAST-MODIFIED:20190703T173350Z
UID:7606-1562265000-1562274000@svkg.se
SUMMARY:Torsdagsträff
DESCRIPTION:Vid våra torsdagsträffar gör vi utflykter till olika platser hela sommarsäsongen. Vi åker på trevliga ”körvänliga” vägar\, ca 2-4 mil\, till något kafé eller restaurang någonstans runt göteborgsområdet. \nUtflykten denna gång går till Sammels Café i Eskilsby. Vi samlas på parkeringen utanför Systembolaget på Torpavallsgatan i Munkebäck kl. 18.30. Man behöver inte anmäla sig\, det är bara att dyka upp. Även icke-medlemmar är välkomna att följa med. \nOm ni har några frågor om torsdagsutflykterna kan ni kontakta Benny Praetorius på telefon 0705-73 88 29. \nNedan hittar ni karta över planerad färdväg till slutmålet. \n\n\n\nKarta\nMöjliga betalsätt\n\n\n\n\nCafé Sammels\, Bertshult / Eskilsby\nkontant\, kort\, Swish\n\n\n\n  \nVälkomna!
URL:https://svkg.se/evenemang/torsdagstraff-2019-07-04/
ORGANIZER;CN="Touringkommitt%C3%A9n":MAILTO:touring@svkg.se
END:VEVENT
BEGIN:VEVENT
DTSTART;TZID=Europe/Stockholm:20190711T183000
DTEND;TZID=Europe/Stockholm:20190711T210000
DTSTAMP:20260422T141638
CREATED:20190301T205632Z
LAST-MODIFIED:20190709T140336Z
UID:7607-1562869800-1562878800@svkg.se
SUMMARY:Torsdagsträff
DESCRIPTION:Vid våra torsdagsträffar gör vi utflykter till olika platser hela sommarsäsongen. Vi åker på trevliga ”körvänliga” vägar\, ca 2-4 mil\, till något kafé eller restaurang någonstans runt göteborgsområdet. \nUtflykten denna torsdag går till TCB Café i Floda. Vi samlas på parkeringen utanför Systembolaget på Torpavallsgatan i Munkebäck kl. 18.30. Man behöver inte anmäla sig\, det är bara att dyka upp. Även icke-medlemmar är välkomna att följa med. \nObservera att vi tar en alternativ väg (över bl a. Härryda- och Härskogsvägen) till Floda\, då Jonseredsvägen\, som vi brukar ta\, är avstängd tills vidare. Studera färdvägen på vår karta här nedan. \nOm ni har några frågor om torsdagsutflykterna kan ni kontakta Benny Praetorius på telefon 0705-73 88 29. \nNedan hittar ni karta över planerad färdväg till slutmålet. \n\n\n\nKarta\nMöjliga betalsätt\n\n\n\n\nTCB Café\, Floda\nkontant\, Swish\n\n\n\n  \nVälkomna!
URL:https://svkg.se/evenemang/torsdagstraff-2019-07-11/
ORGANIZER;CN="Touringkommitt%C3%A9n":MAILTO:touring@svkg.se
END:VEVENT
BEGIN:VEVENT
DTSTART;TZID=Europe/Stockholm:20190718T183000
DTEND;TZID=Europe/Stockholm:20190718T210000
DTSTAMP:20260422T141638
CREATED:20190301T205632Z
LAST-MODIFIED:20190716T184826Z
UID:7608-1563474600-1563483600@svkg.se
SUMMARY:Torsdagsträff
DESCRIPTION:Vid våra torsdagsträffar gör vi utflykter till olika platser hela sommarsäsongen. Vi åker på trevliga ”körvänliga” vägar\, ca 2-4 mil\, till något kafé eller restaurang någonstans runt göteborgsområdet. \nUtflykten denna gång går till Café Zanzibar i Tjuvkil. Vi samlas på parkeringen utanför Systembolaget på Torpavallsgatan i Munkebäck kl. 18.30. Man behöver inte anmäla sig\, det är bara att dyka upp. Även icke-medlemmar är välkomna att följa med. \nBenny har som vanligt ordnat så vi får ”specialpris” – smörgås och dricka/te/kaffe för 100 kr när vi betalar kontant eller via Swish. \nOm ni har några frågor om torsdagsutflykterna kan ni kontakta Benny Praetorius på telefon 0705-73 88 29. \nNedan hittar ni karta över planerad färdväg till slutmålet. \n\n\n\nKarta\nMöjliga betalsätt\n\n\n\n\nCafé Zanzibar\, Tjuvkil\nkontant\, Swish\n\n\n\n  \nVälkomna!
URL:https://svkg.se/evenemang/torsdagstraff-2019-07-18/
ORGANIZER;CN="Touringkommitt%C3%A9n":MAILTO:touring@svkg.se
END:VEVENT
BEGIN:VEVENT
DTSTART;TZID=Europe/Stockholm:20190725T183000
DTEND;TZID=Europe/Stockholm:20190725T210000
DTSTAMP:20260422T141638
CREATED:20190301T205632Z
LAST-MODIFIED:20190722T144609Z
UID:7609-1564079400-1564088400@svkg.se
SUMMARY:Torsdagsträff
DESCRIPTION:Vid våra torsdagsträffar gör vi utflykter till olika platser hela sommarsäsongen. Vi åker på trevliga ”körvänliga” vägar\, ca 2-4 mil\, till något kafé eller restaurang någonstans runt göteborgsområdet. \nUtflykten denna torsdag tar oss till Hindås station i Hindås\, där Lions håller i serveringen och loppmarknaden i stationshuset. Vi samlas på parkeringen utanför Systembolaget på Torpavallsgatan i Munkebäck kl. 18.30. Man behöver inte anmäla sig\, det är bara att dyka upp. Även icke-medlemmar är välkomna att följa med. \nOm ni har några frågor om torsdagsutflykterna kan ni kontakta Benny Praetorius på telefon 0705-73 88 29. \nNedan hittar ni karta över planerad färdväg till slutmålet. \n\n\n\nKarta\nMöjliga betalsätt\n\n\n\n\nHindås station\, Hindås\nkontant\, Swish\n\n\n\n  \nVälkomna!
URL:https://svkg.se/evenemang/torsdagstraff-2019-07-25/
ORGANIZER;CN="Touringkommitt%C3%A9n":MAILTO:touring@svkg.se
END:VEVENT
END:VCALENDAR