BEGIN:VCALENDAR
VERSION:2.0
PRODID:-//Sportvagnsklubben Göteborg - ECPv6.15.11//NONSGML v1.0//EN
CALSCALE:GREGORIAN
METHOD:PUBLISH
X-ORIGINAL-URL:https://svkg.se
X-WR-CALDESC:Evenemang för Sportvagnsklubben Göteborg
REFRESH-INTERVAL;VALUE=DURATION:PT1H
X-Robots-Tag:noindex
X-PUBLISHED-TTL:PT1H
BEGIN:VTIMEZONE
TZID:Europe/Stockholm
BEGIN:DAYLIGHT
TZOFFSETFROM:+0100
TZOFFSETTO:+0200
TZNAME:CEST
DTSTART:20180325T010000
END:DAYLIGHT
BEGIN:STANDARD
TZOFFSETFROM:+0200
TZOFFSETTO:+0100
TZNAME:CET
DTSTART:20181028T010000
END:STANDARD
BEGIN:DAYLIGHT
TZOFFSETFROM:+0100
TZOFFSETTO:+0200
TZNAME:CEST
DTSTART:20190331T010000
END:DAYLIGHT
BEGIN:STANDARD
TZOFFSETFROM:+0200
TZOFFSETTO:+0100
TZNAME:CET
DTSTART:20191027T010000
END:STANDARD
BEGIN:DAYLIGHT
TZOFFSETFROM:+0100
TZOFFSETTO:+0200
TZNAME:CEST
DTSTART:20200329T010000
END:DAYLIGHT
BEGIN:STANDARD
TZOFFSETFROM:+0200
TZOFFSETTO:+0100
TZNAME:CET
DTSTART:20201025T010000
END:STANDARD
END:VTIMEZONE
BEGIN:VEVENT
DTSTART;TZID=Europe/Stockholm:20190801T183000
DTEND;TZID=Europe/Stockholm:20190801T210000
DTSTAMP:20260422T154757
CREATED:20190301T205632Z
LAST-MODIFIED:20190731T171829Z
UID:7610-1564684200-1564693200@svkg.se
SUMMARY:Torsdagsträff
DESCRIPTION:Vid våra torsdagsträffar gör vi utflykter till olika platser hela sommarsäsongen. Vi åker på trevliga ”körvänliga” vägar\, ca 2-4 mil\, till något kafé eller restaurang någonstans runt göteborgsområdet. \nUtflykten går denna dag till Café Torpet i Skepplanda. Vi samlas på parkeringen utanför Systembolaget på Torpavallsgatan i Munkebäck kl. 18.30. Man behöver inte anmäla sig\, det är bara att dyka upp. Även icke-medlemmar är välkomna att följa med. \nOm ni har några frågor om torsdagsutflykterna kan ni kontakta Benny Praetorius på telefon 0705-73 88 29. \nNedan hittar ni karta över planerad färdväg till slutmålet. \n\n\n\nKarta\nMöjliga betalsätt\n\n\n\n\nCafé Torpet\, Skepplanda\nkontant\, kort\, Swish\n\n\n\n  \nVälkomna!
URL:https://svkg.se/evenemang/torsdagstraff-2019-08-01/
ORGANIZER;CN="Touringkommitt%C3%A9n":MAILTO:touring@svkg.se
END:VEVENT
BEGIN:VEVENT
DTSTART;TZID=Europe/Stockholm:20190808T183000
DTEND;TZID=Europe/Stockholm:20190808T210000
DTSTAMP:20260422T154757
CREATED:20190301T205632Z
LAST-MODIFIED:20190806T173226Z
UID:7611-1565289000-1565298000@svkg.se
SUMMARY:Torsdagsträff
DESCRIPTION:Vid våra torsdagsträffar gör vi utflykter till olika platser hela sommarsäsongen. Vi åker på trevliga ”körvänliga” vägar\, ca 2-4 mil\, till något kafé eller restaurang någonstans runt göteborgsområdet. \nUtflykten denna gång går till Sammels Café i Eskilsby. Vi samlas på parkeringen utanför Systembolaget på Torpavallsgatan i Munkebäck kl. 18.30. Man behöver inte anmäla sig\, det är bara att dyka upp. Även icke-medlemmar är välkomna att följa med. \nOm ni har några frågor om torsdagsutflykterna kan ni kontakta Benny Praetorius på telefon 0705-73 88 29. \nNedan hittar ni karta över planerad färdväg till slutmålet. \n\n\n\nKarta\nMöjliga betalsätt\n\n\n\n\nCafé Sammels\, Bertshult / Eskilsby\nkontant\, kort\, Swish\n\n\n\n  \nVälkomna!
URL:https://svkg.se/evenemang/torsdagstraff-2019-08-08/
ORGANIZER;CN="Touringkommitt%C3%A9n":MAILTO:touring@svkg.se
END:VEVENT
BEGIN:VEVENT
DTSTART;TZID=Europe/Stockholm:20190810T083000
DTEND;TZID=Europe/Stockholm:20190810T133000
DTSTAMP:20260422T154757
CREATED:20190301T192552Z
LAST-MODIFIED:20190807T205541Z
UID:7557-1565425800-1565443800@svkg.se
SUMMARY:Sprint 4 Kattleberg
DESCRIPTION:Vi kör denna sprint nr 4 på Kattleberg Airport i Älvängen. Vi kommer att köra en snabb A-sprintsvariant med flera belönande accelerationer och en och annan inbromsning. \nPraktiska detaljer\n\nSamling: kl. 8:30\nFörsta start: kl. 9:00\nAnmälan: Görs nedan genom biljettköp. Betalning kan också göras på plats via Swish 123-690 07 57.\nFörsäkring: För information om försäkring se generell information om våra sprintrace.\n\nGlöm inte kaffe och macka och kom i tid! \nVälkomna till årets fjärde SVKG-Sprint!
URL:https://svkg.se/evenemang/sprintrace-2019-4/
LOCATION:Kattleberg Airport\, Kattleberg Airport 258\, Älvängen\, 44697\, Sverige
ORGANIZER;CN="Racingkommitt%C3%A9n":MAILTO:racing@svkg.se
GEO:57.9797418;12.1429843
X-APPLE-STRUCTURED-LOCATION;VALUE=URI;X-ADDRESS=Kattleberg Airport Kattleberg Airport 258 Älvängen 44697 Sverige;X-APPLE-RADIUS=500;X-TITLE=Kattleberg Airport 258:geo:12.1429843,57.9797418
END:VEVENT
BEGIN:VEVENT
DTSTART;TZID=Europe/Stockholm:20190815T183000
DTEND;TZID=Europe/Stockholm:20190815T210000
DTSTAMP:20260422T154757
CREATED:20190301T205632Z
LAST-MODIFIED:20190813T201530Z
UID:7612-1565893800-1565902800@svkg.se
SUMMARY:Torsdagsträff
DESCRIPTION:Vid våra torsdagsträffar gör vi utflykter till olika platser hela sommarsäsongen. Vi åker på trevliga ”körvänliga” vägar\, ca 2-4 mil\, till något kafé eller restaurang någonstans runt göteborgsområdet. \nUtflykten denna torsdag går till TCB Café i Floda. Vi samlas på parkeringen utanför Systembolaget på Torpavallsgatan i Munkebäck kl. 18.30. Man behöver inte anmäla sig\, det är bara att dyka upp. Även icke-medlemmar är välkomna att följa med. \nObservera att vi tar en alternativ väg (över bl a. Härryda- och Härskogsvägen) till Floda\, då Jonseredsvägen\, som vi brukar ta\, är avstängd tills vidare. Studera färdvägen på vår karta här nedan. \nOm ni har några frågor om torsdagsutflykterna kan ni kontakta Benny Praetorius på telefon 0705-73 88 29. \nNedan hittar ni karta över planerad färdväg till slutmålet. \n\n\n\nKarta\nMöjliga betalsätt\n\n\n\n\nTCB Café\, Floda\nkontant\, Swish\n\n\n\n  \nVälkomna!
URL:https://svkg.se/evenemang/torsdagstraff-2019-08-15/
ORGANIZER;CN="Touringkommitt%C3%A9n":MAILTO:touring@svkg.se
END:VEVENT
BEGIN:VEVENT
DTSTART;TZID=Europe/Stockholm:20190819T100000
DTEND;TZID=Europe/Stockholm:20190819T160000
DTSTAMP:20260422T154757
CREATED:20190301T200143Z
LAST-MODIFIED:20190427T115126Z
UID:7574-1566208800-1566230400@svkg.se
SUMMARY:Banmöte Ring Knutstorp
DESCRIPTION:SVKG inbjuder till medlemmarna till banmöte på Ring Knutstorp. \nBanan är 2070 meter lång\, 10-12 meter bred och är känd som en mycket kuperad och krävande bana med flera långsamma och några snabba kurvor. Den kallas ibland för The Nürburgring of Sweden och marknadsförs idag som Valley of Speed. \nPå den tidigare kortare banan körde på 60-talet förare som Frank Williams\, Reine Wisell och Ronnie Peterson som hade flera bataljer i dåtidens Formel 3-lopp. Mellan 1976 och 1984 kördes F3-mästerskapet här årligen\, med vinnare som Alain Prost och Conny Andersson. \nPraktiska detaljer\n\nTider\n\n10.00 Inskrivning och besiktning startar\n11.15 Obligatoriskt förarmöte\n12.00 – 16.00 Körning i grupper\n\n\nKörpass: Vi delar in oss i 3 grupper – lugna för nybörjare\, lagom för rutinerade förare och race för erfarna förare.\nAnmälan: Görs nedan genom biljettköp.\nBesiktning: Före körning måste din bil vara besiktigad. Detta gör du genom egenbesiktning på plats enligt vårt egenbesiktningsformulär (ladda ner\, skriv ut och ta med).\nMiljökrav: Läs vår miljöpolicy.\nLjudkrav: Högsta tillåtna ljudnivå är 95 dB(A) vid förbipassering. Banägaren mäter kontinuerligt.\nSäkerhetsutrustning: Hjälm\, handskar och heltäckande bomullsklädsel är obligatorisk. Båge eller bur i öppna bilar.\nFörsäkring: Alla förare och passagerare måste ha licens\, dvs personförsäkring hos SMA. Denna kan skaffas på SMA:s sida för förarlicenser. Som vanligt gäller inte bilens försäkring vid körning på bana. Du kör på egen risk.\nSkador: SVKG förbehåller sig rätten att fakturera kostnader för skador på 2:e man (banans inventarier) till deltagare.\nPassagerare: Tillåtet i alla pass. Passageraren måste också ha SMA-licens.\nMat: Restaurang med dagens rätt och cafeteria är öppen hela dagen.\nFrågor: kan ställas till Anders Johansson på tel 0705-341100 eller epost anders.johansson@svkg.se.\n\nVälkomna!
URL:https://svkg.se/evenemang/banmote-ring-knutstorp-20190819/
LOCATION:Ring Knutstorp\, Ring Knutstorp\, Kågeröd\, 268 05\, Sverige
ORGANIZER;CN="Racingkommitt%C3%A9n":MAILTO:racing@svkg.se
GEO:55.9885514;13.1122197
X-APPLE-STRUCTURED-LOCATION;VALUE=URI;X-ADDRESS=Ring Knutstorp Ring Knutstorp Kågeröd 268 05 Sverige;X-APPLE-RADIUS=500;X-TITLE=Ring Knutstorp:geo:13.1122197,55.9885514
END:VEVENT
BEGIN:VEVENT
DTSTART;TZID=Europe/Stockholm:20190822T183000
DTEND;TZID=Europe/Stockholm:20190822T210000
DTSTAMP:20260422T154757
CREATED:20190301T205632Z
LAST-MODIFIED:20190820T214848Z
UID:7613-1566498600-1566507600@svkg.se
SUMMARY:Torsdagsträff
DESCRIPTION:Vid våra torsdagsträffar gör vi utflykter till olika platser hela sommarsäsongen. Vi åker på trevliga ”körvänliga” vägar\, ca 2-4 mil\, till något kafé eller restaurang någonstans runt göteborgsområdet. \nDenna gång åker vi till Aspenäs Café i Lerum beläget vid sjön Aspens norra strand. Vi samlas på parkeringen utanför Systembolaget på Torpavallsgatan i Munkebäck kl. 18.30. Man behöver inte anmäla sig\, det är bara att dyka upp. Även icke-medlemmar är välkomna att följa med. \nObservera att eftersom Jonseredsvägen är avstängd tills vidare tar vi en alternativ väg till slutmålet. Studera planerad rutt på kartan länkad här nedan. \nOm ni har några frågor om torsdagsutflykterna kan ni kontakta Benny Praetorius på telefon 0705-73 88 29. \nNedan hittar ni karta över planerad färdväg till slutmålet. \n\n\n\nKarta\nMöjliga betalsätt\n\n\n\n\nAspenäs Café\, Lerum (alternativ väg)\nkontant\, kort\n\n\n\n  \nVälkomna!
URL:https://svkg.se/evenemang/torsdagstraff-2019-08-22/
ORGANIZER;CN="Touringkommitt%C3%A9n":MAILTO:touring@svkg.se
END:VEVENT
BEGIN:VEVENT
DTSTART;TZID=Europe/Stockholm:20190829T183000
DTEND;TZID=Europe/Stockholm:20190829T210000
DTSTAMP:20260422T154757
CREATED:20190301T205632Z
LAST-MODIFIED:20190828T071746Z
UID:7614-1567103400-1567112400@svkg.se
SUMMARY:Torsdagsträff
DESCRIPTION:Vid våra torsdagsträffar gör vi utflykter till olika platser hela sommarsäsongen. Vi åker på trevliga ”körvänliga” vägar\, ca 2-4 mil\, till något kafé eller restaurang någonstans runt göteborgsområdet. \nDenna gång åker vi till Hindåsgården i Hindås. Vi samlas på parkeringen utanför Systembolaget på Torpavallsgatan i Munkebäck kl. 18.30. Man behöver inte anmäla sig\, det är bara att dyka upp. Även icke-medlemmar är välkomna att följa med. \nObservera att vi tar vägen via Kallebäck/Delsjömotet där vi får köra utefter de kurviga vägarna vid Landvettersjön. Studera planerad rutt på kartan länkad här nedan. \nOm ni har några frågor om torsdagsutflykterna kan ni kontakta Benny Praetorius på telefon 0705-73 88 29. \nNedan hittar ni karta över planerad färdväg till slutmålet. \n\n\n\nKarta\nMöjliga betalsätt\n\n\n\n\nHindåsgården\, Hindås\nkontant\, kort\n\n\n\n  \nVälkomna!
URL:https://svkg.se/evenemang/torsdagstraff-2019-08-29/
ORGANIZER;CN="Touringkommitt%C3%A9n":MAILTO:touring@svkg.se
END:VEVENT
END:VCALENDAR