BEGIN:VCALENDAR
VERSION:2.0
PRODID:-//Sportvagnsklubben Göteborg - ECPv6.15.11//NONSGML v1.0//EN
CALSCALE:GREGORIAN
METHOD:PUBLISH
X-WR-CALNAME:Sportvagnsklubben Göteborg
X-ORIGINAL-URL:https://svkg.se
X-WR-CALDESC:Evenemang för Sportvagnsklubben Göteborg
REFRESH-INTERVAL;VALUE=DURATION:PT1H
X-Robots-Tag:noindex
X-PUBLISHED-TTL:PT1H
BEGIN:VTIMEZONE
TZID:Europe/Stockholm
BEGIN:DAYLIGHT
TZOFFSETFROM:+0100
TZOFFSETTO:+0200
TZNAME:CEST
DTSTART:20180325T010000
END:DAYLIGHT
BEGIN:STANDARD
TZOFFSETFROM:+0200
TZOFFSETTO:+0100
TZNAME:CET
DTSTART:20181028T010000
END:STANDARD
BEGIN:DAYLIGHT
TZOFFSETFROM:+0100
TZOFFSETTO:+0200
TZNAME:CEST
DTSTART:20190331T010000
END:DAYLIGHT
BEGIN:STANDARD
TZOFFSETFROM:+0200
TZOFFSETTO:+0100
TZNAME:CET
DTSTART:20191027T010000
END:STANDARD
BEGIN:DAYLIGHT
TZOFFSETFROM:+0100
TZOFFSETTO:+0200
TZNAME:CEST
DTSTART:20200329T010000
END:DAYLIGHT
BEGIN:STANDARD
TZOFFSETFROM:+0200
TZOFFSETTO:+0100
TZNAME:CET
DTSTART:20201025T010000
END:STANDARD
END:VTIMEZONE
BEGIN:VEVENT
DTSTART;TZID=Europe/Stockholm:20190905T183000
DTEND;TZID=Europe/Stockholm:20190905T210000
DTSTAMP:20260422T172045
CREATED:20190301T205632Z
LAST-MODIFIED:20190903T204754Z
UID:7615-1567708200-1567717200@svkg.se
SUMMARY:Torsdagsträff
DESCRIPTION:Vid våra torsdagsträffar gör vi utflykter till olika platser hela sommarsäsongen. Vi åker på trevliga ”körvänliga” vägar\, ca 2-4 mil\, till något kafé eller restaurang någonstans runt göteborgsområdet. \nUtflykten denna gång går till Café Zanzibar i Tjuvkil. Vi samlas på parkeringen utanför Systembolaget på Torpavallsgatan i Munkebäck kl. 18.30. Man behöver inte anmäla sig\, det är bara att dyka upp. Även icke-medlemmar är välkomna att följa med. \nBenny har som vanligt ordnat så vi får ”specialpris” – smörgås och dricka/te/kaffe för 100 kr när vi betalar kontant eller via Swish. \nOm ni har några frågor om torsdagsutflykterna kan ni kontakta Benny Praetorius på telefon 0705-73 88 29. \nNedan hittar ni karta över planerad färdväg till slutmålet. \n\n\n\nKarta\nMöjliga betalsätt\n\n\n\n\nCafé Zanzibar\, Tjuvkil\nkontant\, Swish\n\n\n\n  \nVälkomna!
URL:https://svkg.se/evenemang/torsdagstraff-2019-09-05/
ORGANIZER;CN="Touringkommitt%C3%A9n":MAILTO:touring@svkg.se
END:VEVENT
BEGIN:VEVENT
DTSTART;TZID=Europe/Stockholm:20190912T183000
DTEND;TZID=Europe/Stockholm:20190912T210000
DTSTAMP:20260422T172045
CREATED:20190301T205632Z
LAST-MODIFIED:20190910T201743Z
UID:7616-1568313000-1568322000@svkg.se
SUMMARY:Torsdagsträff
DESCRIPTION:Vid våra torsdagsträffar gör vi utflykter till olika platser hela sommarsäsongen. Vi åker på trevliga ”körvänliga” vägar\, ca 2-4 mil\, till något kafé eller restaurang någonstans runt göteborgsområdet. \nUtflykten tar oss denna torsdag till Sammels Café i Eskilsby. Vi samlas på parkeringen utanför Systembolaget på Torpavallsgatan i Munkebäck kl. 18.30. Man behöver inte anmäla sig\, det är bara att dyka upp. Även icke-medlemmar är välkomna att följa med. \nOm ni har några frågor om torsdagsutflykterna kan ni kontakta Benny Praetorius på telefon 0705-73 88 29. \nNedan hittar ni karta över planerad färdväg till slutmålet. \n\n\n\nKarta\nMöjliga betalsätt\n\n\n\n\nCafé Sammels\, Bertshult / Eskilsby\nkontant\, kort\, Swish\n\n\n\n  \nVälkomna!
URL:https://svkg.se/evenemang/torsdagstraff-2019-09-12/
ORGANIZER;CN="Touringkommitt%C3%A9n":MAILTO:touring@svkg.se
END:VEVENT
BEGIN:VEVENT
DTSTART;TZID=Europe/Stockholm:20190915T083000
DTEND;TZID=Europe/Stockholm:20190915T170000
DTSTAMP:20260422T172045
CREATED:20190301T194042Z
LAST-MODIFIED:20190830T225016Z
UID:7566-1568536200-1568566800@svkg.se
SUMMARY:Sprintfinal / Polestar Trophy Vårgårda
DESCRIPTION:Vi åker denna avslutande sprintfinal\, deltävling nr 5\, på Vårgårda flygplats. Vi kommer att köra en snabb A-sprintsvariant med flera belönande accelerationer och en och annan inbromsning. \nDagen avslutas med att de tre klassvinnarna gör upp om A Star in a Resonably Priced Car – Polestar Trophy. \nVi arrangerar MX-5 Racings sprintfinal kl. 9-14 och kör vår egen Sprintfinal från kl. 14 tills vi är klara. Ni som kör Miata (eller vill vara med och mäta er mot de snabbaste i annan bil) är hjärtligt välkomna att köra båda tävlingarna utan extra kostnad. En heldag runt koner på tid! \nPraktiska detaljer\n\nSamling: kl. 8.30 för MX-5 Racing\, kl. 13.00 för SVKG Sprintfinal\nFörsta start: kl. 9.00 för MX-5 Racing\, kl. 14.00 för SVKG Sprintfinal\nAnmälan: Görs nedan genom biljettköp och gäller för hela dagen\, dvs man kan delta i båda tävlingarna med en anmälan. Betalning kan också göras på plats via Swish 123-690 07 57.\nFörsäkring: För information om försäkring se generell information om våra sprintrace.\n\nGlöm inte kaffe och matsäck och kom i tid! \nVälkomna!
URL:https://svkg.se/evenemang/sprintrace-2019-5/
LOCATION:Vårgårda flygplats\, Vårgårda flygplats\, Vårgårda\, 44721\, Sverige
ORGANIZER;CN="Racingkommitt%C3%A9n":MAILTO:racing@svkg.se
GEO:58.041199;12.788632
X-APPLE-STRUCTURED-LOCATION;VALUE=URI;X-ADDRESS=Vårgårda flygplats Vårgårda flygplats Vårgårda 44721 Sverige;X-APPLE-RADIUS=500;X-TITLE=Vårgårda flygplats:geo:12.788632,58.041199
END:VEVENT
BEGIN:VEVENT
DTSTART;TZID=Europe/Stockholm:20190919T183000
DTEND;TZID=Europe/Stockholm:20190919T210000
DTSTAMP:20260422T172045
CREATED:20190301T205632Z
LAST-MODIFIED:20190917T223044Z
UID:7617-1568917800-1568926800@svkg.se
SUMMARY:Torsdagsträff
DESCRIPTION:Vid våra torsdagsträffar gör vi utflykter till olika platser hela sommarsäsongen. Vi åker på trevliga ”körvänliga” vägar\, ca 2-4 mil\, till något kafé eller restaurang någonstans runt göteborgsområdet. \nUtflykten denna torsdag går till TCB Café i Floda. Vi samlas på parkeringen utanför Systembolaget på Torpavallsgatan i Munkebäck kl. 18.30. Man behöver inte anmäla sig\, det är bara att dyka upp. Även icke-medlemmar är välkomna att följa med. \nObservera att vi tar en alternativ väg (över bl a. Härryda- och Härskogsvägen) till Floda\, då Jonseredsvägen\, som vi brukar ta\, är avstängd tills vidare. Studera färdvägen på vår karta här nedan. \nOm ni har några frågor om torsdagsutflykterna kan ni kontakta Benny Praetorius på telefon 0705-73 88 29. \nNedan hittar ni karta över planerad färdväg till slutmålet. \n\n\n\nKarta\nMöjliga betalsätt\n\n\n\n\nTCB Café\, Floda\nkontant\, Swish\n\n\n\n  \nVälkomna!
URL:https://svkg.se/evenemang/torsdagstraff-2019-09-19/
ORGANIZER;CN="Touringkommitt%C3%A9n":MAILTO:touring@svkg.se
END:VEVENT
BEGIN:VEVENT
DTSTART;TZID=Europe/Stockholm:20190926T140000
DTEND;TZID=Europe/Stockholm:20190926T190000
DTSTAMP:20260422T172045
CREATED:20181026T114941Z
LAST-MODIFIED:20190427T115150Z
UID:6274-1569506400-1569524400@svkg.se
SUMMARY:Höstrus(k)et 2019
DESCRIPTION:Årets sista banträff på snabba Falkenbergs Motorbana. Vår närmaste banträff innan det är dags att tvätta\, putsa och garagera våra ögonstenar inför vintern med snö och kyla. Nästan alltid slutsålt på dagen\, så håll koll på biljettsläppet i våra nyhetsbrev. \nProgrammet omfattar fri körning för samtliga bilar utan tidtagning\, med eller utan passagerare (gäller samtliga pass). \nPraktiska detaljer\n\nTider\n\n14.00 – 15.30 Inskrivning och besiktning\n15.30 – 15.40 Förarsammanträde\n16.00 – 19.00 Fri körning för samtliga bilar utan officiell tidtagning indelade i 3 grupper med 12-13-minuterspass.\n\n\nKörpass: Vi delar in oss i tre grupper – lugna för nybörjare\, lagom för rutinerade förare och race för erfarna förare.\nAnmälan: Görs nedan genom biljettköp.\nBesiktning: Före körning måste din bil vara besiktigad. Detta gör du genom egenbesiktning på plats enligt vårt egenbesiktningsformulär (ladda ner\, skriv ut och ta med).\nMiljökrav: Läs vår miljöpolicy.\nLjudkrav: För samtliga bilar gäller bullerkravet max 95 dB(A) vid förbipassering under acceleration. De bilar som ej klarar denna gräns måste tyvärr tas av banan.\nSäkerhetsutrustning: Hjälm\, handskar och heltäckande bomullsklädsel är obligatorisk. Båge eller bur i öppna bilar.\nFörsäkring: Alla förare och passagerare måste ha licens\, dvs personförsäkring hos SMA. Denna kan skaffas på SMA:s sida för förarlicenser. Som vanligt gäller inte bilens försäkring vid körning på bana. Du kör på egen risk.\nSkador: SVKG förbehåller sig rätten att fakturera kostnader för skador på 2:e man (banans inventarier) till deltagare.\nPassagerare: Tillåtet i alla pass. Passageraren måste också ha SMA-licens.\nOrganisationskommitée\n\nHuvudansvarig – Sten Ljungquist\, tel: 0705-93 02 65\, epost: sten.ljungquist@svkg.se\nBesiktningschef – Kalle Pilkrantz\, tel: 0708-293455\, epost: kallepilkrantz@gmail.com\n\n\n\nVälkommen!
URL:https://svkg.se/evenemang/hostrusket-2019/
LOCATION:Falkenbergs Motorbana\, Falkenbergs Motorbana\, Falkenberg\, 31195\, Sweden
ORGANIZER;CN="Racingkommitt%C3%A9n":MAILTO:racing@svkg.se
GEO:56.977519178514;12.563685122501
X-APPLE-STRUCTURED-LOCATION;VALUE=URI;X-ADDRESS=Falkenbergs Motorbana Falkenbergs Motorbana Falkenberg 31195 Sweden;X-APPLE-RADIUS=500;X-TITLE=Falkenbergs Motorbana:geo:12.563685122501,56.977519178514
END:VEVENT
BEGIN:VEVENT
DTSTART;TZID=Europe/Stockholm:20190926T183000
DTEND;TZID=Europe/Stockholm:20190926T210000
DTSTAMP:20260422T172045
CREATED:20190301T205632Z
LAST-MODIFIED:20190924T182536Z
UID:7618-1569522600-1569531600@svkg.se
SUMMARY:Torsdagsträff
DESCRIPTION:Vid våra torsdagsträffar gör vi utflykter till olika platser hela sommarsäsongen. Vi åker på trevliga ”körvänliga” vägar\, ca 2-4 mil\, till något kafé eller restaurang någonstans runt göteborgsområdet. \nÅrets sista sommartorsdagsutflykt går till Aspenäs Café i Lerum beläget vid sjön Aspens norra strand. Vi samlas på parkeringen utanför Systembolaget på Torpavallsgatan i Munkebäck kl. 18.30. Man behöver inte anmäla sig\, det är bara att dyka upp. Även icke-medlemmar är välkomna att följa med. \nTorsdagsgeneralen Benny Praetorius och medhjälpare Per Löveryd vill tacka er alla för STORT visat intresse under säsongen. Men vi stoppar inte här. Under vinterhalvåret kommer våra torsdagsträffar att fortsätta i Partille Arena där vi träffas i restaurang John Scott’s. Mer information om detta kommer inom kort. \nObservera att eftersom Jonseredsvägen är avstängd tills vidare tar vi en alternativ väg till slutmålet. Studera planerad rutt på kartan länkad här nedan. \nOm ni har några frågor om torsdagsutflykterna kan ni kontakta Benny Praetorius på telefon 0705-73 88 29. \nNedan hittar ni karta över planerad färdväg till slutmålet. \n\n\n\nKarta\nMöjliga betalsätt\n\n\n\n\nAspenäs Café\, Lerum (alternativ väg)\nkontant\, kort\n\n\n\n  \nVälkomna!
URL:https://svkg.se/evenemang/torsdagstraff-2019-09-26/
ORGANIZER;CN="Touringkommitt%C3%A9n":MAILTO:touring@svkg.se
END:VEVENT
END:VCALENDAR