BEGIN:VCALENDAR
VERSION:2.0
PRODID:-//Sportvagnsklubben Göteborg - ECPv6.15.11//NONSGML v1.0//EN
CALSCALE:GREGORIAN
METHOD:PUBLISH
X-ORIGINAL-URL:https://svkg.se
X-WR-CALDESC:Evenemang för Sportvagnsklubben Göteborg
REFRESH-INTERVAL;VALUE=DURATION:PT1H
X-Robots-Tag:noindex
X-PUBLISHED-TTL:PT1H
BEGIN:VTIMEZONE
TZID:Europe/Stockholm
BEGIN:DAYLIGHT
TZOFFSETFROM:+0100
TZOFFSETTO:+0200
TZNAME:CEST
DTSTART:20180325T010000
END:DAYLIGHT
BEGIN:STANDARD
TZOFFSETFROM:+0200
TZOFFSETTO:+0100
TZNAME:CET
DTSTART:20181028T010000
END:STANDARD
BEGIN:DAYLIGHT
TZOFFSETFROM:+0100
TZOFFSETTO:+0200
TZNAME:CEST
DTSTART:20190331T010000
END:DAYLIGHT
BEGIN:STANDARD
TZOFFSETFROM:+0200
TZOFFSETTO:+0100
TZNAME:CET
DTSTART:20191027T010000
END:STANDARD
BEGIN:DAYLIGHT
TZOFFSETFROM:+0100
TZOFFSETTO:+0200
TZNAME:CEST
DTSTART:20200329T010000
END:DAYLIGHT
BEGIN:STANDARD
TZOFFSETFROM:+0200
TZOFFSETTO:+0100
TZNAME:CET
DTSTART:20201025T010000
END:STANDARD
END:VTIMEZONE
BEGIN:VEVENT
DTSTART;TZID=Europe/Stockholm:20191003T180000
DTEND;TZID=Europe/Stockholm:20191003T220000
DTSTAMP:20260422T183009
CREATED:20190914T201717Z
LAST-MODIFIED:20190915T140848Z
UID:8773-1570125600-1570140000@svkg.se
SUMMARY:Nattrallyt 2019
DESCRIPTION:Nu är det åter dags för årets mörkaste utflykt\, SVKG ”Nightmare” Nattrally! \nVi samlas klockan 18.00 vid södra änden på IKEA Kållereds parkering. 18.30 går startskottet och mörka kurviga vägar leder fram till målet\, där de som önskar njuter av en god höstmåltid på ”hemlig” ort. \nTag chansen att rasta ögonstenen en sista gång inför vintersömnen och häng med på en tur i goda vänners lag! \nKarta och färdväg\n\n\n\n\n\n\n\nKlicka på QR-koden eller scanna den med en QR-läsare för att öppna kartan separat i Google Maps. \nPraktiska detaljer\n\nSamling: torsdagen den 3/10 kl. 18.00 vid södra änden på IKEA Kållereds parkering.\nFörsta start: kl 18.30\nStartavgift: Ingen! Restaurangbesöket sker till självkostnadspris. Vi kommer att smaka på en utsökt Schweinhaxe (250 kr) eller Wienerschnitzel (250 kr). Önskas något annat finns det á la carte-meny.\nSluttid: Efter avslutad måltid\, c:a kl. 22.00.\nAnmälan: Anmälan (öppnar 15/9 kl. 20.00) är obligatorisk och görs här nedan senast söndagen 29/9.\nFrågor: Ställs till David Dahl på telefon 0706-169169 eller epost david.dahl@svkg.se.\n\n  \nVälkomna! \nTouringkommittén
URL:https://svkg.se/evenemang/nattrallyt-2019/
END:VEVENT
BEGIN:VEVENT
DTSTART;TZID=Europe/Stockholm:20191003T180000
DTEND;TZID=Europe/Stockholm:20191003T220000
DTSTAMP:20260422T183009
CREATED:20190924T211808Z
LAST-MODIFIED:20200112T233804Z
UID:8845-1570125600-1570140000@svkg.se
SUMMARY:Vintertorsdagsträff
DESCRIPTION:Vi kommer på torsdagar från oktober att träffas på restaurang John Scott’s på Partille Area. De har fullständiga rättigheter och vi kommer där att kunna äta\, dricka och spela bowling för de som vill. Klubbarna GMHK och UBCC kommer också att vara inbjudna. \nDet finns goda parkeringsmöjligheter utanför restaurangen med 4 timmars avgiftsfri parkering. Man kan även ta sig dit med buss Gul Express. \nAlla är välkomna\, medlem som icke-medlem. \nVälkomna!
URL:https://svkg.se/evenemang/vintertorsdagstraff/2019-10-03/
LOCATION:John Scott’s\, Arenavägen 1\, Partille\, 433 33\, Sverige
ORGANIZER;CN="Touringkommitt%C3%A9n":MAILTO:touring@svkg.se
GEO:57.7398562;12.1145074
X-APPLE-STRUCTURED-LOCATION;VALUE=URI;X-ADDRESS=John Scott’s Arenavägen 1 Partille 433 33 Sverige;X-APPLE-RADIUS=500;X-TITLE=Arenavägen 1:geo:12.1145074,57.7398562
END:VEVENT
END:VCALENDAR