BEGIN:VCALENDAR
VERSION:2.0
PRODID:-//Sportvagnsklubben Göteborg - ECPv6.15.11//NONSGML v1.0//EN
CALSCALE:GREGORIAN
METHOD:PUBLISH
X-ORIGINAL-URL:https://svkg.se
X-WR-CALDESC:Evenemang för Sportvagnsklubben Göteborg
REFRESH-INTERVAL;VALUE=DURATION:PT1H
X-Robots-Tag:noindex
X-PUBLISHED-TTL:PT1H
BEGIN:VTIMEZONE
TZID:Europe/Stockholm
BEGIN:DAYLIGHT
TZOFFSETFROM:+0100
TZOFFSETTO:+0200
TZNAME:CEST
DTSTART:20190331T010000
END:DAYLIGHT
BEGIN:STANDARD
TZOFFSETFROM:+0200
TZOFFSETTO:+0100
TZNAME:CET
DTSTART:20191027T010000
END:STANDARD
BEGIN:DAYLIGHT
TZOFFSETFROM:+0100
TZOFFSETTO:+0200
TZNAME:CEST
DTSTART:20200329T010000
END:DAYLIGHT
BEGIN:STANDARD
TZOFFSETFROM:+0200
TZOFFSETTO:+0100
TZNAME:CET
DTSTART:20201025T010000
END:STANDARD
BEGIN:DAYLIGHT
TZOFFSETFROM:+0100
TZOFFSETTO:+0200
TZNAME:CEST
DTSTART:20210328T010000
END:DAYLIGHT
BEGIN:STANDARD
TZOFFSETFROM:+0200
TZOFFSETTO:+0100
TZNAME:CET
DTSTART:20211031T010000
END:STANDARD
END:VTIMEZONE
BEGIN:VEVENT
DTSTART;TZID=Europe/Stockholm:20200111T083000
DTEND;TZID=Europe/Stockholm:20200111T130000
DTSTAMP:20260422T225457
CREATED:20191115T221641Z
LAST-MODIFIED:20200126T125736Z
UID:8984-1578731400-1578747600@svkg.se
SUMMARY:Råttsprint 1 Kattleberg
DESCRIPTION:SVKG Råttsprint är en konbanetävling där vi deltar med våra vardagsbilar. Tävlingarna körs på uppkonad\, kall och förhoppningsvis hal asfaltsbana. Vi samlas kl. 8.30 och tävlingen pågår mellan kl. 9-13. \nVid detta tillfälle kommer vi ha tillgång till en ”brandbil”. Det är en röd Audi A4 1\,8T Avant Quattro -96 som tidigare användes som befälsbil av räddningstjänsten i Oxelösund. Efter 35 000 mil kommer den nu att kunna sprida glädje bland våra deltagare i råttsprinten. \nBrandbilen får alltså användas fritt av alla startande under hela evenemanget. Har man själv inte tillgång till bil med vinterhjul utan dubb får ni här chansen att kunna vara med ändå. Tag med hjälm\, handskar och SMA-licensen\, anmäl dig nedan och delta! \nPraktiska detaljer\n\n\n\nSamling: kl. 8.30\nFörsta start: kl. 9.00\nAnmälan: Görs nedan genom biljettköp. Betalning kan också göras på plats via Swish 123-690 07 57.\nÖvrigt: Mycket fika och varma kläder rekommenderas att ni tar med er.\nKontaktperson: Anders Johansson\, tel: 0705-341100 eller epost: anders.johansson@svkg.se.\n\n  \nVälkomna!
URL:https://svkg.se/evenemang/raattsprint-2019-1/
LOCATION:Kattleberg Airport\, Kattleberg Airport 258\, Älvängen\, 44697\, Sverige
ORGANIZER;CN="Racingkommitt%C3%A9n":MAILTO:racing@svkg.se
GEO:57.9797418;12.1429843
X-APPLE-STRUCTURED-LOCATION;VALUE=URI;X-ADDRESS=Kattleberg Airport Kattleberg Airport 258 Älvängen 44697 Sverige;X-APPLE-RADIUS=500;X-TITLE=Kattleberg Airport 258:geo:12.1429843,57.9797418
END:VEVENT
BEGIN:VEVENT
DTSTART;TZID=Europe/Stockholm:20200118T130000
DTEND;TZID=Europe/Stockholm:20200118T170000
DTSTAMP:20260422T225457
CREATED:20191208T191433Z
LAST-MODIFIED:20191208T191433Z
UID:9216-1579352400-1579366800@svkg.se
SUMMARY:Virtuell Racing Cup sprint 2
DESCRIPTION:Vi kör sprint 2 i SVKG Virtuell Racing Cup i Smedjan. Under eftermiddagen bjuds på kaffe och fika för de som önskar. \nVi kör ett träningsvarv och sedan så många stintar vi hinner under eftermiddagen. \nVi kör en separat klass för barn (under 18 år) / utan körkort (någonsin). \nPraktiska detaljer\n\nAnmälan: Görs här nedan.\nUtrustning: PlayStation 4 Pro\, racingstol\, Logitech G29 Force Feedback-ratt med 3 pedaler\, Logitech Driving Force shifter\, Playstation VR-glasögon och spelet Gran Turismo Sport.\nMat: Det bjuds på kaffe och fika.\nFrågor: Besvaras av andras.lengyel@svkg.se.\n\nVälkomna!
URL:https://svkg.se/evenemang/virtuell-racing-2019-2/
LOCATION:Smedjan\, Hults gata 26\, Askim\, 43644\, Sweden
ORGANIZER;CN="Racingkommitt%C3%A9n":MAILTO:racing@svkg.se
GEO:57.635582;11.925313
X-APPLE-STRUCTURED-LOCATION;VALUE=URI;X-ADDRESS=Smedjan Hults gata 26 Askim 43644 Sweden;X-APPLE-RADIUS=500;X-TITLE=Hults gata 26:geo:11.925313,57.635582
END:VEVENT
BEGIN:VEVENT
DTSTART;TZID=Europe/Stockholm:20200129T180000
DTEND;TZID=Europe/Stockholm:20200129T210000
DTSTAMP:20260422T225457
CREATED:20191206T113000Z
LAST-MODIFIED:20191228T125431Z
UID:9197-1580320800-1580331600@svkg.se
SUMMARY:KM Inomhusgokart 2020
DESCRIPTION:SVKG inbjuder klubbens medlemmar till Klubbmästerskap i Inomhusgokart på GoKarting Majorna. \nPraktiska detaljer\n\nUpplägg: Vi kör träning 6 varv\, kval 10 varv och race 17 varv.\nAnmälan: Görs här nedan.\nVillkor för deltagande:\n\nAll körning sker på egen risk.\nKörning i berusat tillstånd ej tillåtet.\nMan ska avstå körning om man är gravid eller har hjärtbesvär.\n\n\nTräning: GoKarting har Drop-In varje söndag eftermiddag. SVKG Onsdagsklubb träffas och kör varje onsdag 14:00 på GoKarting.\nFrågor: Besvaras av Anders Johansson på epost anders.johansson@svkg.se.\n\nVälkomna!
URL:https://svkg.se/evenemang/km-inomhusgokart-2020/
LOCATION:GoKarting Majorna\, Karl Johansgatan 144\, Göteborg\, 41451
ORGANIZER;CN="Racingkommitt%C3%A9n":MAILTO:racing@svkg.se
GEO:57.6870527;11.9112405
X-APPLE-STRUCTURED-LOCATION;VALUE=URI;X-ADDRESS=GoKarting Majorna Karl Johansgatan 144 Göteborg 41451;X-APPLE-RADIUS=500;X-TITLE=Karl Johansgatan 144:geo:11.9112405,57.6870527
END:VEVENT
END:VCALENDAR