BEGIN:VCALENDAR
VERSION:2.0
PRODID:-//Sportvagnsklubben Göteborg - ECPv6.15.11//NONSGML v1.0//EN
CALSCALE:GREGORIAN
METHOD:PUBLISH
X-ORIGINAL-URL:https://svkg.se
X-WR-CALDESC:Evenemang för Sportvagnsklubben Göteborg
REFRESH-INTERVAL;VALUE=DURATION:PT1H
X-Robots-Tag:noindex
X-PUBLISHED-TTL:PT1H
BEGIN:VTIMEZONE
TZID:Europe/Stockholm
BEGIN:DAYLIGHT
TZOFFSETFROM:+0100
TZOFFSETTO:+0200
TZNAME:CEST
DTSTART:20230326T010000
END:DAYLIGHT
BEGIN:STANDARD
TZOFFSETFROM:+0200
TZOFFSETTO:+0100
TZNAME:CET
DTSTART:20231029T010000
END:STANDARD
BEGIN:DAYLIGHT
TZOFFSETFROM:+0100
TZOFFSETTO:+0200
TZNAME:CEST
DTSTART:20240331T010000
END:DAYLIGHT
BEGIN:STANDARD
TZOFFSETFROM:+0200
TZOFFSETTO:+0100
TZNAME:CET
DTSTART:20241027T010000
END:STANDARD
BEGIN:DAYLIGHT
TZOFFSETFROM:+0100
TZOFFSETTO:+0200
TZNAME:CEST
DTSTART:20250330T010000
END:DAYLIGHT
BEGIN:STANDARD
TZOFFSETFROM:+0200
TZOFFSETTO:+0100
TZNAME:CET
DTSTART:20251026T010000
END:STANDARD
END:VTIMEZONE
BEGIN:VEVENT
DTSTART;TZID=Europe/Stockholm:20240120T130000
DTEND;TZID=Europe/Stockholm:20240120T170000
DTSTAMP:20260422T225916
CREATED:20231126T141952Z
LAST-MODIFIED:20250218T112242Z
UID:20866-1705755600-1705770000@svkg.se
SUMMARY:Virtuell Racing Cup sprint 2
DESCRIPTION:Vi kör sprint 2 i SVKG Virtuell Racing Cup i Smedjan. Under eftermiddagen bjuds på kaffe och fika för de som önskar. \nVi kör ett träningsvarv och sedan så många stintar vi hinner under eftermiddagen. \nVi kör en separat klass för ungdomar (under 18 år) / utan körkort (någonsin). \nPraktiska detaljer\n\nAnmälan: Görs här nedan.\nUtrustning: PlayStation 4 Pro\, racingstol\, Logitech G29 Force Feedback-ratt med 3 pedaler\, Logitech Driving Force shifter\, Playstation VR-glasögon och spelet Gran Turismo Sport.\nMat: Det bjuds på kaffe och fika.\nFrågor: Besvaras av andras.lengyel@svkg.se eller oscar.karrqvist@svkg.se.\n\nVälkomna!
URL:https://svkg.se/evenemang/virtuell-racing-2023-2/
LOCATION:Smedjan\, Hults gata 26\, Askim\, 43644\, Sweden
ORGANIZER;CN="Racingkommitt%C3%A9n":MAILTO:racing@svkg.se
GEO:57.635582;11.925313
X-APPLE-STRUCTURED-LOCATION;VALUE=URI;X-ADDRESS=Smedjan Hults gata 26 Askim 43644 Sweden;X-APPLE-RADIUS=500;X-TITLE=Hults gata 26:geo:11.925313,57.635582
END:VEVENT
BEGIN:VEVENT
DTSTART;TZID=Europe/Stockholm:20240121T083000
DTEND;TZID=Europe/Stockholm:20240121T130000
DTSTAMP:20260422T225916
CREATED:20231210T125707Z
LAST-MODIFIED:20250218T112235Z
UID:20971-1705825800-1705842000@svkg.se
SUMMARY:Vintersprint 1
DESCRIPTION:Vi kör Vintersprint 1. SVKG Vintersprint (eller ”SVKG Råttsprint”) är en konbanetävling på hal bana där vi deltar med våra vardagsbilar. \nFörutsättningen för denna sprint är att vi får halt underlag med snö. Det är dubbfritt som gäller. \nAnmälan sker på plats\, bara att ta med termos med något varmt och ett par mackor och komma. \nVid frågor kontakta Anders Johansson\, tel: 0705-34 11 00\, epost: anders.johansson@svkg.se.
URL:https://svkg.se/evenemang/vintersprint-2024-1/
LOCATION:Kattleberg Airport\, Kattleberg Airport 258\, Älvängen\, 44697\, Sverige
ORGANIZER;CN="Racingkommitt%C3%A9n":MAILTO:racing@svkg.se
GEO:57.9797418;12.1429843
X-APPLE-STRUCTURED-LOCATION;VALUE=URI;X-ADDRESS=Kattleberg Airport Kattleberg Airport 258 Älvängen 44697 Sverige;X-APPLE-RADIUS=500;X-TITLE=Kattleberg Airport 258:geo:12.1429843,57.9797418
END:VEVENT
END:VCALENDAR