BEGIN:VCALENDAR
VERSION:2.0
PRODID:-//Sportvagnsklubben Göteborg - ECPv6.15.11//NONSGML v1.0//EN
CALSCALE:GREGORIAN
METHOD:PUBLISH
X-WR-CALNAME:Sportvagnsklubben Göteborg
X-ORIGINAL-URL:https://svkg.se
X-WR-CALDESC:Evenemang för Sportvagnsklubben Göteborg
REFRESH-INTERVAL;VALUE=DURATION:PT1H
X-Robots-Tag:noindex
X-PUBLISHED-TTL:PT1H
BEGIN:VTIMEZONE
TZID:Europe/Stockholm
BEGIN:DAYLIGHT
TZOFFSETFROM:+0100
TZOFFSETTO:+0200
TZNAME:CEST
DTSTART:20230326T010000
END:DAYLIGHT
BEGIN:STANDARD
TZOFFSETFROM:+0200
TZOFFSETTO:+0100
TZNAME:CET
DTSTART:20231029T010000
END:STANDARD
BEGIN:DAYLIGHT
TZOFFSETFROM:+0100
TZOFFSETTO:+0200
TZNAME:CEST
DTSTART:20240331T010000
END:DAYLIGHT
BEGIN:STANDARD
TZOFFSETFROM:+0200
TZOFFSETTO:+0100
TZNAME:CET
DTSTART:20241027T010000
END:STANDARD
BEGIN:DAYLIGHT
TZOFFSETFROM:+0100
TZOFFSETTO:+0200
TZNAME:CEST
DTSTART:20250330T010000
END:DAYLIGHT
BEGIN:STANDARD
TZOFFSETFROM:+0200
TZOFFSETTO:+0100
TZNAME:CET
DTSTART:20251026T010000
END:STANDARD
END:VTIMEZONE
BEGIN:VEVENT
DTSTART;TZID=Europe/Stockholm:20240704T180000
DTEND;TZID=Europe/Stockholm:20240704T210000
DTSTAMP:20260422T150904
CREATED:20240505T165415Z
LAST-MODIFIED:20240630T103902Z
UID:22428-1720116000-1720126800@svkg.se
SUMMARY:Torsdagsträff
DESCRIPTION:Vid våra torsdagsträffar gör vi utflykter till olika platser hela sommarsäsongen. Vi åker på trevliga ”körvänliga” vägar\, ca 2-4 mil\, till något kafé eller restaurang någonstans runt göteborgsområdet. \nUtflykten denna torsdag går till Charles BBQ&Grill i Fotskäl. Vi samlas på parkeringen vid NetOnNet i Järnbrott kl. 18.00. \nVi åker iväg c:a 18:05 för att utnyttja kvällens ljusare timmar och hinna fram till destinationen i god tid. \nMan behöver inte anmäla sig\, det är bara att dyka upp. Alla är välkomna\, medlemmar som icke-medlemmar\, på våra utflykter. \nKartor\nKarta som visar den normala färdvägen till varje destination kan ni öppna här nedanför eller i vår SVKG-app. Vi har även angivit möjliga betalsätt (med reservation för att de kan ändras). \n\n\n\nKarta\nMöjliga betalsätt\n\n\n\n\nCharles BBQ&Grill\, Fotskäl\nSwish\, kort\, kontant\n\n\n\n  \nVälkomna!
URL:https://svkg.se/evenemang/torsdagstraff-2024-07-04/
ORGANIZER;CN="Touringkommitt%C3%A9n":MAILTO:touring@svkg.se
END:VEVENT
BEGIN:VEVENT
DTSTART;TZID=Europe/Stockholm:20240711T180000
DTEND;TZID=Europe/Stockholm:20240711T210000
DTSTAMP:20260422T150904
CREATED:20240505T165415Z
LAST-MODIFIED:20240708T200832Z
UID:22429-1720720800-1720731600@svkg.se
SUMMARY:Torsdagsträff
DESCRIPTION:Vid våra torsdagsträffar gör vi utflykter till olika platser hela sommarsäsongen. Vi åker på trevliga ”körvänliga” vägar\, ca 2-4 mil\, till något kafé eller restaurang någonstans runt göteborgsområdet. \nUtflykten denna torsdag går till Partille Golfklubb i Öjersjö vars restaurang inte bara har kaffe och kaka utan även smash Burger och pulled pork för den hungrige. Vi samlas på parkeringen vid NetOnNet i Järnbrott kl. 18.00. \nVi åker iväg c:a 18:05 för att utnyttja kvällens ljusare timmar och hinna fram till destinationen i god tid. \nMan behöver inte anmäla sig\, det är bara att dyka upp. Alla är välkomna\, medlemmar som icke-medlemmar\, på våra utflykter. \nKartor\nKarta som visar den normala färdvägen till varje destination kan ni öppna här nedanför eller i vår SVKG-app. Vi har även angivit möjliga betalsätt (med reservation för att de kan ändras). \n\n\n\nKarta\nMöjliga betalsätt\n\n\n\n\nPartille Golfklubb\, Öjersjö\nSwish\, kort\, kontant\n\n\n\n  \nVälkomna!
URL:https://svkg.se/evenemang/torsdagstraff-2024-07-11/
ORGANIZER;CN="Touringkommitt%C3%A9n":MAILTO:touring@svkg.se
END:VEVENT
BEGIN:VEVENT
DTSTART;TZID=Europe/Stockholm:20240718T180000
DTEND;TZID=Europe/Stockholm:20240718T210000
DTSTAMP:20260422T150904
CREATED:20240505T165415Z
LAST-MODIFIED:20240714T150849Z
UID:22430-1721325600-1721336400@svkg.se
SUMMARY:Torsdagsträff
DESCRIPTION:Vid våra torsdagsträffar gör vi utflykter till olika platser hela sommarsäsongen. Vi åker på trevliga ”körvänliga” vägar\, ca 2-4 mil\, till något kafé eller restaurang någonstans runt göteborgsområdet. \nUtflykten denna torsdag blir kort då vi stannar kvar på parkeringen vid NetonNet i Järnbrott och har en bakluckeloppis. Vi samlas på parkeringen vid NetonNet i Järnbrott kl. 18.00. \nPassa på att fyll backluckan med det som samlar damm i hyllorna i garaget. Det kan finnas de som har behov av just de delar och saker ni har sparat på i många år. \nVälkomna!
URL:https://svkg.se/evenemang/torsdagstraff-2024-07-18/
LOCATION:NetOnNet Järnbrott\, Axel Adlers gata 4\, Västra Frölunda\, 421 32\, Sverige
ORGANIZER;CN="Touringkommitt%C3%A9n":MAILTO:touring@svkg.se
GEO:57.6467481;11.936682
X-APPLE-STRUCTURED-LOCATION;VALUE=URI;X-ADDRESS=NetOnNet Järnbrott Axel Adlers gata 4 Västra Frölunda 421 32 Sverige;X-APPLE-RADIUS=500;X-TITLE=Axel Adlers gata 4:geo:11.936682,57.6467481
END:VEVENT
BEGIN:VEVENT
DTSTART;TZID=Europe/Stockholm:20240725T180000
DTEND;TZID=Europe/Stockholm:20240725T210000
DTSTAMP:20260422T150904
CREATED:20240505T165415Z
LAST-MODIFIED:20240721T182628Z
UID:22431-1721930400-1721941200@svkg.se
SUMMARY:Torsdagsträff
DESCRIPTION:Vid våra torsdagsträffar gör vi utflykter till olika platser hela sommarsäsongen. Vi åker på trevliga ”körvänliga” vägar\, ca 2-4 mil\, till något kafé eller restaurang någonstans runt göteborgsområdet. \nUtflykten denna torsdag går till Instö kök och bar på Vrångholmen. Vi samlas på parkeringen vid Biltema på Backaplan kl. 18.00. \nVi åker iväg c:a 18:05 för att utnyttja kvällens ljusare timmar och hinna fram till destinationen i god tid. \nMan behöver inte anmäla sig\, det är bara att dyka upp. Alla är välkomna\, medlemmar som icke-medlemmar\, på våra utflykter. \nKartor\nKarta som visar den normala färdvägen till varje destination kan ni öppna här nedanför eller i vår SVKG-app. Vi har även angivit möjliga betalsätt (med reservation för att de kan ändras). \n\n\n\nKarta\nMöjliga betalsätt\n\n\n\n\nInstö kök och bar\, Vrångholmen\nSwish\, kort\, kontant\n\n\n\n  \nVälkomna!
URL:https://svkg.se/evenemang/torsdagstraff-2024-07-25/
LOCATION:Biltema Backaplan\, Östra Magårdsvägen 4\, Göteborg\, 41705\, Sverige
ORGANIZER;CN="Touringkommitt%C3%A9n":MAILTO:touring@svkg.se
GEO:57.726046;11.9620192
X-APPLE-STRUCTURED-LOCATION;VALUE=URI;X-ADDRESS=Biltema Backaplan Östra Magårdsvägen 4 Göteborg 41705 Sverige;X-APPLE-RADIUS=500;X-TITLE=Östra Magårdsvägen 4:geo:11.9620192,57.726046
END:VEVENT
END:VCALENDAR