BEGIN:VCALENDAR
VERSION:2.0
PRODID:-//Sportvagnsklubben Göteborg - ECPv6.15.11//NONSGML v1.0//EN
CALSCALE:GREGORIAN
METHOD:PUBLISH
X-ORIGINAL-URL:https://svkg.se
X-WR-CALDESC:Evenemang för Sportvagnsklubben Göteborg
REFRESH-INTERVAL;VALUE=DURATION:PT1H
X-Robots-Tag:noindex
X-PUBLISHED-TTL:PT1H
BEGIN:VTIMEZONE
TZID:Europe/Stockholm
BEGIN:DAYLIGHT
TZOFFSETFROM:+0100
TZOFFSETTO:+0200
TZNAME:CEST
DTSTART:20230326T010000
END:DAYLIGHT
BEGIN:STANDARD
TZOFFSETFROM:+0200
TZOFFSETTO:+0100
TZNAME:CET
DTSTART:20231029T010000
END:STANDARD
BEGIN:DAYLIGHT
TZOFFSETFROM:+0100
TZOFFSETTO:+0200
TZNAME:CEST
DTSTART:20240331T010000
END:DAYLIGHT
BEGIN:STANDARD
TZOFFSETFROM:+0200
TZOFFSETTO:+0100
TZNAME:CET
DTSTART:20241027T010000
END:STANDARD
BEGIN:DAYLIGHT
TZOFFSETFROM:+0100
TZOFFSETTO:+0200
TZNAME:CEST
DTSTART:20250330T010000
END:DAYLIGHT
BEGIN:STANDARD
TZOFFSETFROM:+0200
TZOFFSETTO:+0100
TZNAME:CET
DTSTART:20251026T010000
END:STANDARD
END:VTIMEZONE
BEGIN:VEVENT
DTSTART;TZID=Europe/Stockholm:20241019T090000
DTEND;TZID=Europe/Stockholm:20241019T140000
DTSTAMP:20260422T105424
CREATED:20240928T130022Z
LAST-MODIFIED:20250218T111848Z
UID:23139-1729328400-1729346400@svkg.se
SUMMARY:Lördagsutflykt Borås flygplats\, Viared
DESCRIPTION:SVKG inbjuder till en lördagsutflykt till Borås flygplats i Viared. \nVi startar från Mölnlycke järnvägsstation och kör en lite längre sträcka på knappt 10 mil utmed trevliga\, härliga vägar via bl a Hällesåker\, Hällingsjö\, Fjärås och Seglora fram till Borås flygplats i Viared. \nVi anordnar inte kolonnkörning denna gång\, men vi har en karta med föreslagen färdväg via länken nedan\, i vår SVKG-app\, samt utskriven på papper på plats för de som föredrar det. \nVid hemfärden rekommenderar vi en matpaus på Bruket i Wiared för de hungriga\, sugna och nyfikna. \nPraktiska detaljer\n\n9.00 Samling vid Mölnlycke järnvägstation\n9.30 Avfärd\nKarta med föreslagen färdväg: Mölnlycke – Borås flygplats\, Viared\nc:a 11.15 Ankomst\n\nVälkomna!\nTouringkommittén
URL:https://svkg.se/evenemang/lordagsutflykt-2024-10-19/
ORGANIZER;CN="Touringkommitt%C3%A9n":MAILTO:touring@svkg.se
END:VEVENT
BEGIN:VEVENT
DTSTART;TZID=Europe/Stockholm:20241024T180000
DTEND;TZID=Europe/Stockholm:20241024T220000
DTSTAMP:20260422T105424
CREATED:20231126T150322Z
LAST-MODIFIED:20250218T111801Z
UID:20876-1729792800-1729807200@svkg.se
SUMMARY:Nattrallyt 2024
DESCRIPTION:Snart är det dags att ställa in våra ögonstenar för vintern\, men innan dess så ges det ytterligare ett sista tillfälle att sota ur maskinen rejält. Häng med på SVKG ”Nightmare” Nattrally! \nKlockan 18.00 samlas vi som vanligt vid södra änden av IKEA Kållereds parkering (utanför deras nya varuhus). Efter ett kort förarmöte går startskottet för årets Nattrally. Turen tar oss på mörka kurviga vägar och leder så småningom fram till målet Rydals Herrgård\, där vi i goda vänners lag avnjuter en smakfull höstmiddag. \nMeny: \n\nKött: Klassisk Wallenbergare (249 kr)\nFisk: Havets Wallenbergare (249 kr)\nVegetarisk: Kålpudding med kokt potatis och gräddsås (189 kr)\n\nC:a 22.00 avslutar vi kvällens aktiviteter (men inte ännu för i år\, vi ska ju även ut på en gulaschkväll). Mätta och belåtna kör vi genom natten hem till våra garage för ytterligare en vinter i ”sportvagnsiden.” \nTag chansen att rasta ögonstenen en sista gång innan vintersömnen\, och häng med på en go tur i goda vänners lag! \nKarta och färdväg\n\n\nKlicka på QR-koden eller scanna den med en QR-läsare för att öppna kartan separat i Google Maps. \nPraktiska detaljer\n\nSamling: torsdagen den 24:e oktober kl. 18.00 vid södra änden av IKEA Kållered\nFörarmöte: kl 18.20\nFörsta start: kl 18.30\nSluttid: Efter avslutad måltid\, c:a kl. 22.00\nStartavgift: Ingen. Restaurangbesöket sker till självkostnadspris.\nAnmälan: Sker här nedan senast 17:e oktober. Välj matalternativ kött\, fisk eller vegetariskt. Dryck och efterrätt väljs på plats.\nAnnat/allergier: Meddela i anmälan så löser vi detta på plats.\n\nTänk på att antalet platser är begränsade till 50 personer och med respekt för restaurangen – vänta inte med din anmälan! \nHar du frågor\, kontakta: \n\nOscar Kärrqvist\, mobil 0705-242029\, epost oscar.karrqvist@svkg.se\n\n  \nVälkomna!\nTouringkommittén
URL:https://svkg.se/evenemang/nattrallyt-2024/
ORGANIZER;CN="Touringkommitt%C3%A9n":MAILTO:touring@svkg.se
END:VEVENT
END:VCALENDAR