BEGIN:VCALENDAR
VERSION:2.0
PRODID:-//Sportvagnsklubben Göteborg - ECPv6.15.11//NONSGML v1.0//EN
CALSCALE:GREGORIAN
METHOD:PUBLISH
X-ORIGINAL-URL:https://svkg.se
X-WR-CALDESC:Evenemang för Sportvagnsklubben Göteborg
REFRESH-INTERVAL;VALUE=DURATION:PT1H
X-Robots-Tag:noindex
X-PUBLISHED-TTL:PT1H
BEGIN:VTIMEZONE
TZID:Europe/Stockholm
BEGIN:DAYLIGHT
TZOFFSETFROM:+0100
TZOFFSETTO:+0200
TZNAME:CEST
DTSTART:20230326T010000
END:DAYLIGHT
BEGIN:STANDARD
TZOFFSETFROM:+0200
TZOFFSETTO:+0100
TZNAME:CET
DTSTART:20231029T010000
END:STANDARD
BEGIN:DAYLIGHT
TZOFFSETFROM:+0100
TZOFFSETTO:+0200
TZNAME:CEST
DTSTART:20240331T010000
END:DAYLIGHT
BEGIN:STANDARD
TZOFFSETFROM:+0200
TZOFFSETTO:+0100
TZNAME:CET
DTSTART:20241027T010000
END:STANDARD
BEGIN:DAYLIGHT
TZOFFSETFROM:+0100
TZOFFSETTO:+0200
TZNAME:CEST
DTSTART:20250330T010000
END:DAYLIGHT
BEGIN:STANDARD
TZOFFSETFROM:+0200
TZOFFSETTO:+0100
TZNAME:CET
DTSTART:20251026T010000
END:STANDARD
END:VTIMEZONE
BEGIN:VEVENT
DTSTART;TZID=Europe/Stockholm:20241121T173000
DTEND;TZID=Europe/Stockholm:20241121T210000
DTSTAMP:20260422T092016
CREATED:20240819T124712Z
LAST-MODIFIED:20250218T111746Z
UID:23000-1732210200-1732222800@svkg.se
SUMMARY:Råttsoffetorsdag: Gulaschkväll med quiz INSTÄLLT
DESCRIPTION:Vi måste tyvärr meddela att vi måste ställa in utflykten på grund av för få anmälda. \nSVKG bjuder in till en torsdagstur med våra råttsoffor och en gulaschkväll med quiz i glada vänners lag. \nSamling sker utanför NetOnNet i Järnbrott kl. 17.30 för avfärd mot Folkes restaurang i Sätila för en värmande och gemytlig gulaschkväll i glada vänners lag. \n\n Anmälan : Görs nedan senast söndagen den 17:e november.\nMeny: Gulaschsoppa\, måltidsdryck\, efterrätt och kaffe. Annan dryck mot betalning.\nPris: 275:- per person.\nKarta: Järnbrott – Folkes restaurang\, Sätila (finns även i SVKG-appen)\n\nMeddela oss om eventuella allergier vid anmälan så löser vi detta. \n Välkomna!
URL:https://svkg.se/evenemang/rattsoffetorsdag-2024/
LOCATION:NetOnNet Järnbrott\, Axel Adlers gata 4\, Västra Frölunda\, 421 32\, Sverige
ORGANIZER;CN="Touringkommitt%C3%A9n":MAILTO:touring@svkg.se
GEO:57.6467481;11.936682
X-APPLE-STRUCTURED-LOCATION;VALUE=URI;X-ADDRESS=NetOnNet Järnbrott Axel Adlers gata 4 Västra Frölunda 421 32 Sverige;X-APPLE-RADIUS=500;X-TITLE=Axel Adlers gata 4:geo:11.936682,57.6467481
END:VEVENT
END:VCALENDAR