BEGIN:VCALENDAR
VERSION:2.0
PRODID:-//Sportvagnsklubben Göteborg - ECPv6.15.11//NONSGML v1.0//EN
CALSCALE:GREGORIAN
METHOD:PUBLISH
X-ORIGINAL-URL:https://svkg.se
X-WR-CALDESC:Evenemang för Sportvagnsklubben Göteborg
REFRESH-INTERVAL;VALUE=DURATION:PT1H
X-Robots-Tag:noindex
X-PUBLISHED-TTL:PT1H
BEGIN:VTIMEZONE
TZID:Europe/Stockholm
BEGIN:DAYLIGHT
TZOFFSETFROM:+0100
TZOFFSETTO:+0200
TZNAME:CEST
DTSTART:20240331T010000
END:DAYLIGHT
BEGIN:STANDARD
TZOFFSETFROM:+0200
TZOFFSETTO:+0100
TZNAME:CET
DTSTART:20241027T010000
END:STANDARD
BEGIN:DAYLIGHT
TZOFFSETFROM:+0100
TZOFFSETTO:+0200
TZNAME:CEST
DTSTART:20250330T010000
END:DAYLIGHT
BEGIN:STANDARD
TZOFFSETFROM:+0200
TZOFFSETTO:+0100
TZNAME:CET
DTSTART:20251026T010000
END:STANDARD
BEGIN:DAYLIGHT
TZOFFSETFROM:+0100
TZOFFSETTO:+0200
TZNAME:CEST
DTSTART:20260329T010000
END:DAYLIGHT
BEGIN:STANDARD
TZOFFSETFROM:+0200
TZOFFSETTO:+0100
TZNAME:CET
DTSTART:20261025T010000
END:STANDARD
END:VTIMEZONE
BEGIN:VEVENT
DTSTART;TZID=Europe/Stockholm:20250410T150000
DTEND;TZID=Europe/Stockholm:20250410T200000
DTSTAMP:20260422T020734
CREATED:20241130T142040Z
LAST-MODIFIED:20250218T111517Z
UID:23380-1744297200-1744315200@svkg.se
SUMMARY:Sprint 1 Vårgårda
DESCRIPTION:Vi kör årets första sprint på Vårgårda flygplats. Här sträcker vi ut A-sprinten i dess fulla längd och bredd och varvar med vår nya bansträckning. \nPrecis som tidigare år kör vi träningsåk\, diskuterar angreppsvinklar\, konattacker\, däckval\, hjulvinklar\, hästkrafter\, väder och vind och fikar i eftermiddagssolen. \nPraktiska detaljer\n\nSamling: kl. 15:00.\nFörsta start: kl. 16:00\nAnmälan: Görs nedan genom biljettköp. Betalning kan också göras på plats via Swish 123-690 07 57.\nFörsäkring: För information om försäkring se generell information om våra sprintrace.\n\nGlöm inte kaffe och macka och kom så snart du hinner för jobb och annat ovidkommande! \nVälkomna!
URL:https://svkg.se/evenemang/sprintrace-2025-1/
LOCATION:Vårgårda flygplats\, Vårgårda flygplats\, Vårgårda\, 44721\, Sverige
ORGANIZER;CN="Racingkommitt%C3%A9n":MAILTO:racing@svkg.se
GEO:58.041199;12.788632
X-APPLE-STRUCTURED-LOCATION;VALUE=URI;X-ADDRESS=Vårgårda flygplats Vårgårda flygplats Vårgårda 44721 Sverige;X-APPLE-RADIUS=500;X-TITLE=Vårgårda flygplats:geo:12.788632,58.041199
END:VEVENT
BEGIN:VEVENT
DTSTART;TZID=Europe/Stockholm:20250415T180000
DTEND;TZID=Europe/Stockholm:20250415T190000
DTSTAMP:20260422T020734
CREATED:20250407T211851Z
LAST-MODIFIED:20250508T103439Z
UID:24668-1744740000-1744743600@svkg.se
SUMMARY:Extra årsmöte 2025
DESCRIPTION:Sportvagnsklubben kallar alla medlemmar till extra årsmöte. \nStyrelsen har inte kunnat konstituera sig efter det ordinarie årsmötet\, och har därför beslutat att kalla till ett extra årsmöte. På grund av den uppkomna situationen kommer valberedningen att ta fram ett nytt förslag till styrelse att presentera vid det extra årsmötet. \nPlats för årsmötet är Fritiofs Garage i Landvetter. Det kommer att bli två extra årsmöten på samma plats strax efter varandra. \nDagordning skickas ut till alla medlemmar i separat utskick. Dagordning och underlag till årsmötet kommer att finnas tillgängligt här nedan. Notera att du behöver vara inloggad som medlem för att se materialet. \n\n  \nVälkomna!
URL:https://svkg.se/evenemang/extra-arsmote-2025/
LOCATION:Fritiofs Garage\, Mediavägen 12\, Landvetter\, 438 91\, Sverige
ORGANIZER;CN="Styrelsen":MAILTO:styrelsen@svkg.se
GEO:57.6864001;12.1602865
X-APPLE-STRUCTURED-LOCATION;VALUE=URI;X-ADDRESS=Fritiofs Garage Mediavägen 12 Landvetter 438 91 Sverige;X-APPLE-RADIUS=500;X-TITLE=Mediavägen 12:geo:12.1602865,57.6864001
END:VEVENT
BEGIN:VEVENT
DTSTART;TZID=Europe/Stockholm:20250424T150000
DTEND;TZID=Europe/Stockholm:20250424T200000
DTSTAMP:20260422T020734
CREATED:20241130T133700Z
LAST-MODIFIED:20250218T110459Z
UID:23358-1745506800-1745524800@svkg.se
SUMMARY:Vårruset 2025
DESCRIPTION:Årets första banträff på snabba Falkenbergs Motorbana. Vår närmaste banträff\, bara att blåsa bort vinterdammet av ögonstenen och köra den korta sträckan till banan med de glada arrangörerna. \nDenna banträff är nästan alltid slutsåld på dagen\, så håll koll på biljettsläpp i våra nyhetsbrev. Vi planerar vi att släppa biljetterna redan 8:e februari\, så se till att ha betalat årets medlemsavgift i god tid innan så ni kan hänga på låset. \nProgrammet omfattar fri körning för samtliga bilar utan tidtagning\, med eller utan passagerare (gäller samtliga pass). \nPraktiska detaljer\n\nTider\n\n15.00 – 16.30 Inskrivning och besiktning\n16.30 – 16.50 Förarsammanträde\n17.00 – 20.00 Fri körning för samtliga bilar utan officiell tidtagning indelade i 3 grupper med 12-13-minuterspass.\n\n\nKörpass: Vi delar in oss i tre grupper – gröna med lite större avstånd mellan bilarna\, gula för rutinerade förare och röda för erfarna förare.\nAnmälan: Görs nedan genom biljettköp.\nBesiktning: Före körning måste din bil vara besiktigad. Detta gör du genom egenbesiktning på plats enligt vårt egenbesiktningsformulär (ladda ner\, skriv ut och ta med).\nMiljökrav: Läs vår miljöpolicy.\nLjudkrav: För samtliga bilar gäller bullerkravet max 95 dB(A) vid förbipassering under acceleration. De bilar som ej klarar denna gräns måste tyvärr tas av banan.\nSäkerhetsutrustning: Hjälm\, handskar och heltäckande bomullsklädsel är obligatorisk. Båge eller bur i öppna bilar.\nFörsäkring: Alla förare och passagerare måste ha licens\, dvs personförsäkring hos SMA. Denna kan skaffas på SMA:s sida för förarlicenser. Som vanligt gäller inte bilens försäkring vid körning på bana. Du kör på egen risk.\nSkador: SVKG förbehåller sig rätten att fakturera kostnader för skador på 2:e man (banans inventarier) till deltagare.\nPassagerare: Tillåtet i alla pass. Passageraren måste också ha SMA-licens.\nEl- och hybridbilar: Vi har för tillfället ingen möjlighet att tillåta el- eller hybridfordon på våra banträffar.\nFrågor: kan ställas till Anders Johansson\, tel: 0705-34 11 00\, eller epost anders.johansson@svkg.se.\n\nVälkommen!
URL:https://svkg.se/evenemang/varruset-2025/
LOCATION:Falkenbergs Motorbana\, Falkenbergs Motorbana\, Falkenberg\, 31195\, Sweden
ORGANIZER;CN="Racingkommitt%C3%A9n":MAILTO:racing@svkg.se
GEO:56.977519178514;12.563685122501
X-APPLE-STRUCTURED-LOCATION;VALUE=URI;X-ADDRESS=Falkenbergs Motorbana Falkenbergs Motorbana Falkenberg 31195 Sweden;X-APPLE-RADIUS=500;X-TITLE=Falkenbergs Motorbana:geo:12.563685122501,56.977519178514
END:VEVENT
END:VCALENDAR