BEGIN:VCALENDAR
VERSION:2.0
PRODID:-//Sportvagnsklubben Göteborg - ECPv6.15.11//NONSGML v1.0//EN
CALSCALE:GREGORIAN
METHOD:PUBLISH
X-WR-CALNAME:Sportvagnsklubben Göteborg
X-ORIGINAL-URL:https://svkg.se
X-WR-CALDESC:Evenemang för Sportvagnsklubben Göteborg
REFRESH-INTERVAL;VALUE=DURATION:PT1H
X-Robots-Tag:noindex
X-PUBLISHED-TTL:PT1H
BEGIN:VTIMEZONE
TZID:Europe/Stockholm
BEGIN:DAYLIGHT
TZOFFSETFROM:+0100
TZOFFSETTO:+0200
TZNAME:CEST
DTSTART:20240331T010000
END:DAYLIGHT
BEGIN:STANDARD
TZOFFSETFROM:+0200
TZOFFSETTO:+0100
TZNAME:CET
DTSTART:20241027T010000
END:STANDARD
BEGIN:DAYLIGHT
TZOFFSETFROM:+0100
TZOFFSETTO:+0200
TZNAME:CEST
DTSTART:20250330T010000
END:DAYLIGHT
BEGIN:STANDARD
TZOFFSETFROM:+0200
TZOFFSETTO:+0100
TZNAME:CET
DTSTART:20251026T010000
END:STANDARD
BEGIN:DAYLIGHT
TZOFFSETFROM:+0100
TZOFFSETTO:+0200
TZNAME:CEST
DTSTART:20260329T010000
END:DAYLIGHT
BEGIN:STANDARD
TZOFFSETFROM:+0200
TZOFFSETTO:+0100
TZNAME:CET
DTSTART:20261025T010000
END:STANDARD
END:VTIMEZONE
BEGIN:VEVENT
DTSTART;TZID=Europe/Stockholm:20250603T150000
DTEND;TZID=Europe/Stockholm:20250603T200000
DTSTAMP:20260421T233524
CREATED:20241130T142533Z
LAST-MODIFIED:20250527T214446Z
UID:23386-1748962800-1748980800@svkg.se
SUMMARY:Sprint 3 Vårgårda
DESCRIPTION:Vi kör årets tredje sprint på Vårgårda flygplats. \nHär får du möjligheten att testa dina färdigheter inom bilkontroll i SVKG:s egendesignade och uppskattade konbanor och samtidigt delta i Sprintcupen\, även känd som Rattmuffen Cup. \nPrecis som tidigare år kör vi träningsåk\, diskuterar angreppsvinklar\, konattacker\, däckval\, hjulvinklar\, hästkrafter\, väder och vind och fikar i eftermiddagssolen. \nPraktiska detaljer\n\nSamling: kl. 15:00.\nFörsta start: kl. 16:00\nAnmälan: Görs nedan genom biljettköp. Betalning kan också göras på plats via Swish 123-690 07 57.\nFörsäkring: För information om försäkring se generell information om våra sprintrace.\n\nGlöm inte kaffe och macka och kom så snart du hinner för jobb och annat ovidkommande! \nVälkomna!
URL:https://svkg.se/evenemang/sprintrace-2025-3/
LOCATION:Vårgårda flygplats\, Vårgårda flygplats\, Vårgårda\, 44721\, Sverige
ORGANIZER;CN="Racingkommitt%C3%A9n":MAILTO:racing@svkg.se
GEO:58.041199;12.788632
X-APPLE-STRUCTURED-LOCATION;VALUE=URI;X-ADDRESS=Vårgårda flygplats Vårgårda flygplats Vårgårda 44721 Sverige;X-APPLE-RADIUS=500;X-TITLE=Vårgårda flygplats:geo:12.788632,58.041199
END:VEVENT
BEGIN:VEVENT
DTSTART;TZID=Europe/Stockholm:20250604T160000
DTEND;TZID=Europe/Stockholm:20250604T210000
DTSTAMP:20260421T233524
CREATED:20250525T210011Z
LAST-MODIFIED:20250601T213347Z
UID:25171-1749052800-1749070800@svkg.se
SUMMARY:Onsdagsträff
DESCRIPTION:Vid våra torsdagsträffar gör vi utflykter till olika platser hela sommarsäsongen. Vi åker på trevliga ”körvänliga” vägar\, ca 2-4 mil\, till något kafé eller restaurang någonstans runt göteborgsområdet. \nUtflykten denna onsdag går till Mellanders i Hällingsjö. Vi samlas på parkeringen vid Net on Net Järnbrott kl. 16:00. \nVi åker iväg c:a 16:05 för att utnyttja kvällens ljusare timmar och hinna fram till destinationen i god tid. \nMan behöver inte anmäla sig\, det är bara att dyka upp. Alla är välkomna\, medlemmar som icke-medlemmar\, på våra utflykter. \nKartor\nKarta som visar den normala färdvägen till varje destination kan ni öppna här nedanför eller i vår SVKG-app. Vi har även angivit möjliga betalsätt (med reservation för att de kan ändras). \n\n\n\nKarta\nMöjliga betalsätt\n\n\n\n\nMellanders\, Hällingsjö\nSwish\, kontant\n\n\n\n  \nVälkomna!
URL:https://svkg.se/evenemang/onsdagstraff-2025-06-04/
LOCATION:NetOnNet Järnbrott\, Axel Adlers gata 4\, Västra Frölunda\, 421 32\, Sverige
ORGANIZER;CN="Touringkommitt%C3%A9n":MAILTO:touring@svkg.se
GEO:57.6467481;11.936682
X-APPLE-STRUCTURED-LOCATION;VALUE=URI;X-ADDRESS=NetOnNet Järnbrott Axel Adlers gata 4 Västra Frölunda 421 32 Sverige;X-APPLE-RADIUS=500;X-TITLE=Axel Adlers gata 4:geo:11.936682,57.6467481
END:VEVENT
BEGIN:VEVENT
DTSTART;TZID=Europe/Stockholm:20250608T080000
DTEND;TZID=Europe/Stockholm:20250608T163000
DTSTAMP:20260421T233524
CREATED:20241130T135114Z
LAST-MODIFIED:20250521T093419Z
UID:23362-1749369600-1749400200@svkg.se
SUMMARY:Bankalas
DESCRIPTION:Andra helgen i juni det dags att ta ut och lufta våra sportvagnar på racerbanan. Vårt traditionella ”Bankalas” går återigen av stapeln på den spännande och krävande racerbanan Kinnekulle Ring strax utanför Götene. \nMaxat med körtid på årets längsta banträff med hela 7\,5 timmars effektiv körtid uppdelad i 3 klasser. Glöm inte tanka fullt och när det ändå tar slut tankar du 98 på banområdet. \nPraktiska detaljer\n\nTider\n\n08.00 – 09.00 Inskrivning och besiktning\n08.40 Obligatoriskt förarmöte\n09.00 – 16.30 Fri körning för samtliga bilar utan tidtagning med indelning i tre grupper (gröna\, gula\, röda) med 15-minuterspass.\n\n\nKörpass: Grönapasset med lite större avstånd mellan bilarna\, gula passet för rutinerade förare och röda passet för erfarna förare.\nAnmälan: Öppnar 2 månader innan evenemanget och görs nedan genom biljettköp.\nBesiktning: Före körning måste din bil vara besiktigad. Detta gör du genom egenbesiktning på plats enligt vårt egenbesiktningsformulär(ladda ner\, skriv ut och ta med).\nMiljökrav: Läs vår miljöpolicy.\nLjudkrav: För samtliga bilar gäller bullerkravet 95 dB(A)mätt vid förbipassering på raksträcka under acceleration. De bilar som ej klarar denna gräns måste tyvärr tas av banan. \nSäkerhetsutrustning (lägsta nivå)\n\nDig själv: hjälm\, handskar\, läderskor samt heltäckande bomullsklädsel.\nDin bil: säkerhetsbälte\, båge i öppen bil och bil med ickebärande takkonstruktion.\n\n\nFörsäkring: Alla förare och passagerare måste ha licens\, dvs personförsäkring hos SMA. Denna kan skaffas på SMA:s sida för förarlicenser. Som vanligt gäller inte bilens försäkring vid körning på bana. Du kör på egen risk.\nSkador: SVKG förbehåller sig rätten att fakturera kostnader för skador på 2:e man (banans inventarier) till deltagare.\nPassagerare: Tillåtet i alla pass. Passageraren måste också ha SMA-licens.\nMat: Hamburgerlunch ingår i anmälningsavgiften.\nÖvernattning: Hotell Gustaf i Götene erbjuder deltagande medlemmar rabatt övernattning inklusive frukostbuffé. För bokning kontakta dem på telefon 0511-59010 eller epost info@hotellgustaf.se och ange kod kinnekullering.\nEl- och hybridbilar: Vi har för tillfället ingen möjlighet att tillåta el- eller hybridfordon på våra banträffar.\nOrganisationkommitté\n\nHuvudansvarig – Oscar Kärrqvist\, tel: 0705-242029\, epost: oscar.karrqvist@svkg.se.
URL:https://svkg.se/evenemang/bankalas-2025/
LOCATION:Kinnekulle ring\, Kinne-Kleva\, Götene\, 53396\, Sverige
ORGANIZER;CN="Racingkommitt%C3%A9n":MAILTO:racing@svkg.se
GEO:58.5426685;13.4166941
X-APPLE-STRUCTURED-LOCATION;VALUE=URI;X-ADDRESS=Kinnekulle ring Kinne-Kleva Götene 53396 Sverige;X-APPLE-RADIUS=500;X-TITLE=Kinne-Kleva:geo:13.4166941,58.5426685
END:VEVENT
BEGIN:VEVENT
DTSTART;TZID=Europe/Stockholm:20250612T180000
DTEND;TZID=Europe/Stockholm:20250612T210000
DTSTAMP:20260421T233524
CREATED:20241130T142510Z
LAST-MODIFIED:20250608T200943Z
UID:23392-1749751200-1749762000@svkg.se
SUMMARY:Torsdagsträff
DESCRIPTION:Vid våra torsdagsträffar gör vi utflykter till olika platser hela sommarsäsongen. Vi åker på trevliga ”körvänliga” vägar\, ca 2-4 mil\, till något kafé eller restaurang någonstans runt göteborgsområdet. \nUtflykten denna torsdag går till Lerbergs Gårdscafé i Kungsbacka. Vi samlas på parkeringen vid NetOnNet i Järnbrott kl. 18.00. \nVi åker iväg c:a 18:05 för att utnyttja kvällens ljusare timmar och hinna fram till destinationen i god tid. \nMan behöver inte anmäla sig\, det är bara att dyka upp. Alla är välkomna\, medlemmar som icke-medlemmar\, på våra utflykter. \nKartor\nKarta som visar den normala färdvägen till varje destination kan ni öppna här nedanför eller i vår SVKG-app. Vi har även angivit möjliga betalsätt (med reservation för att de kan ändras). \nGoogle Maps i mobilen  Om ni använder kartan under färd via SVKG-appen\, se till att trycka på Fortsätt/Continue vid varje kontrollpunkt i kartan för att den ska visa instruktioner för nästa delsträcka. \n\n\n\nKarta\nMöjliga betalsätt\n\n\n\n\nLerbergs Gårdscafé\, KungsbackaTips: Stäng av ”Undvik motorvägar” för denna karta i Google Maps på mobilen.\nSwish\, kontant\n\n\n\n  \nVälkomna!
URL:https://svkg.se/evenemang/torsdagstraff-2025-06-12/
ORGANIZER;CN="Touringkommitt%C3%A9n":MAILTO:touring@svkg.se
END:VEVENT
BEGIN:VEVENT
DTSTART;TZID=Europe/Stockholm:20250615T083000
DTEND;TZID=Europe/Stockholm:20250615T160000
DTSTAMP:20260421T233524
CREATED:20250520T221927Z
LAST-MODIFIED:20250610T174154Z
UID:25139-1749976200-1750003200@svkg.se
SUMMARY:Tårtkalas
DESCRIPTION:SVKG bjuder in till en speciellt arrangerad utflykt i samarbete med Herrljunga flygklubb för att fira klubbens kommande födelsedag med bland annat segelflygning\, grillning och tårta. \n\nVi ger oss ut på en tur till Herrljunga flygklubb där vi\, genom Hans ”Hacke” Forsbergs försorg\, som är medlem både hos oss och i flygklubben\, får tillfälle att följa med på en tur i luften i deras segelflygplan för den som vill och vågar. \nVi kommer att grilla klassiska välsmakande Glennkorvar och naturligtvis bjudas på tårta för att fira klubbens födelsedag (som inträffar två dagar senare\, den 17:e juni). \nFörutom detta kommer vi att bjudas på några spännande överraskningar på flygplatsen under dagen. Vi kommer att få besök av ett Hercules-plan i skala 1:10 med 4 meters vingbredd\, och även en fungerande modell av Stridsvagn S i skala 1:5. Missa inte detta! \nVi samlas på British Auto i Stenkullen kl. 08.30 för avfärd kl. 09.00. Vi beräknar att vara framme i Herrljunga kl. 10.00. \nAnmälan till utflykten görs senast 12:e juni och är obligatorisk\, dock är anmälan till provflygning (knappval i anmälan) preliminär för att få en uppfattning av hur många som vill provflyga. Flygning genomförs endast vid gynnsamt väder. Kostnaden är 650 kr och betalas på plats. \nVi kommer att använda kartor från appen Kurviger som ett test för karta och rutt. Installera gärna appen i mobilen och återkoppla till oss hur den fungerar. Har ni inte appen installerad öppnas kartan i webbläsaren. \nKarta Stenkullen – Herrljunga flygfält \nVälkomna!
URL:https://svkg.se/evenemang/tartkalas-2025-06-15/
LOCATION:British Auto\, Hede Gärde\, Stenkullen\, 44360\, Sverige
ORGANIZER;CN="Touringkommitt%C3%A9n":MAILTO:touring@svkg.se
GEO:57.782978;12.296263
X-APPLE-STRUCTURED-LOCATION;VALUE=URI;X-ADDRESS=British Auto Hede Gärde Stenkullen 44360 Sverige;X-APPLE-RADIUS=500;X-TITLE=Hede Gärde:geo:12.296263,57.782978
END:VEVENT
BEGIN:VEVENT
DTSTART;TZID=Europe/Stockholm:20250619T180000
DTEND;TZID=Europe/Stockholm:20250619T210000
DTSTAMP:20260421T233524
CREATED:20241130T142510Z
LAST-MODIFIED:20250617T101822Z
UID:23393-1750356000-1750366800@svkg.se
SUMMARY:Torsdagsträff
DESCRIPTION:Vid våra torsdagsträffar gör vi utflykter till olika platser hela sommarsäsongen. Vi åker på trevliga ”körvänliga” vägar\, ca 2-4 mil\, till något kafé eller restaurang någonstans runt göteborgsområdet. \nUtflykten denna torsdag går till Café Sjöboa i Fiskebäck på en kortare tur dagen innan midsommar för att komma fram i god tid. Vi samlas på utsiktsplatsen på Ramberget kl. 18.00. \nVi åker iväg c:a 18:05 för att utnyttja kvällens ljusare timmar och hinna fram till destinationen i god tid. \nMan behöver inte anmäla sig\, det är bara att dyka upp. Alla är välkomna\, medlemmar som icke-medlemmar\, på våra utflykter. \nKartor\nKarta som visar den normala färdvägen till varje destination kan ni öppna här nedanför eller i vår SVKG-app. Vi har även angivit möjliga betalsätt (med reservation för att de kan ändras). \n\n\n\nKarta\nMöjliga betalsätt\n\n\n\n\nCafé Sjöboa\, Fiskebäck\nSwish\, kort\, kontant\n\n\n\n  \nVälkomna!
URL:https://svkg.se/evenemang/torsdagstraff-2025-06-19/
ORGANIZER;CN="Touringkommitt%C3%A9n":MAILTO:touring@svkg.se
END:VEVENT
BEGIN:VEVENT
DTSTART;TZID=Europe/Stockholm:20250626T180000
DTEND;TZID=Europe/Stockholm:20250626T210000
DTSTAMP:20260421T233524
CREATED:20241130T142510Z
LAST-MODIFIED:20250622T191720Z
UID:23394-1750960800-1750971600@svkg.se
SUMMARY:Torsdagsträff
DESCRIPTION:Vid våra torsdagsträffar gör vi utflykter till olika platser hela sommarsäsongen. Vi åker på trevliga ”körvänliga” vägar\, ca 2-4 mil\, till något kafé eller restaurang någonstans runt göteborgsområdet. \nUtflykten denna torsdag går till Gårdsbageriet i Idala. Vi samlas på parkeringen utanför NetOnNet i Järnbrott kl. 18.00. \nVi åker iväg c:a 18:05 för att utnyttja kvällens ljusare timmar och hinna fram till destinationen i god tid. \nMan behöver inte anmäla sig\, det är bara att dyka upp. Alla är välkomna\, medlemmar som icke-medlemmar\, på våra utflykter. \nKartor\nKarta som visar den normala färdvägen till varje destination kan ni öppna här nedanför eller i vår SVKG-app. Vi har även angivit möjliga betalsätt (med reservation för att de kan ändras). \n\n\n\nKarta\nMöjliga betalsätt\n\n\n\n\nGårdsbageriet\, IdalaTips: Sätt på ”Undvik motorvägar” för denna karta i Google Maps på mobilen.\nKort\, kontant\n\n\n\n  \nVälkomna!
URL:https://svkg.se/evenemang/torsdagstraff-2025-06-26/
ORGANIZER;CN="Touringkommitt%C3%A9n":MAILTO:touring@svkg.se
END:VEVENT
END:VCALENDAR