BEGIN:VCALENDAR
VERSION:2.0
PRODID:-//Sportvagnsklubben Göteborg - ECPv6.15.11//NONSGML v1.0//EN
CALSCALE:GREGORIAN
METHOD:PUBLISH
X-WR-CALNAME:Sportvagnsklubben Göteborg
X-ORIGINAL-URL:https://svkg.se
X-WR-CALDESC:Evenemang för Sportvagnsklubben Göteborg
REFRESH-INTERVAL;VALUE=DURATION:PT1H
X-Robots-Tag:noindex
X-PUBLISHED-TTL:PT1H
BEGIN:VTIMEZONE
TZID:Europe/Stockholm
BEGIN:DAYLIGHT
TZOFFSETFROM:+0100
TZOFFSETTO:+0200
TZNAME:CEST
DTSTART:20240331T010000
END:DAYLIGHT
BEGIN:STANDARD
TZOFFSETFROM:+0200
TZOFFSETTO:+0100
TZNAME:CET
DTSTART:20241027T010000
END:STANDARD
BEGIN:DAYLIGHT
TZOFFSETFROM:+0100
TZOFFSETTO:+0200
TZNAME:CEST
DTSTART:20250330T010000
END:DAYLIGHT
BEGIN:STANDARD
TZOFFSETFROM:+0200
TZOFFSETTO:+0100
TZNAME:CET
DTSTART:20251026T010000
END:STANDARD
BEGIN:DAYLIGHT
TZOFFSETFROM:+0100
TZOFFSETTO:+0200
TZNAME:CEST
DTSTART:20260329T010000
END:DAYLIGHT
BEGIN:STANDARD
TZOFFSETFROM:+0200
TZOFFSETTO:+0100
TZNAME:CET
DTSTART:20261025T010000
END:STANDARD
END:VTIMEZONE
BEGIN:VEVENT
DTSTART;TZID=Europe/Stockholm:20250803T073000
DTEND;TZID=Europe/Stockholm:20250803T160000
DTSTAMP:20260421T210659
CREATED:20241130T135942Z
LAST-MODIFIED:20260312T131425Z
UID:23365-1754206200-1754236800@svkg.se
SUMMARY:Banmöte Gelleråsen
DESCRIPTION:SVKG tillsammans med MX-5 Racing Club bjuder in till banmöte på Gelleråsen. \nAnmälan sköts av MX-5 Racing Club och ni anmäler er via deras anmälningsformulär för deltagare. \nOm ni också är medlem i MX-5 Racing Club betalar ni ett subventionerat\, om inte betalar ni ordinarie avgift\, till deras Plusgiro 453146-3 eller Bankgiro 223-0811. I priset ingår lunch i restaurangen på banan.
URL:https://svkg.se/evenemang/banmote-gellerasen-2025-08-03/
LOCATION:Karlskoga Motorstadion\, Gelleråsen 654\, Gälleråsen\, 691 91\, Sverige
GEO:59.3823207;14.5077457
X-APPLE-STRUCTURED-LOCATION;VALUE=URI;X-ADDRESS=Karlskoga Motorstadion Gelleråsen 654 Gälleråsen 691 91 Sverige;X-APPLE-RADIUS=500;X-TITLE=Gelleråsen 654:geo:14.5077457,59.3823207
END:VEVENT
BEGIN:VEVENT
DTSTART;TZID=Europe/Stockholm:20250806T150000
DTEND;TZID=Europe/Stockholm:20250806T200000
DTSTAMP:20260421T210659
CREATED:20241130T142748Z
LAST-MODIFIED:20250218T111239Z
UID:23409-1754492400-1754510400@svkg.se
SUMMARY:Sprint 4 Vårgårda
DESCRIPTION:Vi kör årets fjärde sprint på Vårgårda flygplats. Här sträcker vi ut A-sprinten i dess fulla längd och bredd och varvar med vår nya bansträckning. \nPrecis som tidigare år kör vi träningsåk\, diskuterar angreppsvinklar\, konattacker\, däckval\, hjulvinklar\, hästkrafter\, väder och vind och fikar i eftermiddagssolen. \nPraktiska detaljer\n\nSamling: kl. 15:00.\nFörsta start: kl. 16:00\nAnmälan: Görs nedan genom biljettköp. Betalning kan också göras på plats via Swish 123-690 07 57.\nFörsäkring: För information om försäkring se generell information om våra sprintrace.\n\nGlöm inte kaffe och macka och kom så snart du hinner för jobb och annat ovidkommande! \nVälkomna!
URL:https://svkg.se/evenemang/sprintrace-2025-4/
LOCATION:Vårgårda flygplats\, Vårgårda flygplats\, Vårgårda\, 44721\, Sverige
ORGANIZER;CN="Racingkommitt%C3%A9n":MAILTO:racing@svkg.se
GEO:58.041199;12.788632
X-APPLE-STRUCTURED-LOCATION;VALUE=URI;X-ADDRESS=Vårgårda flygplats Vårgårda flygplats Vårgårda 44721 Sverige;X-APPLE-RADIUS=500;X-TITLE=Vårgårda flygplats:geo:12.788632,58.041199
END:VEVENT
BEGIN:VEVENT
DTSTART;TZID=Europe/Stockholm:20250807T160000
DTEND;TZID=Europe/Stockholm:20250807T190000
DTSTAMP:20260421T210659
CREATED:20241130T142510Z
LAST-MODIFIED:20250807T110757Z
UID:25415-1754582400-1754593200@svkg.se
SUMMARY:Torsdagsträff
DESCRIPTION:Vid våra torsdagsträffar gör vi utflykter till olika platser hela sommarsäsongen. Vi åker på trevliga ”körvänliga” vägar\, ca 2-4 mil\, till något kafé eller restaurang någonstans runt göteborgsområdet. \nUtflykten denna torsdag går till Café Gläntebo i Backamo. Vi samlas på parkeringen utanför Bohus Fästning i Kungälv kl. 16.00 (OBS! starttiden). \nVi åker iväg c:a 16:05 för att hinna fram till destinationen i god tid. \nMan behöver inte anmäla sig\, det är bara att dyka upp. Alla är välkomna\, medlemmar som icke-medlemmar\, på våra utflykter. \nKartor\nKarta som visar den normala färdvägen till varje destination kan ni öppna här nedanför eller i vår SVKG-app. Vi har även angivit möjliga betalsätt (med reservation för att de kan ändras). \n\n\n\nKarta\nMöjliga betalsätt\n\n\n\n\nBohus Fästning – Café Gläntebo\, Backamo\nSwish\, kort\n\n\n\n  \nVälkomna!
URL:https://svkg.se/evenemang/torsdagstraff-2025-08-07/
ORGANIZER;CN="Touringkommitt%C3%A9n":MAILTO:touring@svkg.se
END:VEVENT
BEGIN:VEVENT
DTSTART;TZID=Europe/Stockholm:20250814T180000
DTEND;TZID=Europe/Stockholm:20250814T210000
DTSTAMP:20260421T210659
CREATED:20241130T142510Z
LAST-MODIFIED:20250812T134154Z
UID:23401-1755194400-1755205200@svkg.se
SUMMARY:Torsdagsträff
DESCRIPTION:Vid våra torsdagsträffar gör vi utflykter till olika platser hela sommarsäsongen. Vi åker på trevliga ”körvänliga” vägar\, ca 2-4 mil\, till något kafé eller restaurang någonstans runt göteborgsområdet. \nUtflykten denna torsdag går till Systrarna Werner vid Billdals gård. Vi samlas på parkeringen utanför NetOnNet i Järnbrott kl. 18.00. \nVi åker iväg c:a 18:05 för att hinna fram till destinationen i god tid. \nMan behöver inte anmäla sig\, det är bara att dyka upp. Alla är välkomna\, medlemmar som icke-medlemmar\, på våra utflykter. \nKartor\nKarta som visar den normala färdvägen till varje destination kan ni öppna här nedanför eller i vår SVKG-app. Vi har även angivit möjliga betalsätt (med reservation för att de kan ändras). \n\n\n\nKarta\nMöjliga betalsätt\n\n\n\n\nJärnbrott – Systrarna Werner\, Billdals gård\nSwish\, kort\, kontant\n\n\n\n  \nVälkomna!
URL:https://svkg.se/evenemang/torsdagstraff-2025-08-14/
ORGANIZER;CN="Touringkommitt%C3%A9n":MAILTO:touring@svkg.se
END:VEVENT
BEGIN:VEVENT
DTSTART;TZID=Europe/Stockholm:20250817T100000
DTEND;TZID=Europe/Stockholm:20250817T190000
DTSTAMP:20260421T210659
CREATED:20241130T143021Z
LAST-MODIFIED:20250811T111758Z
UID:23432-1755424800-1755457200@svkg.se
SUMMARY:Sprintfinal / Polestar Trophy Vårgårda
DESCRIPTION:Vi åker denna avslutande sprintfinal\, deltävling nr 5\, och Polestar Trophy på Vårgårda flygplats. \nHär sträcker vi ut A-sprinten i dess fulla längd och bredd och varvar med vår nya bansträckning\, med flera belönande accelerationer och en och annan inbromsning. \nDagen avslutas med att de tre klassvinnarna gör upp om A Star in a Resonably Priced Car – Polestar Trophy. \nPraktiska detaljer\n\nSamling: kl. 10.00\nFörsta start: kl. 11.00\nAnmälan: Görs nedan genom biljettköp. Betalning kan också göras på plats via Swish 123-690 07 57.\nFörsäkring: För information om försäkring se generell information om våra sprintrace.\n\nGlöm inte att ta med dricka/kaffe\, klubben bjuder på Glennkorv med tillbehör och kom så snart du hinner från jobb och annat ovidkommande! \nVälkomna!
URL:https://svkg.se/evenemang/sprintrace-2025-5/
LOCATION:Vårgårda flygplats\, Vårgårda flygplats\, Vårgårda\, 44721\, Sverige
ORGANIZER;CN="Racingkommitt%C3%A9n":MAILTO:racing@svkg.se
GEO:58.041199;12.788632
X-APPLE-STRUCTURED-LOCATION;VALUE=URI;X-ADDRESS=Vårgårda flygplats Vårgårda flygplats Vårgårda 44721 Sverige;X-APPLE-RADIUS=500;X-TITLE=Vårgårda flygplats:geo:12.788632,58.041199
END:VEVENT
BEGIN:VEVENT
DTSTART;TZID=Europe/Stockholm:20250821T180000
DTEND;TZID=Europe/Stockholm:20250821T210000
DTSTAMP:20260421T210659
CREATED:20241130T142510Z
LAST-MODIFIED:20250818T205035Z
UID:23402-1755799200-1755810000@svkg.se
SUMMARY:Torsdagsträff
DESCRIPTION:Vid våra torsdagsträffar gör vi utflykter till olika platser hela sommarsäsongen. Vi åker på trevliga ”körvänliga” vägar\, ca 2-4 mil\, till något kafé eller restaurang någonstans runt göteborgsområdet. \nUtflykten denna torsdag går till Instö Kök&Bar på Vrångholmen. Vi samlas på parkeringen utanför Volvohallen/Volvo VAK i Torslanda kl. 18.00. \nVi åker iväg c:a 18:05 för att hinna fram till destinationen i god tid. \nMan behöver inte anmäla sig\, det är bara att dyka upp. Alla är välkomna\, medlemmar som icke-medlemmar\, på våra utflykter. \nKartor\nKarta som visar den normala färdvägen till varje destination kan ni öppna här nedanför eller i vår SVKG-app. Vi har även angivit möjliga betalsätt (med reservation för att de kan ändras). \n\n\n\nKarta\nMöjliga betalsätt\n\n\n\n\nVolvohallen – Instö Kök&Bar\, Vrångholmen\nSwish\, kort\, kontant\n\n\n\n  \nVälkomna!
URL:https://svkg.se/evenemang/torsdagstraff-2025-08-21/
ORGANIZER;CN="Touringkommitt%C3%A9n":MAILTO:touring@svkg.se
END:VEVENT
BEGIN:VEVENT
DTSTART;TZID=Europe/Stockholm:20250825T073000
DTEND;TZID=Europe/Stockholm:20250825T160000
DTSTAMP:20260421T210700
CREATED:20241130T140529Z
LAST-MODIFIED:20250702T070051Z
UID:23369-1756107000-1756137600@svkg.se
SUMMARY:Banmöte Ring Knutstorp
DESCRIPTION:SVKG inbjuder till banmöte på Ring Knutstorp. \nBanan är 2070 meter lång\, 10-12 meter bred och är känd som en mycket kuperad och krävande bana med flera långsamma och några snabba kurvor. Den kallas ibland för The Nürburgring of Sweden och marknadsförs idag som Valley of Speed. \nHär möter vi både backar\, krön och såväl bankade kurvor som högfartsböjar och långsamma 180-graderskurvor. Helt enkelt en bana som vill köra på minst en gång varje sommar. Vi har förstås som vanligt med våra instruktörer som kan hjälpa till att utveckla er körning. \nSVKG Heritage – grupp för äldre bilar\nFör att få ut våra äldre rariteter och låta dem sträcka ut sig på våra trackdays har vi infört SVKG Heritage\, en grupp där bilar av årsmodell 1971 eller äldre är välkomna. \nSVKG Heritage kommer att finnas med vid de tillfällen då vi kör heldagar och planerar att erbjuda ett eller två körpass beroende på uppslutning. En grundförutsättning är att vi har minst 5 ekipage anmälda i gruppen. \nAnmälan är öppen för denna grupp\, se nedan under Biljetter. Om vi får mindre än 5 ekipage anmälda till denna grupp\, kommer den inte att köras. Anmälningsavgiften kommer i så fall att återbetalas automatiskt till de som anmält sig till denna grupp. \nPraktiska detaljer\n\nTider\n\n07.30 Inskrivning och besiktning startar\n08.45 Obligatoriskt förarmöte\n09.00 – 16.00 Körning i grupper\n\n\nKörpass: Vi delar in oss i 4 grupper – grönamed lite större avstånd mellan bilarna\, gula för rutinerade förare\, röda för erfarna förare\, samt SVKG Heritage för bilar av årsmodell 1971 eller äldre under förutsättning att det blir 5 eller fler anmälda. Annars utgår denna grupp som egen grupp.\nAnmälan: Görs nedan genom biljettköp.\nBesiktning: Före körning måste din bil vara besiktigad. Detta gör du genom egenbesiktning på plats enligt vårt egenbesiktningsformulär(ladda ner\, skriv ut och ta med).\nMiljökrav: Läs vår miljöpolicy.\nLjudkrav: Högsta tillåtna ljudnivå är 95 dB(A) vid förbipassering. Banägaren mäter kontinuerligt.\nSäkerhetsutrustning: Hjälm\, handskar och heltäckande bomullsklädsel är obligatorisk. Båge eller bur i öppna bilar.\nFörsäkring: Alla förare och passagerare måste ha licens\, dvs personförsäkring hos SMA. Denna kan skaffas på SMA:s sida för förarlicenser. Som vanligt gäller inte bilens försäkring vid körning på bana. Du kör på egen risk.\nSkador: SVKG förbehåller sig rätten att fakturera kostnader för skador på 2:e man (banans inventarier) till deltagare.\nPassagerare: Tillåtet i alla pass. Passageraren måste också ha SMA-licens.\nEl- och hybridbilar: Vi har för tillfället ingen möjlighet att tillåta el- eller hybridfordon på våra banträffar.\nMat: Restaurang med dagens rätt och cafeteria är öppen hela dagen. Lunch ingår i anmälan.\nFrågor: kan ställas till Oscar Kärrqvist\, tel: 0705-242029\, epost: oscar.karrqvist@svkg.se.\n\nVälkomna!
URL:https://svkg.se/evenemang/banmote-ring-knutstorp-2025-08-25/
LOCATION:Ring Knutstorp\, Ring Knutstorp\, Kågeröd\, 268 05\, Sverige
ORGANIZER;CN="Racingkommitt%C3%A9n":MAILTO:racing@svkg.se
GEO:55.9885514;13.1122197
X-APPLE-STRUCTURED-LOCATION;VALUE=URI;X-ADDRESS=Ring Knutstorp Ring Knutstorp Kågeröd 268 05 Sverige;X-APPLE-RADIUS=500;X-TITLE=Ring Knutstorp:geo:13.1122197,55.9885514
END:VEVENT
BEGIN:VEVENT
DTSTART;TZID=Europe/Stockholm:20250828T180000
DTEND;TZID=Europe/Stockholm:20250828T210000
DTSTAMP:20260421T210700
CREATED:20241130T142510Z
LAST-MODIFIED:20250827T104132Z
UID:23403-1756404000-1756414800@svkg.se
SUMMARY:Torsdagsträff
DESCRIPTION:Vid våra torsdagsträffar gör vi utflykter till olika platser hela sommarsäsongen. Vi åker på trevliga ”körvänliga” vägar\, ca 2-4 mil\, till något kafé eller restaurang någonstans runt göteborgsområdet. \nUtflykten denna torsdag går till Café Sjöboa i Fiskebäck. Vi samlas på Ramberget kl. 18.00. \nVi åker iväg c:a 18:05 för att hinna fram till destinationen i god tid. \nMan behöver inte anmäla sig\, det är bara att dyka upp. Alla är välkomna\, medlemmar som icke-medlemmar\, på våra utflykter. \nKartor\nKarta som visar den normala färdvägen till varje destination kan ni öppna här nedanför eller i vår SVKG-app. Vi har även angivit möjliga betalsätt (med reservation för att de kan ändras). \n\n\n\nKarta\nMöjliga betalsätt\n\n\n\n\nRamberget – Café Sjöboa\, Fiskebäck\nSwish\, kort\, kontant\n\n\n\n  \nVälkomna!
URL:https://svkg.se/evenemang/torsdagstraff-2025-08-28/
ORGANIZER;CN="Touringkommitt%C3%A9n":MAILTO:touring@svkg.se
END:VEVENT
END:VCALENDAR