BEGIN:VCALENDAR
VERSION:2.0
PRODID:-//Sportvagnsklubben Göteborg - ECPv6.15.11//NONSGML v1.0//EN
CALSCALE:GREGORIAN
METHOD:PUBLISH
X-WR-CALNAME:Sportvagnsklubben Göteborg
X-ORIGINAL-URL:https://svkg.se
X-WR-CALDESC:Evenemang för Sportvagnsklubben Göteborg
REFRESH-INTERVAL;VALUE=DURATION:PT1H
X-Robots-Tag:noindex
X-PUBLISHED-TTL:PT1H
BEGIN:VTIMEZONE
TZID:Europe/Stockholm
BEGIN:DAYLIGHT
TZOFFSETFROM:+0100
TZOFFSETTO:+0200
TZNAME:CEST
DTSTART:20250330T010000
END:DAYLIGHT
BEGIN:STANDARD
TZOFFSETFROM:+0200
TZOFFSETTO:+0100
TZNAME:CET
DTSTART:20251026T010000
END:STANDARD
BEGIN:DAYLIGHT
TZOFFSETFROM:+0100
TZOFFSETTO:+0200
TZNAME:CEST
DTSTART:20260329T010000
END:DAYLIGHT
BEGIN:STANDARD
TZOFFSETFROM:+0200
TZOFFSETTO:+0100
TZNAME:CET
DTSTART:20261025T010000
END:STANDARD
BEGIN:DAYLIGHT
TZOFFSETFROM:+0100
TZOFFSETTO:+0200
TZNAME:CEST
DTSTART:20270328T010000
END:DAYLIGHT
BEGIN:STANDARD
TZOFFSETFROM:+0200
TZOFFSETTO:+0100
TZNAME:CET
DTSTART:20271031T010000
END:STANDARD
END:VTIMEZONE
BEGIN:VEVENT
DTSTART;TZID=Europe/Stockholm:20260115T180000
DTEND;TZID=Europe/Stockholm:20260115T210000
DTSTAMP:20260421T134757
CREATED:20251201T120139Z
LAST-MODIFIED:20260108T215059Z
UID:26091-1768500000-1768510800@svkg.se
SUMMARY:Filmkväll
DESCRIPTION:Vi inbjuder till en filmkväll då vi tittar på en klassisk actionrulle från 1969 och tillsammans äter en bit mat. \nEn fartfylld historia om en kupp där ett gäng charmiga tjuvar förvandlar trånga europeiska gator till sin egen lekplats. Med små\, kvicka bilar\, smarta planer och ännu smartare vändningar bjuder filmen på elegant humor\, stilfull action och ett av filmvärldens mest ikoniska rån. \nAnmälan till deltagande görs här nedan och då ingår filmvisning\, snacks\, godis och dricka. \nPassa på att bjuda med maka/make eller en vän (eller två) på en trevlig tillställning till ett synnerligen trivsamt pris! \nAntal platser är begränsat\, så det är först till kvarn som gäller. \nPraktiska detaljer\n\n18.00-19.00 Vi träffas vid Odinsgrillen och äter tillsammans till självkostnadspris. För de som önskar finns möjlighet att köpa vin/öl.\n19.00- Filmvisning i Friggasalen på Odinsplatsen 4\, där det finns godis och popcorn som vi bjuder på.\n\nVälkomna!
URL:https://svkg.se/evenemang/filmkvall-2026-01-15/
LOCATION:Brf Friggagatan Friggasalen\, Odinsplatsen 4\, Göteborg\, 41101\, Sweden
ORGANIZER;CN="Touringkommitt%C3%A9n":MAILTO:touring@svkg.se
END:VEVENT
BEGIN:VEVENT
DTSTART;TZID=Europe/Stockholm:20260124T130000
DTEND;TZID=Europe/Stockholm:20260124T170000
DTSTAMP:20260421T134757
CREATED:20251201T122805Z
LAST-MODIFIED:20260118T152508Z
UID:26099-1769259600-1769274000@svkg.se
SUMMARY:Virtuell Racing Cup sprint 2
DESCRIPTION:Vi kör sprint 2 i SVKG Virtuell Racing Cup i Smedjan. Under eftermiddagen bjuds på kaffe och fika för de som önskar. \nVi kör ett träningsvarv och sedan så många stintar vi hinner under eftermiddagen. \nVi kör en separat klass för ungdomar (under 18 år) / utan körkort (någonsin). \nPraktiska detaljer\n\nAnmälan: Görs här nedan.\nUtrustning: PlayStation 4 Pro\, racingstol\, Force Feedback-ratt med paddlar och 3 pedaler\, Playstation VR-glasögon och spelet Gran Turismo Sport.\nMat: Vi bjuder på kaffe och fika.\nFrågor: Besvaras av andras.lengyel@svkg.se.\n\nVälkomna!
URL:https://svkg.se/evenemang/virtuell-racing-2025-2/
LOCATION:Smedjan\, Hults gata 26\, Askim\, 43644\, Sweden
ORGANIZER;CN="Racingkommitt%C3%A9n":MAILTO:racing@svkg.se
GEO:57.635582;11.925313
X-APPLE-STRUCTURED-LOCATION;VALUE=URI;X-ADDRESS=Smedjan Hults gata 26 Askim 43644 Sweden;X-APPLE-RADIUS=500;X-TITLE=Hults gata 26:geo:11.925313,57.635582
END:VEVENT
END:VCALENDAR