BEGIN:VCALENDAR
VERSION:2.0
PRODID:-//Sportvagnsklubben Göteborg - ECPv6.15.11//NONSGML v1.0//EN
CALSCALE:GREGORIAN
METHOD:PUBLISH
X-ORIGINAL-URL:https://svkg.se
X-WR-CALDESC:Evenemang för Sportvagnsklubben Göteborg
REFRESH-INTERVAL;VALUE=DURATION:PT1H
X-Robots-Tag:noindex
X-PUBLISHED-TTL:PT1H
BEGIN:VTIMEZONE
TZID:Europe/Stockholm
BEGIN:DAYLIGHT
TZOFFSETFROM:+0100
TZOFFSETTO:+0200
TZNAME:CEST
DTSTART:20250330T010000
END:DAYLIGHT
BEGIN:STANDARD
TZOFFSETFROM:+0200
TZOFFSETTO:+0100
TZNAME:CET
DTSTART:20251026T010000
END:STANDARD
BEGIN:DAYLIGHT
TZOFFSETFROM:+0100
TZOFFSETTO:+0200
TZNAME:CEST
DTSTART:20260329T010000
END:DAYLIGHT
BEGIN:STANDARD
TZOFFSETFROM:+0200
TZOFFSETTO:+0100
TZNAME:CET
DTSTART:20261025T010000
END:STANDARD
BEGIN:DAYLIGHT
TZOFFSETFROM:+0100
TZOFFSETTO:+0200
TZNAME:CEST
DTSTART:20270328T010000
END:DAYLIGHT
BEGIN:STANDARD
TZOFFSETFROM:+0200
TZOFFSETTO:+0100
TZNAME:CET
DTSTART:20271031T010000
END:STANDARD
END:VTIMEZONE
BEGIN:VEVENT
DTSTART;TZID=Europe/Stockholm:20260903T140000
DTEND;TZID=Europe/Stockholm:20260903T190000
DTSTAMP:20260421T191749
CREATED:20251201T143713Z
LAST-MODIFIED:20251201T143713Z
UID:26139-1788444000-1788462000@svkg.se
SUMMARY:Höstrus(k)et 2026
DESCRIPTION:Årets sista banträff på snabba Falkenbergs Motorbana. Vår närmaste banträff innan det är dags att tvätta\, putsa och garagera våra ögonstenar inför vintern med snö och kyla. Nästan alltid slutsålt på dagen\, så håll koll på datum för biljettsläppet. \nProgrammet omfattar fri körning för samtliga bilar utan tidtagning\, med eller utan passagerare (gäller samtliga pass). \nSVKG Heritage – grupp för äldre bilar\nFör att få ut våra äldre rariteter och låta dem sträcka ut sig på våra trackdays har vi infört SVKG Heritage\, en grupp där bilar av årsmodell 1971 eller äldre är välkomna. \nSVKG Heritage kommer att finnas med vid de tillfällen då vi kör heldagar och planerar att erbjuda ett eller två körpass beroende på uppslutning. En grundförutsättning är att vi har minst 5 ekipage anmälda i gruppen. \nAnmälan är öppen för denna grupp\, se nedan under Biljetter. Om vi får mindre än 5 ekipage anmälda till denna grupp\, kommer den inte att köras. Anmälningsavgiften kommer i så fall att återbetalas automatiskt till de som anmält sig till denna grupp. \nPraktiska detaljer\n\nTider\n\n14.00 – 15.30 Inskrivning och besiktning\n15.30 – 15.40 Förarsammanträde\n16.00 – 19.00 Fri körning för samtliga bilar utan officiell tidtagning indelade i 3 grupper med 12-13-minuterspass.\n\n\nKörpass: Vi delar in oss i 4 grupper – gröna med lite större avstånd mellan bilarna\, gula för rutinerade förare\, röda för erfarna förare\, samt SVKG Heritage för bilar av årsmodell 1971 eller äldre.\nAnmälan: Görs nedan genom biljettköp.\nBesiktning: Före körning måste din bil vara besiktigad. Detta gör du genom egenbesiktning på plats enligt vårt egenbesiktningsformulär(ladda ner\, skriv ut och ta med).\nMiljökrav: Läs vår miljöpolicy.\nLjudkrav: För samtliga bilar gäller bullerkravet max 95 dB(A) vid förbipassering under acceleration. De bilar som ej klarar denna gräns måste tyvärr tas av banan.\nSäkerhetsutrustning: Hjälm\, handskar och heltäckande bomullsklädsel är obligatorisk. Båge eller bur i öppna bilar.\nFörsäkring: Alla förare och passagerare måste ha licens\, dvs personförsäkring hos SMA. Denna kan skaffas på SMA:s sida för förarlicenser. Som vanligt gäller inte bilens försäkring vid körning på bana. Du kör på egen risk.\nSkador: SVKG förbehåller sig rätten att fakturera kostnader för skador på 2:e man (banans inventarier) till deltagare.\nPassagerare: Tillåtet i alla pass. Passageraren måste också ha SMA-licens.\nEl- och hybridbilar: Vi har för tillfället ingen möjlighet att tillåta el- eller hybridfordon på våra banträffar.\nFrågor: kan ställas till Oscar Kärrqvist\, tel: 0705-242029\, epost: oscar.karrqvist@svkg.se.\n\nVälkommen!
URL:https://svkg.se/evenemang/hostrusket-2026/
LOCATION:Falkenbergs Motorbana\, Falkenbergs Motorbana\, Falkenberg\, 31195\, Sweden
ORGANIZER;CN="Racingkommitt%C3%A9n":MAILTO:racing@svkg.se
GEO:56.977519178514;12.563685122501
X-APPLE-STRUCTURED-LOCATION;VALUE=URI;X-ADDRESS=Falkenbergs Motorbana Falkenbergs Motorbana Falkenberg 31195 Sweden;X-APPLE-RADIUS=500;X-TITLE=Falkenbergs Motorbana:geo:12.563685122501,56.977519178514
END:VEVENT
BEGIN:VEVENT
DTSTART;TZID=Europe/Stockholm:20260903T180000
DTEND;TZID=Europe/Stockholm:20260903T210000
DTSTAMP:20260421T191749
CREATED:20251201T180829Z
LAST-MODIFIED:20251201T181447Z
UID:26249-1788458400-1788469200@svkg.se
SUMMARY:Torsdagsträff
DESCRIPTION:Vid våra torsdagsträffar gör vi utflykter till olika platser hela sommarsäsongen. Vi åker på trevliga ”körvänliga” vägar\, ca 2-4 mil\, till något kafé eller restaurang någonstans runt göteborgsområdet. \nNågra dagar innan utflykten bestämmer vi vart vi åker. Vid regnväder åker vi normalt en kortare sträcka till något kafé i Göteborg. \nVi samlas torsdagar kl 18.00 från och med maj. Vår samlingsplats kommer att variera vid varje tillfälle. Startplats och destination kommer som vanligt att anges helgen innan utflykten varje vecka i vår kalender här på hemsidan\, i vår SVKG-app\, och även i vår Facebook-grupp. \nVi kommer att åka iväg c:a 18:05 för att utnyttja kvällens ljusare timmar och hinna fram till destinationen i god tid. \nMan behöver inte anmäla sig\, det är bara att dyka upp. Alla är välkomna\, medlemmar som icke-medlemmar\, på våra utflykter. \nKartor\nKarta som visar den normala färdvägen till varje destination kan ni öppna på respektive dag i kalendern eller i vår SVKG-app. Vi har även angivit möjliga betalsätt för varje ställe (med reservation för att de kan ändras). \nObservera att startplatsen kommer att variera till varje destination. Säkrast är att titta i kalendern för aktuell färdväg den dagen. \n  \nVälkomna!
URL:https://svkg.se/evenemang/torsdagstraff/2026-09-03/
ORGANIZER;CN="Touringkommitt%C3%A9n":MAILTO:touring@svkg.se
END:VEVENT
BEGIN:VEVENT
DTSTART;TZID=Europe/Stockholm:20260910T180000
DTEND;TZID=Europe/Stockholm:20260910T210000
DTSTAMP:20260421T191749
CREATED:20251201T180829Z
LAST-MODIFIED:20251201T181447Z
UID:26250-1789063200-1789074000@svkg.se
SUMMARY:Torsdagsträff
DESCRIPTION:Vid våra torsdagsträffar gör vi utflykter till olika platser hela sommarsäsongen. Vi åker på trevliga ”körvänliga” vägar\, ca 2-4 mil\, till något kafé eller restaurang någonstans runt göteborgsområdet. \nNågra dagar innan utflykten bestämmer vi vart vi åker. Vid regnväder åker vi normalt en kortare sträcka till något kafé i Göteborg. \nVi samlas torsdagar kl 18.00 från och med maj. Vår samlingsplats kommer att variera vid varje tillfälle. Startplats och destination kommer som vanligt att anges helgen innan utflykten varje vecka i vår kalender här på hemsidan\, i vår SVKG-app\, och även i vår Facebook-grupp. \nVi kommer att åka iväg c:a 18:05 för att utnyttja kvällens ljusare timmar och hinna fram till destinationen i god tid. \nMan behöver inte anmäla sig\, det är bara att dyka upp. Alla är välkomna\, medlemmar som icke-medlemmar\, på våra utflykter. \nKartor\nKarta som visar den normala färdvägen till varje destination kan ni öppna på respektive dag i kalendern eller i vår SVKG-app. Vi har även angivit möjliga betalsätt för varje ställe (med reservation för att de kan ändras). \nObservera att startplatsen kommer att variera till varje destination. Säkrast är att titta i kalendern för aktuell färdväg den dagen. \n  \nVälkomna!
URL:https://svkg.se/evenemang/torsdagstraff/2026-09-10/
ORGANIZER;CN="Touringkommitt%C3%A9n":MAILTO:touring@svkg.se
END:VEVENT
BEGIN:VEVENT
DTSTART;TZID=Europe/Stockholm:20260913T090000
DTEND;TZID=Europe/Stockholm:20260913T180000
DTSTAMP:20260421T191749
CREATED:20251201T152458Z
LAST-MODIFIED:20260311T215219Z
UID:26156-1789290000-1789322400@svkg.se
SUMMARY:Sprintfinal / Polestar Trophy Vårgårda
DESCRIPTION:Vi åker denna avslutande sprintfinal\, deltävling nr 5\, och Polestar Trophy på Vårgårda flygplats. \nHär sträcker vi ut A-sprinten i dess fulla längd och bredd och varvar med vår nya bansträckning\, med flera belönande accelerationer och en och annan inbromsning. \nDagen avslutas med att de tre klassvinnarna gör upp om A Star in a Resonably Priced Car – Polestar Trophy. \nPraktiska detaljer\n\nSamling: kl. 10.00\nFörsta start: kl. 11.00\nAnmälan: Görs nedan genom biljettköp. Betalning kan också göras på plats via Swish 123-690 07 57.\nFörsäkring: För information om försäkring se generell information om våra sprintrace.\n\nGlöm inte att ta med dricka/kaffe\, klubben bjuder på Glennkorv med tillbehör och kom så snart du hinner från jobb och annat ovidkommande! \nVälkomna!
URL:https://svkg.se/evenemang/sprintrace-2026-5/
LOCATION:Vårgårda flygplats\, Vårgårda flygplats\, Vårgårda\, 44721\, Sverige
ORGANIZER;CN="Racingkommitt%C3%A9n":MAILTO:racing@svkg.se
GEO:58.041199;12.788632
X-APPLE-STRUCTURED-LOCATION;VALUE=URI;X-ADDRESS=Vårgårda flygplats Vårgårda flygplats Vårgårda 44721 Sverige;X-APPLE-RADIUS=500;X-TITLE=Vårgårda flygplats:geo:12.788632,58.041199
END:VEVENT
BEGIN:VEVENT
DTSTART;TZID=Europe/Stockholm:20260917T180000
DTEND;TZID=Europe/Stockholm:20260917T210000
DTSTAMP:20260421T191749
CREATED:20251201T180829Z
LAST-MODIFIED:20251201T181447Z
UID:26251-1789668000-1789678800@svkg.se
SUMMARY:Torsdagsträff
DESCRIPTION:Vid våra torsdagsträffar gör vi utflykter till olika platser hela sommarsäsongen. Vi åker på trevliga ”körvänliga” vägar\, ca 2-4 mil\, till något kafé eller restaurang någonstans runt göteborgsområdet. \nNågra dagar innan utflykten bestämmer vi vart vi åker. Vid regnväder åker vi normalt en kortare sträcka till något kafé i Göteborg. \nVi samlas torsdagar kl 18.00 från och med maj. Vår samlingsplats kommer att variera vid varje tillfälle. Startplats och destination kommer som vanligt att anges helgen innan utflykten varje vecka i vår kalender här på hemsidan\, i vår SVKG-app\, och även i vår Facebook-grupp. \nVi kommer att åka iväg c:a 18:05 för att utnyttja kvällens ljusare timmar och hinna fram till destinationen i god tid. \nMan behöver inte anmäla sig\, det är bara att dyka upp. Alla är välkomna\, medlemmar som icke-medlemmar\, på våra utflykter. \nKartor\nKarta som visar den normala färdvägen till varje destination kan ni öppna på respektive dag i kalendern eller i vår SVKG-app. Vi har även angivit möjliga betalsätt för varje ställe (med reservation för att de kan ändras). \nObservera att startplatsen kommer att variera till varje destination. Säkrast är att titta i kalendern för aktuell färdväg den dagen. \n  \nVälkomna!
URL:https://svkg.se/evenemang/torsdagstraff/2026-09-17/
ORGANIZER;CN="Touringkommitt%C3%A9n":MAILTO:touring@svkg.se
END:VEVENT
BEGIN:VEVENT
DTSTART;TZID=Europe/Stockholm:20260924T180000
DTEND;TZID=Europe/Stockholm:20260924T210000
DTSTAMP:20260421T191749
CREATED:20251201T180829Z
LAST-MODIFIED:20251201T181447Z
UID:26252-1790272800-1790283600@svkg.se
SUMMARY:Torsdagsträff
DESCRIPTION:Vid våra torsdagsträffar gör vi utflykter till olika platser hela sommarsäsongen. Vi åker på trevliga ”körvänliga” vägar\, ca 2-4 mil\, till något kafé eller restaurang någonstans runt göteborgsområdet. \nNågra dagar innan utflykten bestämmer vi vart vi åker. Vid regnväder åker vi normalt en kortare sträcka till något kafé i Göteborg. \nVi samlas torsdagar kl 18.00 från och med maj. Vår samlingsplats kommer att variera vid varje tillfälle. Startplats och destination kommer som vanligt att anges helgen innan utflykten varje vecka i vår kalender här på hemsidan\, i vår SVKG-app\, och även i vår Facebook-grupp. \nVi kommer att åka iväg c:a 18:05 för att utnyttja kvällens ljusare timmar och hinna fram till destinationen i god tid. \nMan behöver inte anmäla sig\, det är bara att dyka upp. Alla är välkomna\, medlemmar som icke-medlemmar\, på våra utflykter. \nKartor\nKarta som visar den normala färdvägen till varje destination kan ni öppna på respektive dag i kalendern eller i vår SVKG-app. Vi har även angivit möjliga betalsätt för varje ställe (med reservation för att de kan ändras). \nObservera att startplatsen kommer att variera till varje destination. Säkrast är att titta i kalendern för aktuell färdväg den dagen. \n  \nVälkomna!
URL:https://svkg.se/evenemang/torsdagstraff/2026-09-24/
ORGANIZER;CN="Touringkommitt%C3%A9n":MAILTO:touring@svkg.se
END:VEVENT
END:VCALENDAR