BEGIN:VCALENDAR
VERSION:2.0
PRODID:-//Sportvagnsklubben Göteborg - ECPv6.15.11//NONSGML v1.0//EN
CALSCALE:GREGORIAN
METHOD:PUBLISH
X-ORIGINAL-URL:https://svkg.se
X-WR-CALDESC:Evenemang för Sportvagnsklubben Göteborg
REFRESH-INTERVAL;VALUE=DURATION:PT1H
X-Robots-Tag:noindex
X-PUBLISHED-TTL:PT1H
BEGIN:VTIMEZONE
TZID:Europe/Stockholm
BEGIN:DAYLIGHT
TZOFFSETFROM:+0100
TZOFFSETTO:+0200
TZNAME:CEST
DTSTART:20170326T010000
END:DAYLIGHT
BEGIN:STANDARD
TZOFFSETFROM:+0200
TZOFFSETTO:+0100
TZNAME:CET
DTSTART:20171029T010000
END:STANDARD
BEGIN:DAYLIGHT
TZOFFSETFROM:+0100
TZOFFSETTO:+0200
TZNAME:CEST
DTSTART:20180325T010000
END:DAYLIGHT
BEGIN:STANDARD
TZOFFSETFROM:+0200
TZOFFSETTO:+0100
TZNAME:CET
DTSTART:20181028T010000
END:STANDARD
BEGIN:DAYLIGHT
TZOFFSETFROM:+0100
TZOFFSETTO:+0200
TZNAME:CEST
DTSTART:20190331T010000
END:DAYLIGHT
BEGIN:STANDARD
TZOFFSETFROM:+0200
TZOFFSETTO:+0100
TZNAME:CET
DTSTART:20191027T010000
END:STANDARD
END:VTIMEZONE
BEGIN:VEVENT
DTSTART;TZID=Europe/Stockholm:20180823T183000
DTEND;TZID=Europe/Stockholm:20180823T210000
DTSTAMP:20260422T013835
CREATED:20180406T212640Z
LAST-MODIFIED:20180822T123932Z
UID:4907-1535049000-1535058000@svkg.se
SUMMARY:Avslutning Vårrallyt / Torsdagsträff
DESCRIPTION:Denna torsdagsträff kombineras med avslutningen av Vårrallyt. \nVi samlas som vanligt i Munkebäck och åker i grupp till Färjenäs\, där vi håller avslutningen av Vårrallyt med korvgrillning (grillförbudet är äntligen upphävt!) och prisutdelning. Vi besöker alltså inget café utan sköter allt själva och är kostnadsfritt för alla deltagare. \nPraktiska detaljer\n\n\n\nTider:\n\n18.30 Samling Systembolagets parkering i Munkebäck.\n18.35-18.45 Avfärd uppdelat i grupper. Karta över färdvägen som tar c:a 40 min. Förbered er gärna genom att studera färdvägen.\n19.30 Korvgrillning följt av prisutdelning i Färjenäs.\n\n\nAnmälan/pris: Ingen/kostnadsfritt. Även icke-medlemmar är välkomna som vanligt på våra torsdagsträffar.\nFrågor: Kan ställas till david.dahl@svkg.se (mobil: 0706-169 169)\, andras.lengyel@svkg.se (mobil: 076-77 33 911) eller Benny Praetorius (mobil: 0705-73 88 29).\n\n\n\n  \nKom i tid! \nVälkomna!
URL:https://svkg.se/evenemang/torsdagstraff-2018-2018-08-23/
LOCATION:Färjenäs\, Karl IX:s väg\, Göteborg\, 41834\, Sverige
ORGANIZER;CN="Touringkommitt%C3%A9n":MAILTO:touring@svkg.se
GEO:57.6963199;11.9006541
X-APPLE-STRUCTURED-LOCATION;VALUE=URI;X-ADDRESS=Färjenäs Karl IX:s väg Göteborg 41834 Sverige;X-APPLE-RADIUS=500;X-TITLE=Karl IX:s väg:geo:11.9006541,57.6963199
END:VEVENT
END:VCALENDAR