BEGIN:VCALENDAR
VERSION:2.0
PRODID:-//Sportvagnsklubben Göteborg - ECPv6.15.11//NONSGML v1.0//EN
CALSCALE:GREGORIAN
METHOD:PUBLISH
X-WR-CALNAME:Sportvagnsklubben Göteborg
X-ORIGINAL-URL:https://svkg.se
X-WR-CALDESC:Evenemang för Sportvagnsklubben Göteborg
REFRESH-INTERVAL;VALUE=DURATION:PT1H
X-Robots-Tag:noindex
X-PUBLISHED-TTL:PT1H
BEGIN:VTIMEZONE
TZID:Europe/Stockholm
BEGIN:DAYLIGHT
TZOFFSETFROM:+0100
TZOFFSETTO:+0200
TZNAME:CEST
DTSTART:20170326T010000
END:DAYLIGHT
BEGIN:STANDARD
TZOFFSETFROM:+0200
TZOFFSETTO:+0100
TZNAME:CET
DTSTART:20171029T010000
END:STANDARD
BEGIN:DAYLIGHT
TZOFFSETFROM:+0100
TZOFFSETTO:+0200
TZNAME:CEST
DTSTART:20180325T010000
END:DAYLIGHT
BEGIN:STANDARD
TZOFFSETFROM:+0200
TZOFFSETTO:+0100
TZNAME:CET
DTSTART:20181028T010000
END:STANDARD
BEGIN:DAYLIGHT
TZOFFSETFROM:+0100
TZOFFSETTO:+0200
TZNAME:CEST
DTSTART:20190331T010000
END:DAYLIGHT
BEGIN:STANDARD
TZOFFSETFROM:+0200
TZOFFSETTO:+0100
TZNAME:CET
DTSTART:20191027T010000
END:STANDARD
END:VTIMEZONE
BEGIN:VEVENT
DTSTART;TZID=Europe/Stockholm:20180523T180000
DTEND;TZID=Europe/Stockholm:20180523T220000
DTSTAMP:20260421T230952
CREATED:20180430T121425Z
LAST-MODIFIED:20180430T141007Z
UID:5165-1527098400-1527112800@svkg.se
SUMMARY:Konstträff Galleri Engleson
DESCRIPTION:Välkommen på konstträff med Stephan Söderholm. Han målar motorrelaterad konst och kommer att ställa ut drygt 30 tavlor på Galleri Engleson i Göteborg. \nVi träffas kl. 18.00 efter att galleriet stängt för allmänheten. Stephan inleder träffen med en kort genomgång och sedan är det fritt fram att gå runt i lokalerna i eget tempo. \nStephan bjuder på vitt vin\, bubbelvatten och något enklare tilltugg. \nEfter galleribesöket går de som vill till Ma Cuisine på Kyrkogatan för en trevlig middag tillsammans till självkostnadspris. Ange vid anmälan om ni även vill följa med på restaurangbesöket (i fältet Speciella önskemål i anmälan kan ni ange exv. alleriger ni vill framföra till restaurangen innan besöket). \nGalleriet är ganska litet så vi har satt en maxgräns på 30 deltagare. \nAnmälan stänger en vecka innan\, 15:e maj kl. 23.00. \nLänkar för mer information: \n\nMotorikoner\nGalleri Engleson Göteborg – Aktuellt\nRestaurang Ma Cuisine\n\n  \nVälkomna! \nTouringkommittén
URL:https://svkg.se/evenemang/konsttraff-galleri-engleson/
LOCATION:Galleri Engelson\, Erik Dahlbergsgatan 28\, Göteborg\, 41126\, Sverige
ORGANIZER;CN="Touringkommitt%C3%A9n":MAILTO:touring@svkg.se
GEO:57.6974175;11.9691049
X-APPLE-STRUCTURED-LOCATION;VALUE=URI;X-ADDRESS=Galleri Engelson Erik Dahlbergsgatan 28 Göteborg 41126 Sverige;X-APPLE-RADIUS=500;X-TITLE=Erik Dahlbergsgatan 28:geo:11.9691049,57.6974175
END:VEVENT
END:VCALENDAR