BEGIN:VCALENDAR
VERSION:2.0
PRODID:-//Sportvagnsklubben Göteborg - ECPv6.15.11//NONSGML v1.0//EN
CALSCALE:GREGORIAN
METHOD:PUBLISH
X-ORIGINAL-URL:https://svkg.se
X-WR-CALDESC:Evenemang för Sportvagnsklubben Göteborg
REFRESH-INTERVAL;VALUE=DURATION:PT1H
X-Robots-Tag:noindex
X-PUBLISHED-TTL:PT1H
BEGIN:VTIMEZONE
TZID:Europe/Stockholm
BEGIN:DAYLIGHT
TZOFFSETFROM:+0100
TZOFFSETTO:+0200
TZNAME:CEST
DTSTART:20170326T010000
END:DAYLIGHT
BEGIN:STANDARD
TZOFFSETFROM:+0200
TZOFFSETTO:+0100
TZNAME:CET
DTSTART:20171029T010000
END:STANDARD
BEGIN:DAYLIGHT
TZOFFSETFROM:+0100
TZOFFSETTO:+0200
TZNAME:CEST
DTSTART:20180325T010000
END:DAYLIGHT
BEGIN:STANDARD
TZOFFSETFROM:+0200
TZOFFSETTO:+0100
TZNAME:CET
DTSTART:20181028T010000
END:STANDARD
BEGIN:DAYLIGHT
TZOFFSETFROM:+0100
TZOFFSETTO:+0200
TZNAME:CEST
DTSTART:20190331T010000
END:DAYLIGHT
BEGIN:STANDARD
TZOFFSETFROM:+0200
TZOFFSETTO:+0100
TZNAME:CET
DTSTART:20191027T010000
END:STANDARD
END:VTIMEZONE
BEGIN:VTIMEZONE
TZID:Europe/Paris
BEGIN:DAYLIGHT
TZOFFSETFROM:+0100
TZOFFSETTO:+0200
TZNAME:CEST
DTSTART:20160327T010000
END:DAYLIGHT
BEGIN:STANDARD
TZOFFSETFROM:+0200
TZOFFSETTO:+0100
TZNAME:CET
DTSTART:20161030T010000
END:STANDARD
BEGIN:DAYLIGHT
TZOFFSETFROM:+0100
TZOFFSETTO:+0200
TZNAME:CEST
DTSTART:20170326T010000
END:DAYLIGHT
BEGIN:STANDARD
TZOFFSETFROM:+0200
TZOFFSETTO:+0100
TZNAME:CET
DTSTART:20171029T010000
END:STANDARD
BEGIN:DAYLIGHT
TZOFFSETFROM:+0100
TZOFFSETTO:+0200
TZNAME:CEST
DTSTART:20180325T010000
END:DAYLIGHT
BEGIN:STANDARD
TZOFFSETFROM:+0200
TZOFFSETTO:+0100
TZNAME:CET
DTSTART:20181028T010000
END:STANDARD
END:VTIMEZONE
BEGIN:VEVENT
DTSTART;TZID=Europe/Stockholm:20180509T160000
DTEND;TZID=Europe/Stockholm:20180510T160000
DTSTAMP:20260421T133225
CREATED:20180111T181104Z
LAST-MODIFIED:20180116T153231Z
UID:3831-1525881600-1525968000@svkg.se
SUMMARY:Licenskurs
DESCRIPTION:Licenskursen leds av våra egna kunniga instruktörer\, som är licensierade av Svenska Bilsportförbundet och tillhör våra mest erfarna racerförare. \nSBFs reglementen för Racing gäller. G-1\, RA-1 och delvis TR-1 ingår i kursmaterialet. \nPraktiska detaljer\n\nDatum/tider:\n\n9/5 16.00 Teoridel med avslutande teoriprov vid banan.\n10/5 09.00 – 16.00 Praktisk del börjar i bandepån med körövningar varvat med teori gruppvis.\n\n\nAnmälan: Görs nedan genom biljettköp.\nMiljökrav: Läs vår miljöpolicy.\nLjudkrav: För samtliga bilar gäller bullerkravet 95 dB(A) mätt vid förbipassering på raksträcka under acceleration. De bilar som ej klarar denna gräns måste tyvärr tas av banan.\nSäkerhetsutrustning: Hjälm\, handskar och heltäckande bomullsklädsel är obligatoriskt. Båge eller bur i öppna bilar.\nÖvernattning: Vi kan rekommendera följande (rumsbokning gör du själv direkt till hotellet):\n\nHotel Gustaf\, Järnvägsgatan 2\, Götene\, telefon 0511-590 10\nPensionat Karlslund\, Gössätersvägen 15\, Gössäter\, telefon 0510-54 00 17\n\n\nFrågor: kan ställas till Anders Johansson på tel 0705-34 11 00 eller epost anders.johansson@svkg.se.
URL:https://svkg.se/evenemang/licenskurs-2018/
LOCATION:Kinnekulle ring\, Kinne-Kleva\, Götene\, 53396\, Sverige
ORGANIZER;CN="Racingkommitt%C3%A9n":MAILTO:racing@svkg.se
GEO:58.5426685;13.4166941
X-APPLE-STRUCTURED-LOCATION;VALUE=URI;X-ADDRESS=Kinnekulle ring Kinne-Kleva Götene 53396 Sverige;X-APPLE-RADIUS=500;X-TITLE=Kinne-Kleva:geo:13.4166941,58.5426685
END:VEVENT
BEGIN:VEVENT
DTSTART;TZID=Europe/Paris:20170609T080000
DTEND;TZID=Europe/Paris:20170609T180000
DTSTAMP:20260421T133225
CREATED:20170201T183814Z
LAST-MODIFIED:20170704T210749Z
UID:277-1496995200-1497031200@svkg.se
SUMMARY:Bankalas + 60-minutes
DESCRIPTION:Nu är det snart dags att ta ut och lufta våra sportvagnar på racerbanan. Vårt traditionella ”Bankalas” går återigen av stapeln på den spännande och krävande racerbanan Kinnekulle Ring strax utanför Götene. \nProgrammet är späckat med en mängd olika racingaktiviteter för att passa alla smaker. Vi har allt från fri körning med resp. utan passagerare\, till den populära lagtävlingen SVKG 60-minutes\, där vi kör ett entimmarslopp med förar-­ och/eller bilbyte. \nPraktiska detaljer\n\nTider\n\n08.00 – 09.00 Inskrivning och besiktning\n08.45 – 09.00 Förarsammanträde för fri körning\n09.00 – 13.00 Fri körning för samtliga bilar utan tidtagning med indelning i tre grupper (lugna\, lagom\, race) med 15-minuterspass.\n11.30 – 13.30 Rullande lunchpaus\n13.00 – 14.00 Bankalas: fri körning\, Race+60-min: tidsträning inför 60-minutes blandat med övriga\n14.00 – 15.00 Bankalas: fri körning\, Race+60-min: uppställning lagvis i startfållorna\, slutinstruktioner ges\n15.00 – 16.00 Race+60-min: SVKG 60-minutes Endurance Race\n16.00 – 16.30 Fri körning\n\n\nKörpass: Lugna passet för nybörjare\, lagom-passet för rutinerade förare och race-passet för erfarna förare inkl. deltagare i 60-minutes. Läs vidare om 60-minutes körpassorganisation.\nAnmälan: Öppnar c:a en månad innan evenemanget och görs nedan genom biljettköp.\nBesiktning: Före körning måste din bil vara besiktigad. Deltagande bilar i Race + 60-minutes är Roadsports\, Modsports\, Clubman\, RS samt historiska GT- och Saloonbilar.\nMiljökrav: Läs vår miljöpolicy.\nLjudkrav: För samtliga bilar gäller bullerkravet 95 dB(A) mätt vid förbipassering på raksträcka under acceleration. De bilar som ej klarar denna gräns måste tyvärr tas av banan. \nSäkerhetsutrustning (lägsta nivå)\n\nBankalas – dig själv: hjälm\, handskar\, läderskor samt heltäckande bomullsklädsel\, din bil: säkerhetsbälte\, båge i öppen bil och bil med ickebärande takkonstruktion.\nRace + 60-minutes – dig själv: av SBF godkänd hjälm\, handskar\, skor samt föraroverall\, din bil: enligt respektive klassreglemente i SBF:s regelverk.\n\n\nFörsäkring: Alla förare och passagerare måste ha licens\, dvs personförsäkring hos SMA. Denna kan skaffas på SMA:s sida för förarlicenser. Som vanligt gäller inte bilens försäkring vid körning på bana. Du kör på egen risk.\nSkador: SVKG förbehåller sig rätten att fakturera kostnader för skador på 2:e man (banans inventarier) till deltagare.\nPassagerare: Tillåtet i alla pass. Passageraren måste också ha SMA-licens.\nMat: Finns att köpa i bandepån.\nOrganisationkommitté\n\nHuvudansvarig – Niklas Falk\, tel: 0703-56 74 56\, epost: niklas.falk@svkg.se\nBesiktningschef – Kalle Pilkratz\, tel: 0708 – 29 34 55\, epost: kallepilkrantz@gmail.com
URL:https://svkg.se/evenemang/bankalas-60-minutes/
LOCATION:Kinnekulle ring\, Kinne-Kleva\, Götene\, 53396\, Sverige
ORGANIZER;CN="Racingkommitt%C3%A9n":MAILTO:racing@svkg.se
GEO:58.5426685;13.4166941
X-APPLE-STRUCTURED-LOCATION;VALUE=URI;X-ADDRESS=Kinnekulle ring Kinne-Kleva Götene 53396 Sverige;X-APPLE-RADIUS=500;X-TITLE=Kinne-Kleva:geo:13.4166941,58.5426685
END:VEVENT
BEGIN:VEVENT
DTSTART;TZID=Europe/Paris:20170605T080000
DTEND;TZID=Europe/Paris:20170605T163000
DTSTAMP:20260421T133225
CREATED:20170409T174207Z
LAST-MODIFIED:20170409T174207Z
UID:1304-1496649600-1496680200@svkg.se
SUMMARY:CCS - Förarträning och Bankörning
DESCRIPTION:Vi har blivit inbjudna av Club Corvette Sweden att delta i förarträning och bankörning på Kinnekulle ring. \nEvenemanget är begränsat till max 50 bilar där deras medlemmar har företräde fram till 1/5. \nDet finns inga krav på störtbåge enligt deras reglemente. \nFör mer information och anmälan\, se länk nedan under rubrik Detaljer.
URL:https://svkg.se/evenemang/ccs-forartraning-och-bankorning/
LOCATION:Kinnekulle ring\, Kinne-Kleva\, Götene\, 53396\, Sverige
ORGANIZER;CN="Club Corvette Sweden":MAILTO:info@clubcorvette.se
GEO:58.5426685;13.4166941
X-APPLE-STRUCTURED-LOCATION;VALUE=URI;X-ADDRESS=Kinnekulle ring Kinne-Kleva Götene 53396 Sverige;X-APPLE-RADIUS=500;X-TITLE=Kinne-Kleva:geo:13.4166941,58.5426685
END:VEVENT
BEGIN:VEVENT
DTSTART;TZID=Europe/Paris:20170525T090000
DTEND;TZID=Europe/Paris:20170525T160000
DTSTAMP:20260421T133225
CREATED:20170213T230508Z
LAST-MODIFIED:20170622T124928Z
UID:400-1495702800-1495728000@svkg.se
SUMMARY:Testdag
DESCRIPTION:Parallellt med Licenskursen kör vi SVKG’s testdag på Kinnekulle Ring. Mer körtid än så här blir det inte! \nFri körning och få bilar garanterar max utbyte av Kinnekulles utmanande kurvor och de olika alternativa sätt att angripa dem. \nPraktiska detaljer\n\nDatum/tider:\n\n09.00 – 16.00 Körning\n\n\nAnmälan: Evenemanget är fullbokat och anmälan är därför stängd.\nMiljökrav: Läs vår miljöpolicy.\nLjudkrav: För samtliga bilar gäller bullerkravet 95 dB(A) mätt vid förbipassering på raksträcka under acceleration. De bilar som ej klarar denna gräns måste tyvärr tas av banan.\nSäkerhetsutrustning: Hjälm\, handskar och heltäckande bomullsklädsel är obligatoriskt. Båge eller bur i öppna bilar.\nFörsäkring: Alla förare måste ha SBF-licens för racing. SBF-licens kan tas via vår licenskurs.\nFrågor: kan ställas till Niklas Falk på tel 0703-56 74 56 eller epost niklas.falk@svkg.se.\n\nAnmälda\n\n\n\nNamn\nBil\nBetalt\n\n\n\n\nMats Wessberg\nPorsche 991 Turbo\n2016-12-27\n\n\nRoger Jarnald\nBMW M3 E36\n2016-12-27\n\n\nTor Jarnald\nPorshce 944 LS3\n2016-12-27\n\n\nDaniel Ireståhl\nVolvo 242 T6\n2016-12-28\n\n\nUlf G Andersson\nMazda MX-5\n2016-12-30\n\n\nAnders Larsson\nTBA\n2017-01-04\n\n\nManne Solbreck\nSaab 900\n2017-01-05\n\n\nUlf Wärnberg\nMazda Miata\n2017-01-12\n\n\nChristoffer Brorsson\nMazda RX-7\n2017-01-17 (plats tillgänglig*)\n\n\nLars-Göran Itskowitz\nMcLaren\n2017-01-17\n\n\nSeb Bergsten\nPorsche 911\n2017-01-19\n\n\nFilip Jannerberg\nBMW M2\n2017-01-20\n\n\nNiklas Rosell\nBMW M3\n2017-01-30\n\n\nHenrik Bergkvist\nLotus\n2017-02-01 (plats tillgänglig*)\n\n\nBjörn Mattsson\nAustin Cooper S\n2017-03-15\n\n\nPatrik Larsson\nPorsche 944\n2017-05-15\n\n\n\n\n*) Platsen är tillgänglig och kan övertas genom att kontakta personen direkt eller via racing@svkg.se.
URL:https://svkg.se/evenemang/testdag/
LOCATION:Kinnekulle ring\, Kinne-Kleva\, Götene\, 53396\, Sverige
ORGANIZER;CN="Racingkommitt%C3%A9n":MAILTO:racing@svkg.se
GEO:58.5426685;13.4166941
X-APPLE-STRUCTURED-LOCATION;VALUE=URI;X-ADDRESS=Kinnekulle ring Kinne-Kleva Götene 53396 Sverige;X-APPLE-RADIUS=500;X-TITLE=Kinne-Kleva:geo:13.4166941,58.5426685
END:VEVENT
BEGIN:VEVENT
DTSTART;TZID=Europe/Paris:20170524T160000
DTEND;TZID=Europe/Paris:20170525T160000
DTSTAMP:20260421T133225
CREATED:20170213T212931Z
LAST-MODIFIED:20180111T181231Z
UID:388-1495641600-1495728000@svkg.se
SUMMARY:Licenskurs
DESCRIPTION:Licenskursen leds av våra egna kunniga instruktörer\, som är licensierade av Svenska Bilsportförbundet och tillhör våra mest erfarna racerförare. \nSBFs reglementen för Racing gäller. G-1\, RA-1 och delvis TR-1 ingår i kursmaterialet. \nPraktiska detaljer\n\nDatum/tider:\n\n24/5 16.00 Teoridel med avslutande teoriprov vid banan.\n25/5 09.00 – 16.00 Praktisk del börjar i bandepån med körövningar varvat med teori gruppvis.\n\n\nAnmälan: Evenemanget är fullbokat och anmälan är därför stängd.\nMiljökrav: Läs vår miljöpolicy.\nLjudkrav: För samtliga bilar gäller bullerkravet 95 dB(A) mätt vid förbipassering på raksträcka under acceleration. De bilar som ej klarar denna gräns måste tyvärr tas av banan.\nSäkerhetsutrustning: Hjälm\, handskar och heltäckande bomullsklädsel är obligatoriskt. Båge eller bur i öppna bilar.\nFrågor: kan ställas till Niklas Falk på tel 0703-56 74 56 eller epost niklas.falk@svkg.se.\n\nAnmälda\n\n\n\nNamn\nBil\nBetalt\n\n\n\n\nChristian Rodskier\nPorsche Boxster S\n2016-12-22\n\n\nHåkan Bornestrand\nOpel Speedster\n2016-12-23\n\n\nCarin Carlqvist\nOpel Speedster\n2016-12-23\n\n\nBengt Ekelund\nPorsche 911\n2016-12-27\n\n\nAmund Welde\nBMW Z3 Coupe\n2016-12-29\n\n\nJanne Murvik\nMazda Miata MX-5\n2017-01-02\n\n\nJohanna Matsfelt\nPorsche Cayman\n2017-01-11\n\n\nPer Elvinsson\nMini Cooper\n2017-01-16\n\n\nSten-Åke Karlsson\nHonda S2000\n2017-01-18\n\n\nJörgen Fältsjö\nVW Caddy Maxi\n2017-01-19\n\n\nMathilda Eklund\nJaguar XK8\n2017-01-19\n\n\nSven Eklund\nAston-Martin V8 Vantage\n2017-01-19\n\n\nLasse Sannes\nMB 350 SLK\n2017-01-19\n\n\nJonas Linderos\nPorsche Boxster GTS\n2017-01-23\n\n\nPer Edlund\nBMW Z4\n2017-01-30\n\n\nLars Hjelm\nChevrolet Corvette C6\n2017-02-06\n\n\nOrvar Hurtig\nMX-5\n2017-02-07 (köplats)\n\n\nKarl-Johan Hurtig\nMX-5\n2017-02-07 (köplats)\n\n\nKajsa Lindblom\nBMW\n–\n\n\nFelix Lindblom\nBMW\n–
URL:https://svkg.se/evenemang/licenskurs-2017/
LOCATION:Kinnekulle ring\, Kinne-Kleva\, Götene\, 53396\, Sverige
ORGANIZER;CN="Racingkommitt%C3%A9n":MAILTO:racing@svkg.se
GEO:58.5426685;13.4166941
X-APPLE-STRUCTURED-LOCATION;VALUE=URI;X-ADDRESS=Kinnekulle ring Kinne-Kleva Götene 53396 Sverige;X-APPLE-RADIUS=500;X-TITLE=Kinne-Kleva:geo:13.4166941,58.5426685
END:VEVENT
END:VCALENDAR