BEGIN:VCALENDAR
VERSION:2.0
PRODID:-//Sportvagnsklubben Göteborg - ECPv6.15.11//NONSGML v1.0//EN
CALSCALE:GREGORIAN
METHOD:PUBLISH
X-WR-CALNAME:Sportvagnsklubben Göteborg
X-ORIGINAL-URL:https://svkg.se
X-WR-CALDESC:Evenemang för Sportvagnsklubben Göteborg
REFRESH-INTERVAL;VALUE=DURATION:PT1H
X-Robots-Tag:noindex
X-PUBLISHED-TTL:PT1H
BEGIN:VTIMEZONE
TZID:Europe/Stockholm
BEGIN:DAYLIGHT
TZOFFSETFROM:+0100
TZOFFSETTO:+0200
TZNAME:CEST
DTSTART:20160327T010000
END:DAYLIGHT
BEGIN:STANDARD
TZOFFSETFROM:+0200
TZOFFSETTO:+0100
TZNAME:CET
DTSTART:20161030T010000
END:STANDARD
BEGIN:DAYLIGHT
TZOFFSETFROM:+0100
TZOFFSETTO:+0200
TZNAME:CEST
DTSTART:20170326T010000
END:DAYLIGHT
BEGIN:STANDARD
TZOFFSETFROM:+0200
TZOFFSETTO:+0100
TZNAME:CET
DTSTART:20171029T010000
END:STANDARD
BEGIN:DAYLIGHT
TZOFFSETFROM:+0100
TZOFFSETTO:+0200
TZNAME:CEST
DTSTART:20180325T010000
END:DAYLIGHT
BEGIN:STANDARD
TZOFFSETFROM:+0200
TZOFFSETTO:+0100
TZNAME:CET
DTSTART:20181028T010000
END:STANDARD
END:VTIMEZONE
BEGIN:VEVENT
DTSTART;TZID=Europe/Stockholm:20170726T173000
DTEND;TZID=Europe/Stockholm:20170726T200000
DTSTAMP:20260419T161728
CREATED:20170628T111902Z
LAST-MODIFIED:20170628T112025Z
UID:2307-1501090200-1501099200@svkg.se
SUMMARY:Onsdagsträff Maritiman
DESCRIPTION:Onsdagsträffarna vid Maritiman är avsedda för fordon äldre än 20 år samt ovanligare yngre av samlarfordon-karaktär\, där inpasseringsansvarig står för urvalet. \nVarje fordonsägare svarar för ordning kring sitt fordon. Vid oljespill är det förarens absoluta ansvar att städa\, medför gärna en pappskiva! \nDetta evenemang görs i samarbete med Göteborgs Motorhistoriska Klubb (GMHK) och onsdagen den 26:e juli är det vi i SVKG som är ansvariga för träffen. \nVi behöver funktionärer som kan ställa upp och hjälpa till och kan vara på plats från kl 17.00. Kontakta Benny Praetorius\, telefon 0705-738829 / 031-190574\, om du vill vara med och ställa upp. \nVälkomna! \nTouringkommittén
URL:https://svkg.se/evenemang/onsdagstraff-maritiman-20170726/
LOCATION:Maritiman\, Packhusplatsen 12\, Göteborg\, 411 13\, Sverige
ORGANIZER;CN="Touringkommitt%C3%A9n":MAILTO:touring@svkg.se
GEO:57.7087137;11.9606615
X-APPLE-STRUCTURED-LOCATION;VALUE=URI;X-ADDRESS=Maritiman Packhusplatsen 12 Göteborg 411 13 Sverige;X-APPLE-RADIUS=500;X-TITLE=Packhusplatsen 12:geo:11.9606615,57.7087137
END:VEVENT
END:VCALENDAR