BEGIN:VCALENDAR
VERSION:2.0
PRODID:-//Sportvagnsklubben Göteborg - ECPv6.15.11//NONSGML v1.0//EN
CALSCALE:GREGORIAN
METHOD:PUBLISH
X-WR-CALNAME:Sportvagnsklubben Göteborg
X-ORIGINAL-URL:https://svkg.se
X-WR-CALDESC:Evenemang för Sportvagnsklubben Göteborg
REFRESH-INTERVAL;VALUE=DURATION:PT1H
X-Robots-Tag:noindex
X-PUBLISHED-TTL:PT1H
BEGIN:VTIMEZONE
TZID:Europe/Stockholm
BEGIN:DAYLIGHT
TZOFFSETFROM:+0100
TZOFFSETTO:+0200
TZNAME:CEST
DTSTART:20170326T010000
END:DAYLIGHT
BEGIN:STANDARD
TZOFFSETFROM:+0200
TZOFFSETTO:+0100
TZNAME:CET
DTSTART:20171029T010000
END:STANDARD
BEGIN:DAYLIGHT
TZOFFSETFROM:+0100
TZOFFSETTO:+0200
TZNAME:CEST
DTSTART:20180325T010000
END:DAYLIGHT
BEGIN:STANDARD
TZOFFSETFROM:+0200
TZOFFSETTO:+0100
TZNAME:CET
DTSTART:20181028T010000
END:STANDARD
BEGIN:DAYLIGHT
TZOFFSETFROM:+0100
TZOFFSETTO:+0200
TZNAME:CEST
DTSTART:20190331T010000
END:DAYLIGHT
BEGIN:STANDARD
TZOFFSETFROM:+0200
TZOFFSETTO:+0100
TZNAME:CET
DTSTART:20191027T010000
END:STANDARD
BEGIN:DAYLIGHT
TZOFFSETFROM:+0100
TZOFFSETTO:+0200
TZNAME:CEST
DTSTART:20200329T010000
END:DAYLIGHT
BEGIN:STANDARD
TZOFFSETFROM:+0200
TZOFFSETTO:+0100
TZNAME:CET
DTSTART:20201025T010000
END:STANDARD
BEGIN:DAYLIGHT
TZOFFSETFROM:+0100
TZOFFSETTO:+0200
TZNAME:CEST
DTSTART:20210328T010000
END:DAYLIGHT
BEGIN:STANDARD
TZOFFSETFROM:+0200
TZOFFSETTO:+0100
TZNAME:CET
DTSTART:20211031T010000
END:STANDARD
BEGIN:DAYLIGHT
TZOFFSETFROM:+0100
TZOFFSETTO:+0200
TZNAME:CEST
DTSTART:20220327T010000
END:DAYLIGHT
BEGIN:STANDARD
TZOFFSETFROM:+0200
TZOFFSETTO:+0100
TZNAME:CET
DTSTART:20221030T010000
END:STANDARD
END:VTIMEZONE
BEGIN:VEVENT
DTSTART;TZID=Europe/Stockholm:20210816T073000
DTEND;TZID=Europe/Stockholm:20210816T160000
DTSTAMP:20260422T143549
CREATED:20201227T190256Z
LAST-MODIFIED:20210813T212156Z
UID:12426-1629099000-1629129600@svkg.se
SUMMARY:Banmöte Ring Knutstorp
DESCRIPTION:SVKG inbjuder till banmöte på Ring Knutstorp. \nBanan är 2070 meter lång\, 10-12 meter bred och är känd som en mycket kuperad och krävande bana med flera långsamma och några snabba kurvor. Den kallas ibland för The Nürburgring of Sweden och marknadsförs idag som Valley of Speed. \nHär möter vi både backar\, krön och såväl bankade kurvor som högfartsböjar och långsamma 180-graderskurvor. Helt enkelt en bana som vill köra på minst en gång varje sommar. Vi har förstås som vanligt med våra instruktörer som kan hjälpa till att utveckla er körning. \nPraktiska detaljer\n\nTider (OBS! Ändrad starttid)\n\n07.30 Inskrivning och besiktning startar\n08.45 Obligatoriskt förarmöte\n09.00 – 16.00 Körning i grupper\n\n\nKörpass: Vi delar in oss i 3 grupper – lugnamed lite större avstånd mellan bilarna\, lagom för rutinerade förare och race för erfarna förare.\nAnmälan: Görs nedan genom biljettköp.\nBesiktning: Före körning måste din bil vara besiktigad. Detta gör du genom egenbesiktning på plats enligt vårt egenbesiktningsformulär(ladda ner\, skriv ut och ta med).\nMiljökrav: Läs vår miljöpolicy.\nLjudkrav: Högsta tillåtna ljudnivå är 95 dB(A) vid förbipassering. Banägaren mäter kontinuerligt.\nSäkerhetsutrustning: Hjälm\, handskar och heltäckande bomullsklädsel är obligatorisk. Båge eller bur i öppna bilar.\nFörsäkring: Alla förare och passagerare måste ha licens\, dvs personförsäkring hos SMA. Denna kan skaffas på SMA:s sida för förarlicenser. Som vanligt gäller inte bilens försäkring vid körning på bana. Du kör på egen risk.\nSkador: SVKG förbehåller sig rätten att fakturera kostnader för skador på 2:e man (banans inventarier) till deltagare.\nPassagerare: Tillåtet i alla pass. Passageraren måste också ha SMA-licens.\nMat: Restaurang med dagens rätt och cafeteria är öppen hela dagen. Lunch ingår i anmälan.\nFrågor: kan ställas till Anders Johansson på tel 0705-341100 eller epost anders.johansson@svkg.se.\n\nVälkomna!
URL:https://svkg.se/evenemang/banmote-ring-knutstorp-20210816/
LOCATION:Ring Knutstorp\, Ring Knutstorp\, Kågeröd\, 268 05\, Sverige
ORGANIZER;CN="Racingkommitt%C3%A9n":MAILTO:racing@svkg.se
GEO:55.9885514;13.1122197
X-APPLE-STRUCTURED-LOCATION;VALUE=URI;X-ADDRESS=Ring Knutstorp Ring Knutstorp Kågeröd 268 05 Sverige;X-APPLE-RADIUS=500;X-TITLE=Ring Knutstorp:geo:13.1122197,55.9885514
END:VEVENT
BEGIN:VEVENT
DTSTART;TZID=Europe/Stockholm:20210513T090000
DTEND;TZID=Europe/Stockholm:20210513T160000
DTSTAMP:20260422T143549
CREATED:20201227T182011Z
LAST-MODIFIED:20210310T181242Z
UID:12414-1620896400-1620921600@svkg.se
SUMMARY:Testdag
DESCRIPTION:Parallellt med förarutbildningen kör vi SVKG:s Testdag på Knutstorp Ring. Mer körtid än så här blir det inte! \nFri körning och få bilar garanterar maximalt utbyte av Knutstorps backar\, krön och bankade kurvor och de olika alternativa sätt att utmana dem. \nPraktiska detaljer\n\nTider:\n\n08.40 Obligatoriskt förarmöte\n09.00 – 16.00 Körning\nGlöm inte solskydd och drick mycket vatten hela dagen.\n\n\nAnmälan: Görs nedan genom biljettköp. I anmälningsavgiften ingår lunch på plats.\nBesiktning: Före körning måste din bil vara besiktigad. Detta gör du genom egenbesiktning på plats enligt vårt egenbesiktningsformulär (ladda ner\, skriv ut\, ta med och fyll i på plats vid er besiktning).\nMiljökrav: Läs vår miljöpolicy.\nLjudkrav: För samtliga bilar gäller bullerkravet 95 dB(A)mätt vid förbipassering på raksträcka under acceleration. De bilar som ej klarar denna gräns måste tyvärr tas av banan.\nSäkerhetsutrustning: Hjälm\, handskar och heltäckande bomullsklädsel är obligatoriskt. Båge eller bur i öppna bilar.\nFörsäkring: Alla förare måste ha SBF-licens för racing. SBF-licens kan tas via vår Licenskurs.\nÖvernattning: Det finns möjligheter att hyra stugor eller tälta på banområdet. Exakt hur det kommer att fungera under rådande pandemi vet vi inte exakt just nu\, men det kommer löpande uppdateringar.\nMat: Lunch på plats ingår i anmälningsavgiften.\nFrågor: Kan ställas till Anders Johansson på tel 0705-34 11 00 eller epost anders.johansson@svkg.se.
URL:https://svkg.se/evenemang/testdag-2021/
LOCATION:Ring Knutstorp\, Ring Knutstorp\, Kågeröd\, 268 05\, Sverige
ORGANIZER;CN="Racingkommitt%C3%A9n":MAILTO:racing@svkg.se
GEO:55.9885514;13.1122197
X-APPLE-STRUCTURED-LOCATION;VALUE=URI;X-ADDRESS=Ring Knutstorp Ring Knutstorp Kågeröd 268 05 Sverige;X-APPLE-RADIUS=500;X-TITLE=Ring Knutstorp:geo:13.1122197,55.9885514
END:VEVENT
BEGIN:VEVENT
DTSTART;TZID=Europe/Stockholm:20210512T160000
DTEND;TZID=Europe/Stockholm:20210513T160000
DTSTAMP:20260422T143549
CREATED:20201227T180410Z
LAST-MODIFIED:20201227T181555Z
UID:12408-1620835200-1620921600@svkg.se
SUMMARY:Licenskurs Ring Knutstorp
DESCRIPTION:Sportvagnsklubben Göteborgs licenskurs leds av våra egna kunniga instruktörer\, som är licensierade av Svenska Bilsportförbundet och tillhör våra mest erfarna racerförare. \nFörst och främst skall man se denna kurs som en förarutvecklingskurs som leder till en SBF-licens\, men som dessutom gör deltagarna till mycket bättre och säkrare förare både på och utanför banan. \nSBFs reglementen för Racing gäller. G-1\, RA-1 och delvis TR-1 ingår i kursmaterialet. \nPraktiska detaljer\n\nDatum/tider:\n\n12/5 16.00 Teoridel med avslutande teoriprov vid banan.\n13/5 09.00 – 16.00 Praktisk del börjar i bandepån med körövningar varvat med teori gruppvis.\n\n\nAnmälan: Görs nedan genom biljettköp. Anmälan är även tillgänglig för icke-medlemmar (efter att man skapat ett användarkonto).\nBesiktning: Före körning måste din bil vara besiktigad. Detta gör du genom egenbesiktning på plats enligt vårt egenbesiktningsformulär (ladda ner\, skriv ut och ta med).\nMiljökrav: Läs vår miljöpolicy.\nLjudkrav: För samtliga bilar gäller bullerkravet 95 dB(A)mätt vid förbipassering på raksträcka under acceleration. De bilar som ej klarar denna gräns måste tyvärr tas av banan.\nSäkerhetsutrustning: Hjälm\, handskar och heltäckande bomullsklädsel är obligatoriskt. Båge eller bur i öppna bilar.\nÖvernattning: Det finns möjligheter att hyra stugor eller tälta på banområdet. Exakt hur det kommer att fungera under rådande pandemi vet vi inte exakt just nu\, men det kommer löpande uppdateringar.\nMat: Lunch på plats ingår i anmälningsavgiften.\nFrågor: kan ställas till Anders Johansson på tel 0705-34 11 00 eller epost anders.johansson@svkg.se.
URL:https://svkg.se/evenemang/licenskurs-2021/
LOCATION:Ring Knutstorp\, Ring Knutstorp\, Kågeröd\, 268 05\, Sverige
ORGANIZER;CN="Racingkommitt%C3%A9n":MAILTO:racing@svkg.se
GEO:55.9885514;13.1122197
X-APPLE-STRUCTURED-LOCATION;VALUE=URI;X-ADDRESS=Ring Knutstorp Ring Knutstorp Kågeröd 268 05 Sverige;X-APPLE-RADIUS=500;X-TITLE=Ring Knutstorp:geo:13.1122197,55.9885514
END:VEVENT
BEGIN:VEVENT
DTSTART;TZID=Europe/Stockholm:20200817T083000
DTEND;TZID=Europe/Stockholm:20200817T160000
DTSTAMP:20260422T143549
CREATED:20191203T220518Z
LAST-MODIFIED:20191223T182455Z
UID:9145-1597653000-1597680000@svkg.se
SUMMARY:Banmöte Ring Knutstorp
DESCRIPTION:SVKG inbjuder till medlemmarna till banmöte på Ring Knutstorp. \nBanan är 2070 meter lång\, 10-12 meter bred och är känd som en mycket kuperad och krävande bana med flera långsamma och några snabba kurvor. Den kallas ibland för The Nürburgring of Sweden och marknadsförs idag som Valley of Speed. \nPå den tidigare kortare banan körde på 60-talet förare som Frank Williams\, Reine Wisell och Ronnie Peterson som hade flera bataljer i dåtidens Formel 3-lopp. Mellan 1976 och 1984 kördes F3-mästerskapet här årligen\, med vinnare som Alain Prost och Conny Andersson. \nPraktiska detaljer\n\nTider\n\n08.30 Inskrivning och besiktning startar\n09.45 Obligatoriskt förarmöte\n10.00 – 16.00 Körning i grupper\n\n\nKörpass: Vi delar in oss i 3 grupper – lugna för nybörjare\, lagom för rutinerade förare och race för erfarna förare.\nAnmälan: Görs nedan genom biljettköp.\nBesiktning: Före körning måste din bil vara besiktigad. Detta gör du genom egenbesiktning på plats enligt vårt egenbesiktningsformulär (ladda ner\, skriv ut och ta med).\nMiljökrav: Läs vår miljöpolicy.\nLjudkrav: Högsta tillåtna ljudnivå är 95 dB(A) vid förbipassering. Banägaren mäter kontinuerligt.\nSäkerhetsutrustning: Hjälm\, handskar och heltäckande bomullsklädsel är obligatorisk. Båge eller bur i öppna bilar.\nFörsäkring: Alla förare och passagerare måste ha licens\, dvs personförsäkring hos SMA. Denna kan skaffas på SMA:s sida för förarlicenser. Som vanligt gäller inte bilens försäkring vid körning på bana. Du kör på egen risk.\nSkador: SVKG förbehåller sig rätten att fakturera kostnader för skador på 2:e man (banans inventarier) till deltagare.\nPassagerare: Tillåtet i alla pass. Passageraren måste också ha SMA-licens.\nMat: Restaurang med dagens rätt och cafeteria är öppen hela dagen.\nFrågor: kan ställas till Anders Johansson på tel 0705-341100 eller epost anders.johansson@svkg.se.\n\nVälkomna!
URL:https://svkg.se/evenemang/banmote-ring-knutstorp-20200817/
LOCATION:Ring Knutstorp\, Ring Knutstorp\, Kågeröd\, 268 05\, Sverige
ORGANIZER;CN="Racingkommitt%C3%A9n":MAILTO:racing@svkg.se
GEO:55.9885514;13.1122197
X-APPLE-STRUCTURED-LOCATION;VALUE=URI;X-ADDRESS=Ring Knutstorp Ring Knutstorp Kågeröd 268 05 Sverige;X-APPLE-RADIUS=500;X-TITLE=Ring Knutstorp:geo:13.1122197,55.9885514
END:VEVENT
BEGIN:VEVENT
DTSTART;TZID=Europe/Stockholm:20190819T100000
DTEND;TZID=Europe/Stockholm:20190819T160000
DTSTAMP:20260422T143549
CREATED:20190301T200143Z
LAST-MODIFIED:20190427T115126Z
UID:7574-1566208800-1566230400@svkg.se
SUMMARY:Banmöte Ring Knutstorp
DESCRIPTION:SVKG inbjuder till medlemmarna till banmöte på Ring Knutstorp. \nBanan är 2070 meter lång\, 10-12 meter bred och är känd som en mycket kuperad och krävande bana med flera långsamma och några snabba kurvor. Den kallas ibland för The Nürburgring of Sweden och marknadsförs idag som Valley of Speed. \nPå den tidigare kortare banan körde på 60-talet förare som Frank Williams\, Reine Wisell och Ronnie Peterson som hade flera bataljer i dåtidens Formel 3-lopp. Mellan 1976 och 1984 kördes F3-mästerskapet här årligen\, med vinnare som Alain Prost och Conny Andersson. \nPraktiska detaljer\n\nTider\n\n10.00 Inskrivning och besiktning startar\n11.15 Obligatoriskt förarmöte\n12.00 – 16.00 Körning i grupper\n\n\nKörpass: Vi delar in oss i 3 grupper – lugna för nybörjare\, lagom för rutinerade förare och race för erfarna förare.\nAnmälan: Görs nedan genom biljettköp.\nBesiktning: Före körning måste din bil vara besiktigad. Detta gör du genom egenbesiktning på plats enligt vårt egenbesiktningsformulär (ladda ner\, skriv ut och ta med).\nMiljökrav: Läs vår miljöpolicy.\nLjudkrav: Högsta tillåtna ljudnivå är 95 dB(A) vid förbipassering. Banägaren mäter kontinuerligt.\nSäkerhetsutrustning: Hjälm\, handskar och heltäckande bomullsklädsel är obligatorisk. Båge eller bur i öppna bilar.\nFörsäkring: Alla förare och passagerare måste ha licens\, dvs personförsäkring hos SMA. Denna kan skaffas på SMA:s sida för förarlicenser. Som vanligt gäller inte bilens försäkring vid körning på bana. Du kör på egen risk.\nSkador: SVKG förbehåller sig rätten att fakturera kostnader för skador på 2:e man (banans inventarier) till deltagare.\nPassagerare: Tillåtet i alla pass. Passageraren måste också ha SMA-licens.\nMat: Restaurang med dagens rätt och cafeteria är öppen hela dagen.\nFrågor: kan ställas till Anders Johansson på tel 0705-341100 eller epost anders.johansson@svkg.se.\n\nVälkomna!
URL:https://svkg.se/evenemang/banmote-ring-knutstorp-20190819/
LOCATION:Ring Knutstorp\, Ring Knutstorp\, Kågeröd\, 268 05\, Sverige
ORGANIZER;CN="Racingkommitt%C3%A9n":MAILTO:racing@svkg.se
GEO:55.9885514;13.1122197
X-APPLE-STRUCTURED-LOCATION;VALUE=URI;X-ADDRESS=Ring Knutstorp Ring Knutstorp Kågeröd 268 05 Sverige;X-APPLE-RADIUS=500;X-TITLE=Ring Knutstorp:geo:13.1122197,55.9885514
END:VEVENT
BEGIN:VEVENT
DTSTART;TZID=Europe/Stockholm:20180820T100000
DTEND;TZID=Europe/Stockholm:20180820T160000
DTSTAMP:20260422T143549
CREATED:20170827T151124Z
LAST-MODIFIED:20180813T110416Z
UID:2549-1534759200-1534780800@svkg.se
SUMMARY:Banmöte Ring Knutstorp
DESCRIPTION:SVKG inbjuder till medlemmarna till banmöte på Ring Knutstorp. \nBanan är 2070 meter lång\, 10-12 meter bred och är känd som en mycket kuperad och krävande bana med flera långsamma och några snabba kurvor. Den kallas ibland för The Nürburgring of Sweden och marknadsförs idag som Valley of Speed. \nPå den tidigare kortare banan körde på 60-talet förare som Frank Williams\, Reine Wisell och Ronnie Peterson som hade flera bataljer i dåtidens Formel 3-lopp. Mellan 1976 och 1984 kördes F3-mästerskapet här årligen\, med vinnare som Alain Prost och Conny Andersson. \nViktig information för anmälda till Anderstorp\nDetta banmöte ersätter det inställda banmötet på Anderstorp\, pga av de i slutet av juni infört nya hårdare miljökrav för ljud\, som vi inte kan acceptera. Vi har med kort varsel bokat detta banmöte på Ring Knutstorp som vi alltså då kör samma dag. \nExisterande anmälningar till Anderstorp har flyttats över och gäller för Knutstorp. Accepterar du detta som redan anmäld behöver du inte göra någonting. \nDe anmälda som vill avboka sig pga detta har möjlighet att göra det fram till och med 31:a juli och får då tillbaka betald anmälningsavgift. Därefter öppnar vi anmälan för andra medlemmar om det finns platser tillgängliga. \nPraktiska detaljer\n\nTider\n\n10.00 Inskrivning och besiktning startar\n11.15 Obligatoriskt förarmöte\n12.00 – 16.00 Körning i grupper\n\n\nKörpass: Vi delar in oss i 3 grupper – lugna för nybörjare\, lagom för rutinerade förare och race för erfarna förare.\nAnmälan: Existerande anmälningar till Anderstorp 20/8 är föranmälda till detta banmöte\, och avanmälan för dessa kan göras t.o.m. 31:a juli genom att skicka ett meddelande till racing@svkg.se. 1:a augusti öppnar anmälan för andra medlemmar om det finns platser tillgängliga.\nBesiktning: Alla bilar måste besiktigas före körning.\nMiljökrav: Läs vår miljöpolicy.\nLjudkrav: Högsta tillåtna ljudnivå är 95 dB(A) vid förbipassering. Banägaren mäter kontinuerligt.\nSäkerhetsutrustning: Hjälm\, handskar och heltäckande bomullsklädsel är obligatorisk. Båge eller bur i öppna bilar.\nFörsäkring: Alla förare och passagerare måste ha licens\, dvs personförsäkring hos SMA. Denna kan skaffas på SMA:s sida för förarlicenser. Som vanligt gäller inte bilens försäkring vid körning på bana. Du kör på egen risk.\nSkador: SVKG förbehåller sig rätten att fakturera kostnader för skador på 2:e man (banans inventarier) till deltagare.\nPassagerare: Tillåtet i alla pass. Passageraren måste också ha SMA-licens.\nMat: Restaurang med dagens rätt och cafeteria är öppen hela dagen.\nFrågor: kan ställas till Anders Johansson på tel 0705-341100 eller epost anders.johansson@svkg.se.\n\nVälkomna!
URL:https://svkg.se/evenemang/banmote-ring-knutstorp-20180820/
LOCATION:Ring Knutstorp\, Ring Knutstorp\, Kågeröd\, 268 05\, Sverige
ORGANIZER;CN="Racingkommitt%C3%A9n":MAILTO:racing@svkg.se
GEO:55.9885514;13.1122197
X-APPLE-STRUCTURED-LOCATION;VALUE=URI;X-ADDRESS=Ring Knutstorp Ring Knutstorp Kågeröd 268 05 Sverige;X-APPLE-RADIUS=500;X-TITLE=Ring Knutstorp:geo:13.1122197,55.9885514
END:VEVENT
BEGIN:VEVENT
DTSTART;TZID=Europe/Stockholm:20180528T100000
DTEND;TZID=Europe/Stockholm:20180528T160000
DTSTAMP:20260422T143549
CREATED:20171110T230945Z
LAST-MODIFIED:20180116T153736Z
UID:3130-1527501600-1527523200@svkg.se
SUMMARY:Banmöte Ring Knutstorp
DESCRIPTION:SVKG inbjuder alla medlemmar till vår första banträff på Ring Knutstorp. \nBanan är 2070 meter lång\, 10-12 meter bred och är känd som en mycket kuperad och krävande bana med flera långsamma och några snabba kurvor. Den kallas ibland för The Nürburgring of Sweden och marknadsförs idag som Valley of Speed. \nPå den tidigare kortare banan körde på 60-talet förare som Frank Williams\, Reine Wisell och Ronnie Peterson som hade flera bataljer i dåtidens Formel 3-lopp. Mellan 1976 och 1984 kördes F3-mästerskapet här årligen\, med vinnare som Alain Prost och Conny Andersson. \nPraktiska detaljer\n\nTider\n\n10.00 Inskrivning och besiktning startar\n11.15 Obligatoriskt förarmöte\n12.00 – 16.00 Körning i grupper\n\n\nKörpass: Vi delar in oss i 3 grupper – lugna för nybörjare\, lagom för rutinerade förare och race för erfarna förare.\nAnmälan: Görs nedan genom biljettköp.\nBesiktning: Alla bilar måste besiktigas före körning.\nMiljökrav: Läs vår miljöpolicy.\nLjudkrav: Högsta tillåtna ljudnivå är 95 dB(A) vid förbipassering. Banägaren mäter kontinuerligt.\nSäkerhetsutrustning: Hjälm\, handskar och heltäckande bomullsklädsel är obligatorisk. Båge eller bur i öppna bilar.\nFörsäkring: Alla förare och passagerare måste ha licens\, dvs personförsäkring hos SMA. Denna kan skaffas på SMA:s sida för förarlicenser. Som vanligt gäller inte bilens försäkring vid körning på bana. Du kör på egen risk.\nSkador: SVKG förbehåller sig rätten att fakturera kostnader för skador på 2:e man (banans inventarier) till deltagare.\nPassagerare: Tillåtet i alla pass. Passageraren måste också ha SMA-licens.\nMat: Restaurang med dagens rätt och cafeteria är öppen hela dagen.\nFrågor: kan ställas till Per Oleskog på tel 0707-661889 eller epost per.oleskog@svkg.se.\n\nVälkomna!
URL:https://svkg.se/evenemang/banmote-ring-knutstorp-20180528/
LOCATION:Ring Knutstorp\, Ring Knutstorp\, Kågeröd\, 268 05\, Sverige
ORGANIZER;CN="Racingkommitt%C3%A9n":MAILTO:racing@svkg.se
GEO:55.9885514;13.1122197
X-APPLE-STRUCTURED-LOCATION;VALUE=URI;X-ADDRESS=Ring Knutstorp Ring Knutstorp Kågeröd 268 05 Sverige;X-APPLE-RADIUS=500;X-TITLE=Ring Knutstorp:geo:13.1122197,55.9885514
END:VEVENT
END:VCALENDAR