BEGIN:VCALENDAR
VERSION:2.0
PRODID:-//Sportvagnsklubben Göteborg - ECPv6.15.11//NONSGML v1.0//EN
CALSCALE:GREGORIAN
METHOD:PUBLISH
X-ORIGINAL-URL:https://svkg.se
X-WR-CALDESC:Evenemang för Sportvagnsklubben Göteborg
REFRESH-INTERVAL;VALUE=DURATION:PT1H
X-Robots-Tag:noindex
X-PUBLISHED-TTL:PT1H
BEGIN:VTIMEZONE
TZID:Europe/Stockholm
BEGIN:DAYLIGHT
TZOFFSETFROM:+0100
TZOFFSETTO:+0200
TZNAME:CEST
DTSTART:20170326T010000
END:DAYLIGHT
BEGIN:STANDARD
TZOFFSETFROM:+0200
TZOFFSETTO:+0100
TZNAME:CET
DTSTART:20171029T010000
END:STANDARD
BEGIN:DAYLIGHT
TZOFFSETFROM:+0100
TZOFFSETTO:+0200
TZNAME:CEST
DTSTART:20180325T010000
END:DAYLIGHT
BEGIN:STANDARD
TZOFFSETFROM:+0200
TZOFFSETTO:+0100
TZNAME:CET
DTSTART:20181028T010000
END:STANDARD
BEGIN:DAYLIGHT
TZOFFSETFROM:+0100
TZOFFSETTO:+0200
TZNAME:CEST
DTSTART:20190331T010000
END:DAYLIGHT
BEGIN:STANDARD
TZOFFSETFROM:+0200
TZOFFSETTO:+0100
TZNAME:CET
DTSTART:20191027T010000
END:STANDARD
BEGIN:DAYLIGHT
TZOFFSETFROM:+0100
TZOFFSETTO:+0200
TZNAME:CEST
DTSTART:20200329T010000
END:DAYLIGHT
BEGIN:STANDARD
TZOFFSETFROM:+0200
TZOFFSETTO:+0100
TZNAME:CET
DTSTART:20201025T010000
END:STANDARD
END:VTIMEZONE
BEGIN:VTIMEZONE
TZID:Europe/Paris
BEGIN:DAYLIGHT
TZOFFSETFROM:+0100
TZOFFSETTO:+0200
TZNAME:CEST
DTSTART:20160327T010000
END:DAYLIGHT
BEGIN:STANDARD
TZOFFSETFROM:+0200
TZOFFSETTO:+0100
TZNAME:CET
DTSTART:20161030T010000
END:STANDARD
BEGIN:DAYLIGHT
TZOFFSETFROM:+0100
TZOFFSETTO:+0200
TZNAME:CEST
DTSTART:20170326T010000
END:DAYLIGHT
BEGIN:STANDARD
TZOFFSETFROM:+0200
TZOFFSETTO:+0100
TZNAME:CET
DTSTART:20171029T010000
END:STANDARD
BEGIN:DAYLIGHT
TZOFFSETFROM:+0100
TZOFFSETTO:+0200
TZNAME:CEST
DTSTART:20180325T010000
END:DAYLIGHT
BEGIN:STANDARD
TZOFFSETFROM:+0200
TZOFFSETTO:+0100
TZNAME:CET
DTSTART:20181028T010000
END:STANDARD
END:VTIMEZONE
BEGIN:VEVENT
DTSTART;TZID=Europe/Stockholm:20190515T100000
DTEND;TZID=Europe/Stockholm:20190515T160000
DTSTAMP:20260422T005331
CREATED:20190226T214757Z
LAST-MODIFIED:20190511T113653Z
UID:7526-1557914400-1557936000@svkg.se
SUMMARY:Banmöte Rudskogen
DESCRIPTION:SVKG bjuder in till bankörning på fantastiska Rudskogen i Norge. C:a 22 mil från Göteborg ligger nordens coolaste bana med långa raksträckor\, otroliga backar och vänligt bemötande. \nVi tillåter både registrerade och oregistrerade bilar vid detta tillfälle. Dock gäller kravet täckta hjul för oregistrerade bilar. \n \nPraktiska detaljer\n\nTider\n\n10.00 Inskrivning och besiktning startar\n11.15 Obligatoriskt förarmöte\n12.00 – 16.00 Körning i grupper\n\n\nAnmälan: Görs genom biljettköp nedan. Anmälan är tillgänglig även för icke-medlemmar.\nGrupper: Denna gång kör grupperna lugna och lagom tillsammans\, för att ge utrymme för den separata gruppen för oregistrerade bilar.\nBesiktning: Före körning måste din bil vara besiktigad. Detta gör du genom egenbesiktning på plats enligt vårt egenbesiktningsformulär (ladda ner\, skriv ut och ta med).\nMiljökrav: Läs vår miljöpolicy.\nLjudkrav: Vid besiktning måste alla bilar klara bullerkravet 100 dB vid 4.500 varv mätt 45° från avgasröret 20 cm från marken. Inga undantag.\nSäkerhetsutrustning: Hjälm\, handskar och heltäckande bomullsklädsel är obligatorisk. Båge eller bur i öppna bilar.\nFörsäkring: Alla förare och passagerare måste ha licens\, dvs personförsäkring hos SMA. Denna kan skaffas på SMA:s sida för förarlicenser. Som vanligt gäller inte bilens försäkring vid körning på bana. Du kör på egen risk.\nSkador: SVKG förbehåller sig rätten att fakturera kostnader för skador på 2:e man (banans inventarier) till deltagare.\nPassagerare: Tillåtet i alla pass. Passageraren måste också ha SMA-licens.\nÖvrigt: Box finns att hyra (100 m²\, 750 NOK)\, fyra bilar får plats.\nFrågor: Kontakta Tommy Falck på tel 0703-14 00 22 eller epost tommy.falck@svkg.se.\n\nGlöm inte kaffe och mackor och ta med paraply så får vi fint väder. \nVälkommen!
URL:https://svkg.se/evenemang/banmote-rudskogen-20190515/
LOCATION:Rudskogen Motorsenter\, Motorsportveien 180\, Rakkestad\, 1890\, Norge
ORGANIZER;CN="Racingkommitt%C3%A9n":MAILTO:racing@svkg.se
GEO:59.3679798;11.2620216
X-APPLE-STRUCTURED-LOCATION;VALUE=URI;X-ADDRESS=Rudskogen Motorsenter Motorsportveien 180 Rakkestad 1890 Norge;X-APPLE-RADIUS=500;X-TITLE=Motorsportveien 180:geo:11.2620216,59.3679798
END:VEVENT
BEGIN:VEVENT
DTSTART;TZID=Europe/Stockholm:20180409T100000
DTEND;TZID=Europe/Stockholm:20180409T160000
DTSTAMP:20260422T005331
CREATED:20171110T210931Z
LAST-MODIFIED:20180408T220937Z
UID:3113-1523268000-1523289600@svkg.se
SUMMARY:Banmöte Rudskogen
DESCRIPTION:SVKG bjuder in till bankörning på fantastiska Rudskogen i Norge. C:a 22 mil från Göteborg ligger nordens coolaste bana med långa raksträckor\, otroliga backar och vänligt bemötande. \nVi kör endast gatregistrerade och kontrollbesiktigade bilar vid detta tillfälle\, alla bilar skall alltså vara påställda och trafikförsäkrade. \nPraktiska detaljer\n\nTider\n\n10.00 Inskrivning och besiktning startar\n11.15 Obligatoriskt förarmöte\n12.00 – 16.00 Körning i grupper\n\n\nAnmälan: Görs genom biljettköp nedan.\nBesiktning: Före körning måste din bil vara besiktigad.\nMiljökrav: Läs vår miljöpolicy.\nLjudkrav: Vid besiktning måste alla bilar klara bullerkravet 100 dB vid 4.500 varv mätt 45° från avgasröret 20 cm från marken. Inga undantag.\nSäkerhetsutrustning: Hjälm\, handskar och heltäckande bomullsklädsel är obligatorisk. Båge eller bur i öppna bilar.\nFörsäkring: Alla förare och passagerare måste ha licens\, dvs personförsäkring hos SMA. Denna kan skaffas på SMA:s sida för förarlicenser. Som vanligt gäller inte bilens försäkring vid körning på bana. Du kör på egen risk.\nSkador: SVKG förbehåller sig rätten att fakturera kostnader för skador på 2:e man (banans inventarier) till deltagare.\nPassagerare: Tillåtet i alla pass. Passageraren måste också ha SMA-licens.\nÖvrigt: Box finns att hyra (100 m²\, 750 NOK)\, fyra bilar får plats.\nFrågor: Kontakta Tommy Falck på tel 0703-14 00 22 eller epost tommy.falck@svkg.se.\n\nGlöm inte kaffe och mackor och ta med paraply så får vi fint väder. \nVälkommen!
URL:https://svkg.se/evenemang/banmote-rudskogen-20180409/
LOCATION:Rudskogen Motorsenter\, Motorsportveien 180\, Rakkestad\, 1890\, Norge
ORGANIZER;CN="Racingkommitt%C3%A9n":MAILTO:racing@svkg.se
GEO:59.3679798;11.2620216
X-APPLE-STRUCTURED-LOCATION;VALUE=URI;X-ADDRESS=Rudskogen Motorsenter Motorsportveien 180 Rakkestad 1890 Norge;X-APPLE-RADIUS=500;X-TITLE=Motorsportveien 180:geo:11.2620216,59.3679798
END:VEVENT
BEGIN:VEVENT
DTSTART;TZID=Europe/Paris:20170508T090000
DTEND;TZID=Europe/Paris:20170508T150000
DTSTAMP:20260422T005331
CREATED:20170203T154410Z
LAST-MODIFIED:20170704T211149Z
UID:313-1494234000-1494255600@svkg.se
SUMMARY:Banmöte Rudskogen
DESCRIPTION:SVKG bjuder in till bankörning på fantastiska Rudskogen i Norge. C:a 22 mil från Göteborg ligger nordens coolaste bana med långa raksträckor\, otroliga backar och vänligt bemötande. \nVi kör endast gatregistrerade och besiktigade bilar vid detta tillfälle\, alla bilar skall alltså vara påställda och trafikförsäkrade. \nPraktiska detaljer\n\nTider\n\n09.00 Inskrivning och besiktning startar\n10.15 Obligatoriskt förarmöte\n11.00 – 15.00 Körning i grupper\n\n\nAnmälan: Öppnar 2017-03-17 kl 19:00 och görs numera genom biljettköp nedan. OBS: tidigare anmälningar på den gamla hemsidan som inte är betalda (se nedan) är ogiltiga. Biljettköp nedan måste numera göras för att få plats.\nBesiktning: Före körning måste din bil vara besiktigad.\nMiljökrav: Läs vår miljöpolicy.\nLjudkrav: Vid besiktning måste alla bilar klara bullerkravet 100 dB vid 4.500 varv mätt 45° från avgasröret 20 cm från marken. Inga undantag.\nSäkerhetsutrustning: Hjälm\, handskar och heltäckande bomullsklädsel är obligatorisk. Båge eller bur i öppna bilar.\nFörsäkring: Alla förare och passagerare måste ha licens\, dvs personförsäkring hos SMA. Denna kan skaffas på SMA:s sida för förarlicenser. Som vanligt gäller inte bilens försäkring vid körning på bana. Du kör på egen risk.\nSkador: SVKG förbehåller sig rätten att fakturera kostnader för skador på 2:e man (banans inventarier) till deltagare.\nPassagerare: Tillåtet i alla pass. Passageraren måste också ha SMA-licens.\nÖvrigt: Box finns att hyra (100 m²\, 750 NOK)\, fyra bilar får plats.\nFrågor: Kontakta Tommy Falck på tel 0703-14 00 22 eller epost tommy.falck@svkg.se.\n\nGlöm inte kaffe och mackor och ta med paraply så får vi fint väder. \nVälkommen!
URL:https://svkg.se/evenemang/banmote-rudskogen/
LOCATION:Rudskogen Motorsenter\, Motorsportveien 180\, Rakkestad\, 1890\, Norge
ORGANIZER;CN="Racingkommitt%C3%A9n":MAILTO:racing@svkg.se
GEO:59.3679798;11.2620216
X-APPLE-STRUCTURED-LOCATION;VALUE=URI;X-ADDRESS=Rudskogen Motorsenter Motorsportveien 180 Rakkestad 1890 Norge;X-APPLE-RADIUS=500;X-TITLE=Motorsportveien 180:geo:11.2620216,59.3679798
END:VEVENT
END:VCALENDAR